| Back to Multiple platform build/check report for BioC 3.7 |
|
This page was generated on 2018-10-17 08:41:11 -0400 (Wed, 17 Oct 2018).
| Package 854/1561 | Hostname | OS / Arch | INSTALL | BUILD | CHECK | BUILD BIN | ||||||
| MEAL 1.10.1 Carlos Ruiz-Arenas
| malbec2 | Linux (Ubuntu 16.04.1 LTS) / x86_64 | OK | OK | WARNINGS | |||||||
| tokay2 | Windows Server 2012 R2 Standard / x64 | [ OK ] | OK | WARNINGS | OK | |||||||
| merida2 | OS X 10.11.6 El Capitan / x86_64 | OK | TIMEOUT | skipped | skipped |
| Package: MEAL |
| Version: 1.10.1 |
| Command: C:\cygwin\bin\curl.exe -O https://malbec2.bioconductor.org/BBS/3.7/bioc/src/contrib/MEAL_1.10.1.tar.gz && rm -rf MEAL.buildbin-libdir && mkdir MEAL.buildbin-libdir && C:\Users\biocbuild\bbs-3.7-bioc\R\bin\R.exe CMD INSTALL --merge-multiarch --build --library=MEAL.buildbin-libdir MEAL_1.10.1.tar.gz && C:\Users\biocbuild\bbs-3.7-bioc\R\bin\R.exe CMD INSTALL MEAL_1.10.1.zip && rm MEAL_1.10.1.tar.gz MEAL_1.10.1.zip |
| StartedAt: 2018-10-16 20:37:07 -0400 (Tue, 16 Oct 2018) |
| EndedAt: 2018-10-16 20:38:43 -0400 (Tue, 16 Oct 2018) |
| EllapsedTime: 96.3 seconds |
| RetCode: 0 |
| Status: OK |
##############################################################################
##############################################################################
###
### Running command:
###
### C:\cygwin\bin\curl.exe -O https://malbec2.bioconductor.org/BBS/3.7/bioc/src/contrib/MEAL_1.10.1.tar.gz && rm -rf MEAL.buildbin-libdir && mkdir MEAL.buildbin-libdir && C:\Users\biocbuild\bbs-3.7-bioc\R\bin\R.exe CMD INSTALL --merge-multiarch --build --library=MEAL.buildbin-libdir MEAL_1.10.1.tar.gz && C:\Users\biocbuild\bbs-3.7-bioc\R\bin\R.exe CMD INSTALL MEAL_1.10.1.zip && rm MEAL_1.10.1.tar.gz MEAL_1.10.1.zip
###
##############################################################################
##############################################################################
% Total % Received % Xferd Average Speed Time Time Time Current
Dload Upload Total Spent Left Speed
0 0 0 0 0 0 0 0 --:--:-- --:--:-- --:--:-- 0
100 59712 100 59712 0 0 995k 0 --:--:-- --:--:-- --:--:-- 1121k
install for i386
* installing *source* package 'MEAL' ...
** R
** byte-compile and prepare package for lazy loading
** help
*** installing help indices
converting help for package 'MEAL'
finding HTML links ... done
DARegionAnalysis html
MEAL-defunct html
MEAL html
analysisRegionResults html
analysisResults html
calculateRelevantSNPs html
computeRDAR2 html
correlationMethExprs html
correlationMethSNPs html
createRanges html
explainedVariance html
exportResults html
filterResults html
getGeneVals html
getProbeResults html
getRDAresults html
normalSNP html
plotFeature html
plotLM html
plotRDA html
plotRegion html
prepareMethylationSet html
runBlockFinder html
runBumphunter html
runDMRcate html
runDiffMeanAnalysis html
runDiffVarAnalysis html
runPipeline html
runRDA html
Rd warning: C:/Users/biocbuild/bbs-3.7-bioc/tmpdir/RtmpoBEuyL/R.INSTALL25105c5171f7/MEAL/man/runRDA.Rd:45: file link 'rda' in package 'vegan' does not exist and so has been treated as a topic
runRegionAnalysis html
topRDAhits html
** building package indices
** installing vignettes
** testing if installed package can be loaded
In R CMD INSTALL
install for x64
* installing *source* package 'MEAL' ...
** testing if installed package can be loaded
* MD5 sums
packaged installation of 'MEAL' as MEAL_1.10.1.zip
* DONE (MEAL)
In R CMD INSTALL
In R CMD INSTALL
* installing to library 'C:/Users/biocbuild/bbs-3.7-bioc/R/library'
package 'MEAL' successfully unpacked and MD5 sums checked
In R CMD INSTALL