| Back to Multiple platform build/check report for BioC 3.7 |
|
This page was generated on 2018-10-17 08:39:07 -0400 (Wed, 17 Oct 2018).
| Package 842/1561 | Hostname | OS / Arch | INSTALL | BUILD | CHECK | BUILD BIN | ||||||
| MBASED 1.14.0 Oleg Mayba
| malbec2 | Linux (Ubuntu 16.04.1 LTS) / x86_64 | OK | OK | OK | |||||||
| tokay2 | Windows Server 2012 R2 Standard / x64 | OK | OK | OK | [ OK ] | |||||||
| merida2 | OS X 10.11.6 El Capitan / x86_64 | OK | OK | OK | OK |
| Package: MBASED |
| Version: 1.14.0 |
| Command: rm -rf MBASED.buildbin-libdir && mkdir MBASED.buildbin-libdir && C:\Users\biocbuild\bbs-3.7-bioc\R\bin\R.exe CMD INSTALL --merge-multiarch --build --library=MBASED.buildbin-libdir MBASED_1.14.0.tar.gz |
| StartedAt: 2018-10-17 06:38:44 -0400 (Wed, 17 Oct 2018) |
| EndedAt: 2018-10-17 06:39:16 -0400 (Wed, 17 Oct 2018) |
| EllapsedTime: 32.3 seconds |
| RetCode: 0 |
| Status: OK |
| PackageFile: MBASED_1.14.0.zip |
| PackageFileSize: 512 KiB |
##############################################################################
##############################################################################
###
### Running command:
###
### rm -rf MBASED.buildbin-libdir && mkdir MBASED.buildbin-libdir && C:\Users\biocbuild\bbs-3.7-bioc\R\bin\R.exe CMD INSTALL --merge-multiarch --build --library=MBASED.buildbin-libdir MBASED_1.14.0.tar.gz
###
##############################################################################
##############################################################################
install for i386
* installing *source* package 'MBASED' ...
** R
** inst
** byte-compile and prepare package for lazy loading
** help
*** installing help indices
converting help for package 'MBASED'
finding HTML links ... done
FreemanTukeyFunctions html
MBASED html
MBASEDMetaAnalysis html
MBASEDMetaAnalysisGetMeansAndSEs html
MBASEDVectorizedMetaprop html
MBASEDVectorizedPropDiffTest html
betaParametrizationConverters html
estimateMAF1s html
estimateMAF2s html
generatingBetaBinomialCounts html
getPFinal html
getSimulationPvalue html
logLikelihoodCalculator1s html
logLikelihoodCalculator2s html
maxLogLikelihoodCalculator1s html
maxLogLikelihoodCalculator2s html
runMBASED html
runMBASED1s html
runMBASED1s1aseID html
runMBASED2s html
runMBASED2s1aseID html
shiftAndAttenuateProportions html
testNumericDiff html
testQuantiles html
** building package indices
** installing vignettes
** testing if installed package can be loaded
In R CMD INSTALL
install for x64
* installing *source* package 'MBASED' ...
** testing if installed package can be loaded
* MD5 sums
packaged installation of 'MBASED' as MBASED_1.14.0.zip
* DONE (MBASED)
In R CMD INSTALL
In R CMD INSTALL