| Back to Multiple platform build/check report for BioC 3.7 |
|
This page was generated on 2018-10-17 08:29:31 -0400 (Wed, 17 Oct 2018).
| Package 836/1561 | Hostname | OS / Arch | INSTALL | BUILD | CHECK | BUILD BIN | ||||||
| MAST 1.6.1 Andrew McDavid
| malbec2 | Linux (Ubuntu 16.04.1 LTS) / x86_64 | OK | OK | [ OK ] | |||||||
| tokay2 | Windows Server 2012 R2 Standard / x64 | OK | OK | OK | OK | |||||||
| merida2 | OS X 10.11.6 El Capitan / x86_64 | OK | OK | OK | OK |
| Package: MAST |
| Version: 1.6.1 |
| Command: /home/biocbuild/bbs-3.7-bioc/R/bin/R CMD check --install=check:MAST.install-out.txt --library=/home/biocbuild/bbs-3.7-bioc/R/library --no-vignettes --timings MAST_1.6.1.tar.gz |
| StartedAt: 2018-10-16 01:42:06 -0400 (Tue, 16 Oct 2018) |
| EndedAt: 2018-10-16 01:45:11 -0400 (Tue, 16 Oct 2018) |
| EllapsedTime: 185.1 seconds |
| RetCode: 0 |
| Status: OK |
| CheckDir: MAST.Rcheck |
| Warnings: 0 |
##############################################################################
##############################################################################
###
### Running command:
###
### /home/biocbuild/bbs-3.7-bioc/R/bin/R CMD check --install=check:MAST.install-out.txt --library=/home/biocbuild/bbs-3.7-bioc/R/library --no-vignettes --timings MAST_1.6.1.tar.gz
###
##############################################################################
##############################################################################
* using log directory ‘/home/biocbuild/bbs-3.7-bioc/meat/MAST.Rcheck’
* using R version 3.5.1 Patched (2018-07-12 r74967)
* using platform: x86_64-pc-linux-gnu (64-bit)
* using session charset: UTF-8
* using option ‘--no-vignettes’
* checking for file ‘MAST/DESCRIPTION’ ... OK
* checking extension type ... Package
* this is package ‘MAST’ version ‘1.6.1’
* checking package namespace information ... OK
* checking package dependencies ... OK
* checking if this is a source package ... OK
* checking if there is a namespace ... OK
* checking for hidden files and directories ... NOTE
Found the following hidden files and directories:
.travis.yml
These were most likely included in error. See section ‘Package
structure’ in the ‘Writing R Extensions’ manual.
* checking for portable file names ... OK
* checking for sufficient/correct file permissions ... OK
* checking whether package ‘MAST’ can be installed ... OK
* checking installed package size ... NOTE
installed size is 5.1Mb
sub-directories of 1Mb or more:
R 1.0Mb
data 3.7Mb
* checking package directory ... OK
* checking ‘build’ directory ... OK
* checking DESCRIPTION meta-information ... OK
* checking top-level files ... OK
* checking for left-over files ... OK
* checking index information ... OK
* checking package subdirectories ... OK
* checking R files for non-ASCII characters ... OK
* checking R files for syntax errors ... OK
* checking whether the package can be loaded ... OK
* checking whether the package can be loaded with stated dependencies ... OK
* checking whether the package can be unloaded cleanly ... OK
* checking whether the namespace can be loaded with stated dependencies ... OK
* checking whether the namespace can be unloaded cleanly ... OK
* checking dependencies in R code ... OK
* checking S3 generic/method consistency ... OK
* checking replacement functions ... OK
* checking foreign function calls ... OK
* checking R code for possible problems ... NOTE
assay_idx: no visible global function definition for ‘assayNames’
collectResiduals: no visible global function definition for
‘assayNames’
collectResiduals: no visible global function definition for ‘assay<-’
collectResiduals: no visible global function definition for
‘assayNames<-’
primerAverage: no visible global function definition for ‘assay<-’
primerAverage: no visible global function definition for ‘rowData<-’
assay<-,SingleCellAssay-missing: no visible global function definition
for ‘assay<-’
assayNames<-,SingleCellAssay-character: no visible global function
definition for ‘assayNames’
assayNames<-,SingleCellAssay-character: no visible global function
definition for ‘assays<-’
exprs<-,SingleCellAssay-ANY: no visible global function definition for
‘assay<-’
Undefined global functions or variables:
assay<- assayNames assayNames<- assays<- rowData<-
* checking Rd files ... OK
* checking Rd metadata ... OK
* checking Rd cross-references ... OK
* checking for missing documentation entries ... OK
* checking for code/documentation mismatches ... OK
* checking Rd \usage sections ... OK
* checking Rd contents ... OK
* checking for unstated dependencies in examples ... OK
* checking contents of ‘data’ directory ... OK
* checking data for non-ASCII characters ... OK
* checking data for ASCII and uncompressed saves ... OK
* checking files in ‘vignettes’ ... OK
* checking examples ... OK
* checking for unstated dependencies in ‘tests’ ... OK
* checking tests ...
Running ‘testthat.R’
OK
* checking for unstated dependencies in vignettes ... OK
* checking package vignettes in ‘inst/doc’ ... OK
* checking running R code from vignettes ... SKIPPED
* checking re-building of vignette outputs ... SKIPPED
* checking PDF version of manual ... OK
* DONE
Status: 3 NOTEs
See
‘/home/biocbuild/bbs-3.7-bioc/meat/MAST.Rcheck/00check.log’
for details.
MAST.Rcheck/00install.out
############################################################################## ############################################################################## ### ### Running command: ### ### /home/biocbuild/bbs-3.7-bioc/R/bin/R CMD INSTALL MAST ### ############################################################################## ############################################################################## * installing to library ‘/home/biocbuild/bbs-3.7-bioc/R/library’ * installing *source* package ‘MAST’ ... ** R ** data *** moving datasets to lazyload DB ** inst ** byte-compile and prepare package for lazy loading ** help *** installing help indices ** building package indices ** installing vignettes ** testing if installed package can be loaded * DONE (MAST)
MAST.Rcheck/tests/testthat.Rout
R version 3.5.1 Patched (2018-07-12 r74967) -- "Feather Spray"
Copyright (C) 2018 The R Foundation for Statistical Computing
Platform: x86_64-pc-linux-gnu (64-bit)
R is free software and comes with ABSOLUTELY NO WARRANTY.
You are welcome to redistribute it under certain conditions.
Type 'license()' or 'licence()' for distribution details.
R is a collaborative project with many contributors.
Type 'contributors()' for more information and
'citation()' on how to cite R or R packages in publications.
Type 'demo()' for some demos, 'help()' for on-line help, or
'help.start()' for an HTML browser interface to help.
Type 'q()' to quit R.
> library(testthat)
> test_check("MAST")
Loading required package: MAST
Loading required package: SingleCellExperiment
Loading required package: SummarizedExperiment
Loading required package: GenomicRanges
Loading required package: stats4
Loading required package: BiocGenerics
Loading required package: parallel
Attaching package: 'BiocGenerics'
The following objects are masked from 'package:parallel':
clusterApply, clusterApplyLB, clusterCall, clusterEvalQ,
clusterExport, clusterMap, parApply, parCapply, parLapply,
parLapplyLB, parRapply, parSapply, parSapplyLB
The following objects are masked from 'package:stats':
IQR, mad, sd, var, xtabs
The following objects are masked from 'package:base':
Filter, Find, Map, Position, Reduce, anyDuplicated, append,
as.data.frame, basename, cbind, colMeans, colSums, colnames,
dirname, do.call, duplicated, eval, evalq, get, grep, grepl,
intersect, is.unsorted, lapply, lengths, mapply, match, mget,
order, paste, pmax, pmax.int, pmin, pmin.int, rank, rbind,
rowMeans, rowSums, rownames, sapply, setdiff, sort, table, tapply,
union, unique, unsplit, which, which.max, which.min
Loading required package: S4Vectors
Attaching package: 'S4Vectors'
The following object is masked from 'package:base':
expand.grid
Loading required package: IRanges
Loading required package: GenomeInfoDb
Loading required package: Biobase
Welcome to Bioconductor
Vignettes contain introductory material; view with
'browseVignettes()'. To cite Bioconductor, see
'citation("Biobase")', and for packages 'citation("pkgname")'.
Loading required package: DelayedArray
Loading required package: matrixStats
Attaching package: 'matrixStats'
The following objects are masked from 'package:Biobase':
anyMissing, rowMedians
Loading required package: BiocParallel
Attaching package: 'DelayedArray'
The following objects are masked from 'package:matrixStats':
colMaxs, colMins, colRanges, rowMaxs, rowMins, rowRanges
The following objects are masked from 'package:base':
aperm, apply
Attaching package: 'MAST'
The following object is masked from 'package:stats':
filter
Error : number of levels of each grouping factor must be < number of observations
(0.0426,0.354] (0.354,0.757] (0.757,1.28] (1.28,1.96] (1.96,2.84]
2.258200 2.258200 2.258200 2.258200 2.258200
(2.84,3.99] (3.99,13.2]
2.258200 3.313588
(0.0602,0.436] (0.436,0.67] (0.67,0.944] (0.944,1.26] (1.26,1.63]
1.967142 1.967142 1.967142 2.003488 2.003488
(1.63,2.06] (2.06,2.56] (2.56,3.83]
2.600202 2.600202 2.600202
(0.03,1.56] (1.56,5.36] (5.36,14.8] (14.8,9.25e+03]
238.2279 238.2279 238.2279 4525.1912
Error in (function (x, y, weights = rep(1, nobs), start = NULL, etastart = NULL, :
NAs in V(mu)
══ testthat results ═══════════════════════════════════════════════════════════
OK: 278 SKIPPED: 5 FAILED: 0
>
> proc.time()
user system elapsed
29.544 0.580 38.669
MAST.Rcheck/MAST-Ex.timings
| name | user | system | elapsed | |
| Drop | 0.000 | 0.000 | 0.001 | |
| FromFlatDF | 1.120 | 0.016 | 0.896 | |
| FromMatrix | 0.124 | 0.008 | 0.132 | |
| Hypothesis | 0.020 | 0.000 | 0.018 | |
| LRT | 0.132 | 0.004 | 0.136 | |
| ZlmFit-class | 0.624 | 0.004 | 0.628 | |
| applyFlat | 0.000 | 0.000 | 0.002 | |
| bootVcov1 | 0.308 | 0.000 | 0.308 | |
| cData | 0.024 | 0.000 | 0.023 | |
| calcZ | 0.796 | 0.008 | 0.759 | |
| collectResiduals | 1.372 | 0.004 | 1.297 | |
| computeEtFromCt | 0.040 | 0.004 | 0.045 | |
| convertMASTClassicToSingleCellAssay | 0.012 | 0.004 | 0.016 | |
| defaultAssay | 0.024 | 0.008 | 0.033 | |
| defaultPrior | 0 | 0 | 0 | |
| expavg | 0.000 | 0.000 | 0.001 | |
| filterLowExpressedGenes | 0.028 | 0.000 | 0.030 | |
| freq | 0.020 | 0.004 | 0.023 | |
| getConcordance | 0.108 | 0.000 | 0.110 | |
| getwellKey | 0.012 | 0.000 | 0.015 | |
| gseaAfterBoot | 0.784 | 0.000 | 0.751 | |
| hushWarning | 0.004 | 0.000 | 0.001 | |
| impute | 1.268 | 0.036 | 1.267 | |
| invlogit | 0.004 | 0.000 | 0.001 | |
| logFC | 0.156 | 0.004 | 0.157 | |
| logmean | 0.000 | 0.000 | 0.001 | |
| lrTest | 0.536 | 0.004 | 0.540 | |
| mast_filter | 0.968 | 0.000 | 0.969 | |
| melt.SingleCellAssay | 0.052 | 0.004 | 0.057 | |
| plot.thresholdSCRNACountMatrix | 0.380 | 0.016 | 0.398 | |
| plotSCAConcordance | 0.356 | 0.004 | 0.361 | |
| predict.ZlmFit | 1.176 | 0.004 | 1.153 | |
| se.coef | 0.488 | 0.016 | 0.504 | |
| split-SingleCellAssay-character-method | 0.06 | 0.00 | 0.06 | |
| stat_ell | 1.176 | 0.004 | 1.154 | |
| subset-SingleCellAssay-method | 0.028 | 0.000 | 0.022 | |
| summary-GSEATests-method | 0.820 | 0.000 | 0.771 | |
| summary-ZlmFit-method | 0.288 | 0.000 | 0.176 | |
| thresholdSCRNACountMatrix | 0.836 | 0.008 | 0.847 | |
| waldTest | 0.548 | 0.000 | 0.550 | |
| zlm | 0.236 | 0.000 | 0.238 | |