| Back to Multiple platform build/check report for BioC 3.7 |
|
This page was generated on 2018-10-17 08:42:24 -0400 (Wed, 17 Oct 2018).
| Package 817/1561 | Hostname | OS / Arch | INSTALL | BUILD | CHECK | BUILD BIN | ||||||
| MADSEQ 1.6.1 Yu Kong
| malbec2 | Linux (Ubuntu 16.04.1 LTS) / x86_64 | OK | OK | OK | |||||||
| tokay2 | Windows Server 2012 R2 Standard / x64 | OK | OK | [ OK ] | OK | |||||||
| merida2 | OS X 10.11.6 El Capitan / x86_64 | OK | OK | OK | OK |
| Package: MADSEQ |
| Version: 1.6.1 |
| Command: C:\Users\biocbuild\bbs-3.7-bioc\R\bin\R.exe CMD check --force-multiarch --install=check:MADSEQ.install-out.txt --library=C:\Users\biocbuild\bbs-3.7-bioc\R\library --no-vignettes --timings MADSEQ_1.6.1.tar.gz |
| StartedAt: 2018-10-17 03:01:41 -0400 (Wed, 17 Oct 2018) |
| EndedAt: 2018-10-17 03:08:27 -0400 (Wed, 17 Oct 2018) |
| EllapsedTime: 406.5 seconds |
| RetCode: 0 |
| Status: OK |
| CheckDir: MADSEQ.Rcheck |
| Warnings: 0 |
##############################################################################
##############################################################################
###
### Running command:
###
### C:\Users\biocbuild\bbs-3.7-bioc\R\bin\R.exe CMD check --force-multiarch --install=check:MADSEQ.install-out.txt --library=C:\Users\biocbuild\bbs-3.7-bioc\R\library --no-vignettes --timings MADSEQ_1.6.1.tar.gz
###
##############################################################################
##############################################################################
* using log directory 'C:/Users/biocbuild/bbs-3.7-bioc/meat/MADSEQ.Rcheck'
* using R version 3.5.1 Patched (2018-07-24 r75005)
* using platform: x86_64-w64-mingw32 (64-bit)
* using session charset: ISO8859-1
* using option '--no-vignettes'
* checking for file 'MADSEQ/DESCRIPTION' ... OK
* checking extension type ... Package
* this is package 'MADSEQ' version '1.6.1'
* checking package namespace information ... OK
* checking package dependencies ... OK
* checking if this is a source package ... OK
* checking if there is a namespace ... OK
* checking for hidden files and directories ... OK
* checking for portable file names ... OK
* checking whether package 'MADSEQ' can be installed ... OK
* checking installed package size ... OK
* checking package directory ... OK
* checking 'build' directory ... OK
* checking DESCRIPTION meta-information ... OK
* checking top-level files ... OK
* checking for left-over files ... OK
* checking index information ... OK
* checking package subdirectories ... OK
* checking R files for non-ASCII characters ... OK
* checking R files for syntax errors ... OK
* loading checks for arch 'i386'
** checking whether the package can be loaded ... OK
** checking whether the package can be loaded with stated dependencies ... OK
** checking whether the package can be unloaded cleanly ... OK
** checking whether the namespace can be loaded with stated dependencies ... OK
** checking whether the namespace can be unloaded cleanly ... OK
* loading checks for arch 'x64'
** checking whether the package can be loaded ... OK
** checking whether the package can be loaded with stated dependencies ... OK
** checking whether the package can be unloaded cleanly ... OK
** checking whether the namespace can be loaded with stated dependencies ... OK
** checking whether the namespace can be unloaded cleanly ... OK
* checking dependencies in R code ... OK
* checking S3 generic/method consistency ... OK
* checking replacement functions ... OK
* checking foreign function calls ... OK
* checking R code for possible problems ... NOTE
removeRE: no visible global function definition for 'seqlevelsStyle<-'
Undefined global functions or variables:
seqlevelsStyle<-
* checking Rd files ... OK
* checking Rd metadata ... OK
* checking Rd cross-references ... OK
* checking for missing documentation entries ... OK
* checking for code/documentation mismatches ... OK
* checking Rd \usage sections ... OK
* checking Rd contents ... OK
* checking for unstated dependencies in examples ... OK
* checking contents of 'data' directory ... OK
* checking data for non-ASCII characters ... OK
* checking data for ASCII and uncompressed saves ... OK
* checking files in 'vignettes' ... OK
* checking examples ...
** running examples for arch 'i386' ... OK
Examples with CPU or elapsed time > 5s
user system elapsed
runMadSeq 11.22 0.10 12.90
normalizeCoverage 9.52 1.28 18.27
prepareHetero 1.73 0.06 11.11
** running examples for arch 'x64' ... OK
Examples with CPU or elapsed time > 5s
user system elapsed
normalizeCoverage 10.32 0.86 11.19
runMadSeq 9.86 0.11 9.97
* checking for unstated dependencies in vignettes ... OK
* checking package vignettes in 'inst/doc' ... OK
* checking running R code from vignettes ... SKIPPED
* checking re-building of vignette outputs ... SKIPPED
* checking PDF version of manual ... OK
* DONE
Status: 1 NOTE
See
'C:/Users/biocbuild/bbs-3.7-bioc/meat/MADSEQ.Rcheck/00check.log'
for details.
MADSEQ.Rcheck/00install.out
##############################################################################
##############################################################################
###
### Running command:
###
### C:\cygwin\bin\curl.exe -O https://malbec2.bioconductor.org/BBS/3.7/bioc/src/contrib/MADSEQ_1.6.1.tar.gz && rm -rf MADSEQ.buildbin-libdir && mkdir MADSEQ.buildbin-libdir && C:\Users\biocbuild\bbs-3.7-bioc\R\bin\R.exe CMD INSTALL --merge-multiarch --build --library=MADSEQ.buildbin-libdir MADSEQ_1.6.1.tar.gz && C:\Users\biocbuild\bbs-3.7-bioc\R\bin\R.exe CMD INSTALL MADSEQ_1.6.1.zip && rm MADSEQ_1.6.1.tar.gz MADSEQ_1.6.1.zip
###
##############################################################################
##############################################################################
% Total % Received % Xferd Average Speed Time Time Time Current
Dload Upload Total Spent Left Speed
0 0 0 0 0 0 0 0 --:--:-- --:--:-- --:--:-- 0
100 2125k 100 2125k 0 0 23.6M 0 --:--:-- --:--:-- --:--:-- 25.6M
install for i386
* installing *source* package 'MADSEQ' ...
** R
** data
*** moving datasets to lazyload DB
** inst
** byte-compile and prepare package for lazy loading
** help
*** installing help indices
converting help for package 'MADSEQ'
finding HTML links ... done
MADSEQ-package html
MadSeq html
aneuploidy_chr18 html
deltaBIC html
normalizeCoverage html
finding level-2 HTML links ... done
plotFraction html
plotMadSeq html
plotMixture html
posterior html
prepareCoverageGC html
prepareHetero html
runMadSeq html
summary-method html
** building package indices
** installing vignettes
** testing if installed package can be loaded
In R CMD INSTALL
install for x64
* installing *source* package 'MADSEQ' ...
** testing if installed package can be loaded
* MD5 sums
packaged installation of 'MADSEQ' as MADSEQ_1.6.1.zip
* DONE (MADSEQ)
In R CMD INSTALL
In R CMD INSTALL
* installing to library 'C:/Users/biocbuild/bbs-3.7-bioc/R/library'
package 'MADSEQ' successfully unpacked and MD5 sums checked
In R CMD INSTALL
|
MADSEQ.Rcheck/examples_i386/MADSEQ-Ex.timings
|
MADSEQ.Rcheck/examples_x64/MADSEQ-Ex.timings
|