| Back to Multiple platform build/check report for BioC 3.7 |
|
This page was generated on 2018-10-17 08:45:19 -0400 (Wed, 17 Oct 2018).
| Package 815/1561 | Hostname | OS / Arch | INSTALL | BUILD | CHECK | BUILD BIN | ||||||
| MACPET 1.0.0 Ioannis Vardaxis
| malbec2 | Linux (Ubuntu 16.04.1 LTS) / x86_64 | OK | OK | OK | |||||||
| tokay2 | Windows Server 2012 R2 Standard / x64 | [ OK ] | OK | OK | OK | |||||||
| merida2 | OS X 10.11.6 El Capitan / x86_64 | OK | OK | OK | OK |
| Package: MACPET |
| Version: 1.0.0 |
| Command: C:\cygwin\bin\curl.exe -O https://malbec2.bioconductor.org/BBS/3.7/bioc/src/contrib/MACPET_1.0.0.tar.gz && rm -rf MACPET.buildbin-libdir && mkdir MACPET.buildbin-libdir && C:\Users\biocbuild\bbs-3.7-bioc\R\bin\R.exe CMD INSTALL --merge-multiarch --build --library=MACPET.buildbin-libdir MACPET_1.0.0.tar.gz && C:\Users\biocbuild\bbs-3.7-bioc\R\bin\R.exe CMD INSTALL MACPET_1.0.0.zip && rm MACPET_1.0.0.tar.gz MACPET_1.0.0.zip |
| StartedAt: 2018-10-16 19:54:22 -0400 (Tue, 16 Oct 2018) |
| EndedAt: 2018-10-16 19:56:21 -0400 (Tue, 16 Oct 2018) |
| EllapsedTime: 118.7 seconds |
| RetCode: 0 |
| Status: OK |
##############################################################################
##############################################################################
###
### Running command:
###
### C:\cygwin\bin\curl.exe -O https://malbec2.bioconductor.org/BBS/3.7/bioc/src/contrib/MACPET_1.0.0.tar.gz && rm -rf MACPET.buildbin-libdir && mkdir MACPET.buildbin-libdir && C:\Users\biocbuild\bbs-3.7-bioc\R\bin\R.exe CMD INSTALL --merge-multiarch --build --library=MACPET.buildbin-libdir MACPET_1.0.0.tar.gz && C:\Users\biocbuild\bbs-3.7-bioc\R\bin\R.exe CMD INSTALL MACPET_1.0.0.zip && rm MACPET_1.0.0.tar.gz MACPET_1.0.0.zip
###
##############################################################################
##############################################################################
% Total % Received % Xferd Average Speed Time Time Time Current
Dload Upload Total Spent Left Speed
0 0 0 0 0 0 0 0 --:--:-- --:--:-- --:--:-- 0
100 793k 100 793k 0 0 12.6M 0 --:--:-- --:--:-- --:--:-- 13.5M
install for i386
* installing *source* package 'MACPET' ...
** libs
C:/Rtools/mingw_32/bin/g++ -std=gnu++11 -I"C:/Users/BIOCBU˜1/BBS-3˜1.7-B/R/include" -DNDEBUG -I"C:/Users/biocbuild/bbs-3.7-bioc/R/library/Rcpp/include" -I"C:/extsoft/include" -O2 -Wall -mtune=generic -c RcppExports.cpp -o RcppExports.o
C:/Rtools/mingw_32/bin/g++ -std=gnu++11 -I"C:/Users/BIOCBU˜1/BBS-3˜1.7-B/R/include" -DNDEBUG -I"C:/Users/biocbuild/bbs-3.7-bioc/R/library/Rcpp/include" -I"C:/extsoft/include" -O2 -Wall -mtune=generic -c Stage_0_FastqFilteringSubFunctions.cpp -o Stage_0_FastqFilteringSubFunctions.o
Stage_0_FastqFilteringSubFunctions.cpp: In function 'SEXPREC* FilterFastqYield_fun_Rcpp(int&, std::vector<std::basic_string<char> >&, Rcpp::NumericVector&, std::vector<std::basic_string<char> >&, Rcpp::NumericVector&, std::string&, std::string&, int&, int&, int&)':
Stage_0_FastqFilteringSubFunctions.cpp:55:36: warning: comparison between signed and unsigned integer expressions [-Wsign-compare]
if(SreadFastq1[i].find(NNs)!=-1||SreadFastq2[i].find(NNs)!=-1){
^
Stage_0_FastqFilteringSubFunctions.cpp:55:66: warning: comparison between signed and unsigned integer expressions [-Wsign-compare]
if(SreadFastq1[i].find(NNs)!=-1||SreadFastq2[i].find(NNs)!=-1){
^
C:/Rtools/mingw_32/bin/g++ -std=gnu++11 -I"C:/Users/BIOCBU˜1/BBS-3˜1.7-B/R/include" -DNDEBUG -I"C:/Users/biocbuild/bbs-3.7-bioc/R/library/Rcpp/include" -I"C:/extsoft/include" -O2 -Wall -mtune=generic -c Stage_3_PeakFinderSubFunctions.cpp -o Stage_3_PeakFinderSubFunctions.o
C:/Rtools/mingw_32/bin/g++ -shared -s -static-libgcc -o MACPET.dll tmp.def RcppExports.o Stage_0_FastqFilteringSubFunctions.o Stage_3_PeakFinderSubFunctions.o -LC:/extsoft/lib/i386 -LC:/extsoft/lib -LC:/Users/BIOCBU˜1/BBS-3˜1.7-B/R/bin/i386 -lR
installing to C:/Users/biocbuild/bbs-3.7-bioc/meat/MACPET.buildbin-libdir/MACPET/libs/i386
** R
** inst
** byte-compile and prepare package for lazy loading
** help
*** installing help indices
converting help for package 'MACPET'
finding HTML links ... done
AnalysisStatistics html
ConvertToPE_BAM html
ConvertToPSelf html
MACPET html
finding level-2 HTML links ... done
MACPETUlt html
MACPET_pinterData.rda html
MACPET_pintraData.rda html
MACPET_pselfData.rda html
MACPET_psfitData.rda html
PInter-class html
PIntra-class html
PSFit-class html
PSelf-class html
PeaksToGRanges html
PeaksToNarrowPeak html
SampleChIAPETData.bam html
SampleChIAPETDataRead_1.bam html
SampleChIAPETDataRead_2.bam html
TagsToGInteractions html
exportPeaks html
plot html
summary html
** building package indices
** installing vignettes
** testing if installed package can be loaded
In R CMD INSTALL
install for x64
* installing *source* package 'MACPET' ...
** libs
C:/Rtools/mingw_64/bin/g++ -std=gnu++11 -I"C:/Users/BIOCBU˜1/BBS-3˜1.7-B/R/include" -DNDEBUG -I"C:/Users/biocbuild/bbs-3.7-bioc/R/library/Rcpp/include" -I"C:/extsoft/include" -O2 -Wall -mtune=generic -c RcppExports.cpp -o RcppExports.o
C:/Rtools/mingw_64/bin/g++ -std=gnu++11 -I"C:/Users/BIOCBU˜1/BBS-3˜1.7-B/R/include" -DNDEBUG -I"C:/Users/biocbuild/bbs-3.7-bioc/R/library/Rcpp/include" -I"C:/extsoft/include" -O2 -Wall -mtune=generic -c Stage_0_FastqFilteringSubFunctions.cpp -o Stage_0_FastqFilteringSubFunctions.o
Stage_0_FastqFilteringSubFunctions.cpp: In function 'SEXPREC* FilterFastqYield_fun_Rcpp(int&, std::vector<std::basic_string<char> >&, Rcpp::NumericVector&, std::vector<std::basic_string<char> >&, Rcpp::NumericVector&, std::string&, std::string&, int&, int&, int&)':
Stage_0_FastqFilteringSubFunctions.cpp:55:36: warning: comparison between signed and unsigned integer expressions [-Wsign-compare]
if(SreadFastq1[i].find(NNs)!=-1||SreadFastq2[i].find(NNs)!=-1){
^
Stage_0_FastqFilteringSubFunctions.cpp:55:66: warning: comparison between signed and unsigned integer expressions [-Wsign-compare]
if(SreadFastq1[i].find(NNs)!=-1||SreadFastq2[i].find(NNs)!=-1){
^
C:/Rtools/mingw_64/bin/g++ -std=gnu++11 -I"C:/Users/BIOCBU˜1/BBS-3˜1.7-B/R/include" -DNDEBUG -I"C:/Users/biocbuild/bbs-3.7-bioc/R/library/Rcpp/include" -I"C:/extsoft/include" -O2 -Wall -mtune=generic -c Stage_3_PeakFinderSubFunctions.cpp -o Stage_3_PeakFinderSubFunctions.o
C:/Rtools/mingw_64/bin/g++ -shared -s -static-libgcc -o MACPET.dll tmp.def RcppExports.o Stage_0_FastqFilteringSubFunctions.o Stage_3_PeakFinderSubFunctions.o -LC:/extsoft/lib/x64 -LC:/extsoft/lib -LC:/Users/BIOCBU˜1/BBS-3˜1.7-B/R/bin/x64 -lR
installing to C:/Users/biocbuild/bbs-3.7-bioc/meat/MACPET.buildbin-libdir/MACPET/libs/x64
** testing if installed package can be loaded
* MD5 sums
packaged installation of 'MACPET' as MACPET_1.0.0.zip
* DONE (MACPET)
In R CMD INSTALL
In R CMD INSTALL
* installing to library 'C:/Users/biocbuild/bbs-3.7-bioc/R/library'
package 'MACPET' successfully unpacked and MD5 sums checked
In R CMD INSTALL