| Back to Multiple platform build/check report for BioC 3.7 |
|
This page was generated on 2018-10-17 08:43:06 -0400 (Wed, 17 Oct 2018).
| Package 811/1561 | Hostname | OS / Arch | INSTALL | BUILD | CHECK | BUILD BIN | ||||||
| M3Drop 1.6.0 Tallulah Andrews
| malbec2 | Linux (Ubuntu 16.04.1 LTS) / x86_64 | OK | OK | OK | |||||||
| tokay2 | Windows Server 2012 R2 Standard / x64 | OK | OK | [ OK ] | OK | |||||||
| merida2 | OS X 10.11.6 El Capitan / x86_64 | OK | OK | OK | OK |
| Package: M3Drop |
| Version: 1.6.0 |
| Command: C:\Users\biocbuild\bbs-3.7-bioc\R\bin\R.exe CMD check --force-multiarch --install=check:M3Drop.install-out.txt --library=C:\Users\biocbuild\bbs-3.7-bioc\R\library --no-vignettes --timings M3Drop_1.6.0.tar.gz |
| StartedAt: 2018-10-17 03:01:07 -0400 (Wed, 17 Oct 2018) |
| EndedAt: 2018-10-17 03:06:13 -0400 (Wed, 17 Oct 2018) |
| EllapsedTime: 305.9 seconds |
| RetCode: 0 |
| Status: OK |
| CheckDir: M3Drop.Rcheck |
| Warnings: 0 |
##############################################################################
##############################################################################
###
### Running command:
###
### C:\Users\biocbuild\bbs-3.7-bioc\R\bin\R.exe CMD check --force-multiarch --install=check:M3Drop.install-out.txt --library=C:\Users\biocbuild\bbs-3.7-bioc\R\library --no-vignettes --timings M3Drop_1.6.0.tar.gz
###
##############################################################################
##############################################################################
* using log directory 'C:/Users/biocbuild/bbs-3.7-bioc/meat/M3Drop.Rcheck'
* using R version 3.5.1 Patched (2018-07-24 r75005)
* using platform: x86_64-w64-mingw32 (64-bit)
* using session charset: ISO8859-1
* using option '--no-vignettes'
* checking for file 'M3Drop/DESCRIPTION' ... OK
* this is package 'M3Drop' version '1.6.0'
* checking package namespace information ... OK
* checking package dependencies ... OK
* checking if this is a source package ... OK
* checking if there is a namespace ... OK
* checking for hidden files and directories ... OK
* checking for portable file names ... OK
* checking whether package 'M3Drop' can be installed ... OK
* checking installed package size ... OK
* checking package directory ... OK
* checking 'build' directory ... OK
* checking DESCRIPTION meta-information ... OK
* checking top-level files ... OK
* checking for left-over files ... OK
* checking index information ... OK
* checking package subdirectories ... OK
* checking R files for non-ASCII characters ... OK
* checking R files for syntax errors ... OK
* loading checks for arch 'i386'
** checking whether the package can be loaded ... OK
** checking whether the package can be loaded with stated dependencies ... OK
** checking whether the package can be unloaded cleanly ... OK
** checking whether the namespace can be loaded with stated dependencies ... OK
** checking whether the namespace can be unloaded cleanly ... OK
* loading checks for arch 'x64'
** checking whether the package can be loaded ... OK
** checking whether the package can be loaded with stated dependencies ... OK
** checking whether the package can be unloaded cleanly ... OK
** checking whether the namespace can be loaded with stated dependencies ... OK
** checking whether the namespace can be unloaded cleanly ... OK
* checking dependencies in R code ... NOTE
Package in Depends field not imported from: 'numDeriv'
These packages need to be imported from (in the NAMESPACE file)
for when this namespace is loaded but not attached.
* checking S3 generic/method consistency ... OK
* checking replacement functions ... OK
* checking foreign function calls ... OK
* checking R code for possible problems ... NOTE
bg__filter_cells: no visible binding for global variable 'x'
bg__get_extreme_residuals: no visible binding for global variable 'x'
Undefined global functions or variables:
x
* checking Rd files ... OK
* checking Rd metadata ... OK
* checking Rd cross-references ... OK
* checking for missing documentation entries ... OK
* checking for code/documentation mismatches ... OK
* checking Rd \usage sections ... OK
* checking Rd contents ... OK
* checking for unstated dependencies in examples ... OK
* checking files in 'vignettes' ... OK
* checking examples ...
** running examples for arch 'i386' ... OK
Examples with CPU or elapsed time > 5s
user system elapsed
M3D_getmarkers 76.87 0.01 76.89
M3D_Get_Extremes 21.47 0.30 21.77
M3D_Differential_Expression 5.59 0.11 5.70
M3D_Test_Shift 4.97 0.05 5.02
** running examples for arch 'x64' ... OK
Examples with CPU or elapsed time > 5s
user system elapsed
M3D_getmarkers 95.05 0.02 95.14
M3D_Get_Extremes 25.25 0.35 25.64
M3D_Differential_Expression 8.15 0.10 8.25
* checking for unstated dependencies in vignettes ... OK
* checking package vignettes in 'inst/doc' ... OK
* checking running R code from vignettes ... SKIPPED
* checking re-building of vignette outputs ... SKIPPED
* checking PDF version of manual ... OK
* DONE
Status: 2 NOTEs
See
'C:/Users/biocbuild/bbs-3.7-bioc/meat/M3Drop.Rcheck/00check.log'
for details.
M3Drop.Rcheck/00install.out
##############################################################################
##############################################################################
###
### Running command:
###
### C:\cygwin\bin\curl.exe -O https://malbec2.bioconductor.org/BBS/3.7/bioc/src/contrib/M3Drop_1.6.0.tar.gz && rm -rf M3Drop.buildbin-libdir && mkdir M3Drop.buildbin-libdir && C:\Users\biocbuild\bbs-3.7-bioc\R\bin\R.exe CMD INSTALL --merge-multiarch --build --library=M3Drop.buildbin-libdir M3Drop_1.6.0.tar.gz && C:\Users\biocbuild\bbs-3.7-bioc\R\bin\R.exe CMD INSTALL M3Drop_1.6.0.zip && rm M3Drop_1.6.0.tar.gz M3Drop_1.6.0.zip
###
##############################################################################
##############################################################################
% Total % Received % Xferd Average Speed Time Time Time Current
Dload Upload Total Spent Left Speed
0 0 0 0 0 0 0 0 --:--:-- --:--:-- --:--:-- 0
100 22300 100 22300 0 0 383k 0 --:--:-- --:--:-- --:--:-- 435k
install for i386
* installing *source* package 'M3Drop' ...
** R
** inst
** byte-compile and prepare package for lazy loading
** help
*** installing help indices
converting help for package 'M3Drop'
finding HTML links ... done
Brennecke_getVariableGenes html
Fitting_Dropout_Models html
M3D_Clean_Data html
M3D_Differential_Expression html
M3D_Dropout_Models html
M3D_Expression_Heatmap html
M3D_Get_Extremes html
M3D_Get_Heatmap_Cell_Clusters html
M3D_Test_Shift html
M3D_ThreeSet_Venn html
M3D_getmarkers html
** building package indices
** installing vignettes
** testing if installed package can be loaded
In R CMD INSTALL
install for x64
* installing *source* package 'M3Drop' ...
** testing if installed package can be loaded
* MD5 sums
packaged installation of 'M3Drop' as M3Drop_1.6.0.zip
* DONE (M3Drop)
In R CMD INSTALL
In R CMD INSTALL
* installing to library 'C:/Users/biocbuild/bbs-3.7-bioc/R/library'
package 'M3Drop' successfully unpacked and MD5 sums checked
In R CMD INSTALL
|
M3Drop.Rcheck/examples_i386/M3Drop-Ex.timings
|
M3Drop.Rcheck/examples_x64/M3Drop-Ex.timings
|