| Back to Multiple platform build/check report for BioC 3.7 |
|
This page was generated on 2018-10-17 08:42:04 -0400 (Wed, 17 Oct 2018).
| Package 790/1561 | Hostname | OS / Arch | INSTALL | BUILD | CHECK | BUILD BIN | ||||||
| Linnorm 2.4.0 Ken Shun Hang Yip
| malbec2 | Linux (Ubuntu 16.04.1 LTS) / x86_64 | OK | OK | OK | |||||||
| tokay2 | Windows Server 2012 R2 Standard / x64 | [ OK ] | OK | OK | OK | |||||||
| merida2 | OS X 10.11.6 El Capitan / x86_64 | OK | OK | OK | OK |
| Package: Linnorm |
| Version: 2.4.0 |
| Command: C:\cygwin\bin\curl.exe -O https://malbec2.bioconductor.org/BBS/3.7/bioc/src/contrib/Linnorm_2.4.0.tar.gz && rm -rf Linnorm.buildbin-libdir && mkdir Linnorm.buildbin-libdir && C:\Users\biocbuild\bbs-3.7-bioc\R\bin\R.exe CMD INSTALL --merge-multiarch --build --library=Linnorm.buildbin-libdir Linnorm_2.4.0.tar.gz && C:\Users\biocbuild\bbs-3.7-bioc\R\bin\R.exe CMD INSTALL Linnorm_2.4.0.zip && rm Linnorm_2.4.0.tar.gz Linnorm_2.4.0.zip |
| StartedAt: 2018-10-16 20:20:18 -0400 (Tue, 16 Oct 2018) |
| EndedAt: 2018-10-16 20:21:38 -0400 (Tue, 16 Oct 2018) |
| EllapsedTime: 79.9 seconds |
| RetCode: 0 |
| Status: OK |
##############################################################################
##############################################################################
###
### Running command:
###
### C:\cygwin\bin\curl.exe -O https://malbec2.bioconductor.org/BBS/3.7/bioc/src/contrib/Linnorm_2.4.0.tar.gz && rm -rf Linnorm.buildbin-libdir && mkdir Linnorm.buildbin-libdir && C:\Users\biocbuild\bbs-3.7-bioc\R\bin\R.exe CMD INSTALL --merge-multiarch --build --library=Linnorm.buildbin-libdir Linnorm_2.4.0.tar.gz && C:\Users\biocbuild\bbs-3.7-bioc\R\bin\R.exe CMD INSTALL Linnorm_2.4.0.zip && rm Linnorm_2.4.0.tar.gz Linnorm_2.4.0.zip
###
##############################################################################
##############################################################################
% Total % Received % Xferd Average Speed Time Time Time Current
Dload Upload Total Spent Left Speed
0 0 0 0 0 0 0 0 --:--:-- --:--:-- --:--:-- 0
100 2416k 100 2416k 0 0 30.2M 0 --:--:-- --:--:-- --:--:-- 33.2M
install for i386
* installing *source* package 'Linnorm' ...
** libs
C:/Rtools/mingw_32/bin/g++ -I"C:/Users/BIOCBU˜1/BBS-3˜1.7-B/R/include" -DNDEBUG -I"C:/Users/biocbuild/bbs-3.7-bioc/R/library/Rcpp/include" -I"C:/Users/biocbuild/bbs-3.7-bioc/R/library/RcppArmadillo/include" -I"C:/extsoft/include" -O2 -Wall -mtune=generic -c Misc.cpp -o Misc.o
C:/Rtools/mingw_32/bin/g++ -shared -s -static-libgcc -o Linnorm.dll tmp.def Misc.o -std=c++11 -LC:/Users/BIOCBU˜1/BBS-3˜1.7-B/R/bin/i386 -lRlapack -LC:/Users/BIOCBU˜1/BBS-3˜1.7-B/R/bin/i386 -lRblas -lgfortran -lm -lquadmath -DARMA_64BIT_WORD=1 -LC:/extsoft/lib/i386 -LC:/extsoft/lib -LC:/Users/BIOCBU˜1/BBS-3˜1.7-B/R/bin/i386 -lR
installing to C:/Users/biocbuild/bbs-3.7-bioc/meat/Linnorm.buildbin-libdir/Linnorm/libs/i386
** R
** data
** inst
** byte-compile and prepare package for lazy loading
** help
*** installing help indices
converting help for package 'Linnorm'
finding HTML links ... done
Islam2011 html
LIHC html
LinearRegression html
LinearRegressionFP html
Linnorm.Cor html
Linnorm.DataImput html
Linnorm.HClust html
Linnorm.HVar html
Linnorm.Norm html
Linnorm.PCA html
Linnorm html
Linnorm.SGenes html
Linnorm.limma html
Linnorm.tSNE html
RnaXSim html
SEQC html
** building package indices
** installing vignettes
** testing if installed package can be loaded
In R CMD INSTALL
install for x64
* installing *source* package 'Linnorm' ...
** libs
C:/Rtools/mingw_64/bin/g++ -I"C:/Users/BIOCBU˜1/BBS-3˜1.7-B/R/include" -DNDEBUG -I"C:/Users/biocbuild/bbs-3.7-bioc/R/library/Rcpp/include" -I"C:/Users/biocbuild/bbs-3.7-bioc/R/library/RcppArmadillo/include" -I"C:/extsoft/include" -O2 -Wall -mtune=generic -c Misc.cpp -o Misc.o
C:/Rtools/mingw_64/bin/g++ -shared -s -static-libgcc -o Linnorm.dll tmp.def Misc.o -std=c++11 -LC:/Users/BIOCBU˜1/BBS-3˜1.7-B/R/bin/x64 -lRlapack -LC:/Users/BIOCBU˜1/BBS-3˜1.7-B/R/bin/x64 -lRblas -lgfortran -lm -lquadmath -DARMA_64BIT_WORD=1 -LC:/extsoft/lib/x64 -LC:/extsoft/lib -LC:/Users/BIOCBU˜1/BBS-3˜1.7-B/R/bin/x64 -lR
installing to C:/Users/biocbuild/bbs-3.7-bioc/meat/Linnorm.buildbin-libdir/Linnorm/libs/x64
** testing if installed package can be loaded
* MD5 sums
packaged installation of 'Linnorm' as Linnorm_2.4.0.zip
* DONE (Linnorm)
In R CMD INSTALL
In R CMD INSTALL
* installing to library 'C:/Users/biocbuild/bbs-3.7-bioc/R/library'
package 'Linnorm' successfully unpacked and MD5 sums checked
In R CMD INSTALL