| Back to Multiple platform build/check report for BioC 3.7 |
|
This page was generated on 2018-10-17 08:33:50 -0400 (Wed, 17 Oct 2018).
| Package 803/1561 | Hostname | OS / Arch | INSTALL | BUILD | CHECK | BUILD BIN | ||||||
| LPEadj 1.40.0 Carl Murie
| malbec2 | Linux (Ubuntu 16.04.1 LTS) / x86_64 | OK | OK | OK | |||||||
| tokay2 | Windows Server 2012 R2 Standard / x64 | [ OK ] | OK | OK | OK | |||||||
| merida2 | OS X 10.11.6 El Capitan / x86_64 | OK | OK | OK | OK |
| Package: LPEadj |
| Version: 1.40.0 |
| Command: C:\cygwin\bin\curl.exe -O https://malbec2.bioconductor.org/BBS/3.7/bioc/src/contrib/LPEadj_1.40.0.tar.gz && rm -rf LPEadj.buildbin-libdir && mkdir LPEadj.buildbin-libdir && C:\Users\biocbuild\bbs-3.7-bioc\R\bin\R.exe CMD INSTALL --merge-multiarch --build --library=LPEadj.buildbin-libdir LPEadj_1.40.0.tar.gz && C:\Users\biocbuild\bbs-3.7-bioc\R\bin\R.exe CMD INSTALL LPEadj_1.40.0.zip && rm LPEadj_1.40.0.tar.gz LPEadj_1.40.0.zip |
| StartedAt: 2018-10-16 18:44:51 -0400 (Tue, 16 Oct 2018) |
| EndedAt: 2018-10-16 18:45:07 -0400 (Tue, 16 Oct 2018) |
| EllapsedTime: 15.5 seconds |
| RetCode: 0 |
| Status: OK |
##############################################################################
##############################################################################
###
### Running command:
###
### C:\cygwin\bin\curl.exe -O https://malbec2.bioconductor.org/BBS/3.7/bioc/src/contrib/LPEadj_1.40.0.tar.gz && rm -rf LPEadj.buildbin-libdir && mkdir LPEadj.buildbin-libdir && C:\Users\biocbuild\bbs-3.7-bioc\R\bin\R.exe CMD INSTALL --merge-multiarch --build --library=LPEadj.buildbin-libdir LPEadj_1.40.0.tar.gz && C:\Users\biocbuild\bbs-3.7-bioc\R\bin\R.exe CMD INSTALL LPEadj_1.40.0.zip && rm LPEadj_1.40.0.tar.gz LPEadj_1.40.0.zip
###
##############################################################################
##############################################################################
% Total % Received % Xferd Average Speed Time Time Time Current
Dload Upload Total Spent Left Speed
0 0 0 0 0 0 0 0 --:--:-- --:--:-- --:--:-- 0
100 965k 100 965k 0 0 15.5M 0 --:--:-- --:--:-- --:--:-- 17.4M
install for i386
* installing *source* package 'LPEadj' ...
** R
** byte-compile and prepare package for lazy loading
** help
*** installing help indices
converting help for package 'LPEadj'
finding HTML links ... done
adjBaseOlig.error html
adjBaseOlig.error.step1 html
adjBaseOlig.error.step2 html
calculateLpeAdj html
lpeAdj html
** building package indices
** installing vignettes
** testing if installed package can be loaded
In R CMD INSTALL
install for x64
* installing *source* package 'LPEadj' ...
** testing if installed package can be loaded
* MD5 sums
packaged installation of 'LPEadj' as LPEadj_1.40.0.zip
* DONE (LPEadj)
In R CMD INSTALL
In R CMD INSTALL
* installing to library 'C:/Users/biocbuild/bbs-3.7-bioc/R/library'
package 'LPEadj' successfully unpacked and MD5 sums checked
In R CMD INSTALL