| Back to Multiple platform build/check report for BioC 3.7 |
|
This page was generated on 2018-10-17 08:32:01 -0400 (Wed, 17 Oct 2018).
| Package 802/1561 | Hostname | OS / Arch | INSTALL | BUILD | CHECK | BUILD BIN | ||||||
| LPE 1.54.0 Nitin Jain
| malbec2 | Linux (Ubuntu 16.04.1 LTS) / x86_64 | OK | OK | OK | |||||||
| tokay2 | Windows Server 2012 R2 Standard / x64 | [ OK ] | OK | OK | OK | |||||||
| merida2 | OS X 10.11.6 El Capitan / x86_64 | OK | OK | OK | OK |
| Package: LPE |
| Version: 1.54.0 |
| Command: C:\cygwin\bin\curl.exe -O https://malbec2.bioconductor.org/BBS/3.7/bioc/src/contrib/LPE_1.54.0.tar.gz && rm -rf LPE.buildbin-libdir && mkdir LPE.buildbin-libdir && C:\Users\biocbuild\bbs-3.7-bioc\R\bin\R.exe CMD INSTALL --merge-multiarch --build --library=LPE.buildbin-libdir LPE_1.54.0.tar.gz && C:\Users\biocbuild\bbs-3.7-bioc\R\bin\R.exe CMD INSTALL LPE_1.54.0.zip && rm LPE_1.54.0.tar.gz LPE_1.54.0.zip |
| StartedAt: 2018-10-16 18:44:25 -0400 (Tue, 16 Oct 2018) |
| EndedAt: 2018-10-16 18:44:50 -0400 (Tue, 16 Oct 2018) |
| EllapsedTime: 24.9 seconds |
| RetCode: 0 |
| Status: OK |
##############################################################################
##############################################################################
###
### Running command:
###
### C:\cygwin\bin\curl.exe -O https://malbec2.bioconductor.org/BBS/3.7/bioc/src/contrib/LPE_1.54.0.tar.gz && rm -rf LPE.buildbin-libdir && mkdir LPE.buildbin-libdir && C:\Users\biocbuild\bbs-3.7-bioc\R\bin\R.exe CMD INSTALL --merge-multiarch --build --library=LPE.buildbin-libdir LPE_1.54.0.tar.gz && C:\Users\biocbuild\bbs-3.7-bioc\R\bin\R.exe CMD INSTALL LPE_1.54.0.zip && rm LPE_1.54.0.tar.gz LPE_1.54.0.zip
###
##############################################################################
##############################################################################
% Total % Received % Xferd Average Speed Time Time Time Current
Dload Upload Total Spent Left Speed
0 0 0 0 0 0 0 0 --:--:-- --:--:-- --:--:-- 0
100 185k 100 185k 0 0 3574k 0 --:--:-- --:--:-- --:--:-- 4217k
install for i386
* installing *source* package 'LPE' ...
** R
** data
** byte-compile and prepare package for lazy loading
** help
*** installing help indices
converting help for package 'LPE'
finding HTML links ... done
Ley html
am.trans html
baseOlig.error html
baseOlig.error.step1 html
baseOlig.error.step2 html
fdr.adjust html
fixbounds.predict.smooth.spline html
iqr html
lowess.normalize html
lpe html
mt.rawp2adjp html
n.genes.adaptive.int html
permute html
preprocess html
quan.norm html
quartile.normalize html
resamp.adj html
** building package indices
** installing vignettes
** testing if installed package can be loaded
In R CMD INSTALL
install for x64
* installing *source* package 'LPE' ...
** testing if installed package can be loaded
* MD5 sums
packaged installation of 'LPE' as LPE_1.54.0.zip
* DONE (LPE)
In R CMD INSTALL
In R CMD INSTALL
* installing to library 'C:/Users/biocbuild/bbs-3.7-bioc/R/library'
package 'LPE' successfully unpacked and MD5 sums checked
In R CMD INSTALL