| Back to Multiple platform build/check report for BioC 3.7 |
|
This page was generated on 2018-10-17 08:41:03 -0400 (Wed, 17 Oct 2018).
| Package 800/1561 | Hostname | OS / Arch | INSTALL | BUILD | CHECK | BUILD BIN | ||||||
| LOLA 1.10.0 Nathan Sheffield
| malbec2 | Linux (Ubuntu 16.04.1 LTS) / x86_64 | OK | OK | OK | |||||||
| tokay2 | Windows Server 2012 R2 Standard / x64 | OK | OK | OK | [ OK ] | |||||||
| merida2 | OS X 10.11.6 El Capitan / x86_64 | OK | OK | OK | OK |
| Package: LOLA |
| Version: 1.10.0 |
| Command: rm -rf LOLA.buildbin-libdir && mkdir LOLA.buildbin-libdir && C:\Users\biocbuild\bbs-3.7-bioc\R\bin\R.exe CMD INSTALL --merge-multiarch --build --library=LOLA.buildbin-libdir LOLA_1.10.0.tar.gz |
| StartedAt: 2018-10-17 06:37:09 -0400 (Wed, 17 Oct 2018) |
| EndedAt: 2018-10-17 06:37:41 -0400 (Wed, 17 Oct 2018) |
| EllapsedTime: 31.8 seconds |
| RetCode: 0 |
| Status: OK |
| PackageFile: LOLA_1.10.0.zip |
| PackageFileSize: 1.276 MiB |
##############################################################################
##############################################################################
###
### Running command:
###
### rm -rf LOLA.buildbin-libdir && mkdir LOLA.buildbin-libdir && C:\Users\biocbuild\bbs-3.7-bioc\R\bin\R.exe CMD INSTALL --merge-multiarch --build --library=LOLA.buildbin-libdir LOLA_1.10.0.tar.gz
###
##############################################################################
##############################################################################
install for i386
* installing *source* package 'LOLA' ...
** R
** data
** inst
** byte-compile and prepare package for lazy loading
** help
*** installing help indices
converting help for package 'LOLA'
finding HTML links ... done
LOLA html
buildRestrictedUniverse html
checkUniverseAppropriateness html
cleanws html
countOverlapsAnyRev html
extractEnrichmentOverlaps html
getRegionFile html
getRegionSet html
lapplyAlias html
listRegionSets html
listToGRangesList html
loadRegionDB html
mergeRegionDBs html
nlist html
plotTopLOLAEnrichments html
readBed html
readCollection html
readCollectionAnnotation html
readCollectionFiles html
readRegionGRL html
readRegionSetAnnotation html
redefineUserSets html
replaceFileExtension html
runLOLA html
sampleGRL html
setLapplyAlias html
setSharedDataDir html
splitDataTable html
splitFileIntoCollection html
userSets html
userUniverse html
write.tsv html
writeCombinedEnrichment html
writeDataTableSplitByColumn html
*** copying figures
** building package indices
** installing vignettes
** testing if installed package can be loaded
In R CMD INSTALL
install for x64
* installing *source* package 'LOLA' ...
** testing if installed package can be loaded
* MD5 sums
packaged installation of 'LOLA' as LOLA_1.10.0.zip
* DONE (LOLA)
In R CMD INSTALL
In R CMD INSTALL