| Back to Multiple platform build/check report for BioC 3.7 |
|
This page was generated on 2018-10-17 08:32:31 -0400 (Wed, 17 Oct 2018).
| Package 793/1561 | Hostname | OS / Arch | INSTALL | BUILD | CHECK | BUILD BIN | ||||||
| LMGene 2.36.0 Blythe Durbin-Johnson
| malbec2 | Linux (Ubuntu 16.04.1 LTS) / x86_64 | OK | OK | OK | |||||||
| tokay2 | Windows Server 2012 R2 Standard / x64 | [ OK ] | OK | OK | OK | |||||||
| merida2 | OS X 10.11.6 El Capitan / x86_64 | OK | OK | OK | OK |
| Package: LMGene |
| Version: 2.36.0 |
| Command: C:\cygwin\bin\curl.exe -O https://malbec2.bioconductor.org/BBS/3.7/bioc/src/contrib/LMGene_2.36.0.tar.gz && rm -rf LMGene.buildbin-libdir && mkdir LMGene.buildbin-libdir && C:\Users\biocbuild\bbs-3.7-bioc\R\bin\R.exe CMD INSTALL --merge-multiarch --build --library=LMGene.buildbin-libdir LMGene_2.36.0.tar.gz && C:\Users\biocbuild\bbs-3.7-bioc\R\bin\R.exe CMD INSTALL LMGene_2.36.0.zip && rm LMGene_2.36.0.tar.gz LMGene_2.36.0.zip |
| StartedAt: 2018-10-16 19:25:38 -0400 (Tue, 16 Oct 2018) |
| EndedAt: 2018-10-16 19:26:26 -0400 (Tue, 16 Oct 2018) |
| EllapsedTime: 47.7 seconds |
| RetCode: 0 |
| Status: OK |
##############################################################################
##############################################################################
###
### Running command:
###
### C:\cygwin\bin\curl.exe -O https://malbec2.bioconductor.org/BBS/3.7/bioc/src/contrib/LMGene_2.36.0.tar.gz && rm -rf LMGene.buildbin-libdir && mkdir LMGene.buildbin-libdir && C:\Users\biocbuild\bbs-3.7-bioc\R\bin\R.exe CMD INSTALL --merge-multiarch --build --library=LMGene.buildbin-libdir LMGene_2.36.0.tar.gz && C:\Users\biocbuild\bbs-3.7-bioc\R\bin\R.exe CMD INSTALL LMGene_2.36.0.zip && rm LMGene_2.36.0.tar.gz LMGene_2.36.0.zip
###
##############################################################################
##############################################################################
% Total % Received % Xferd Average Speed Time Time Time Current
Dload Upload Total Spent Left Speed
0 0 0 0 0 0 0 0 --:--:-- --:--:-- --:--:-- 0
100 97831 100 97831 0 0 1789k 0 --:--:-- --:--:-- --:--:-- 2032k
install for i386
* installing *source* package 'LMGene' ...
** R
** data
** byte-compile and prepare package for lazy loading
** help
*** installing help indices
converting help for package 'LMGene'
finding HTML links ... done
LMGene html
genediff html
glog html
lnorm html
lnormeS html
neweS html
norm html
plotMeanSD html
psmeans html
pvadjust html
rowaov html
sample.eS html
sample.ind html
sample.mat html
tranest html
tranestAffyProbeLevel html
transeS html
vlist html
** building package indices
** installing vignettes
** testing if installed package can be loaded
In R CMD INSTALL
install for x64
* installing *source* package 'LMGene' ...
** testing if installed package can be loaded
* MD5 sums
packaged installation of 'LMGene' as LMGene_2.36.0.zip
* DONE (LMGene)
In R CMD INSTALL
In R CMD INSTALL
* installing to library 'C:/Users/biocbuild/bbs-3.7-bioc/R/library'
package 'LMGene' successfully unpacked and MD5 sums checked
In R CMD INSTALL