| Back to Multiple platform build/check report for BioC 3.7 |
|
This page was generated on 2018-10-17 08:29:23 -0400 (Wed, 17 Oct 2018).
| Package 788/1561 | Hostname | OS / Arch | INSTALL | BUILD | CHECK | BUILD BIN | ||||||
| LINC 1.8.0 Manuel Goepferich
| malbec2 | Linux (Ubuntu 16.04.1 LTS) / x86_64 | OK | OK | [ OK ] | |||||||
| tokay2 | Windows Server 2012 R2 Standard / x64 | OK | OK | OK | OK | |||||||
| merida2 | OS X 10.11.6 El Capitan / x86_64 | OK | OK | OK | OK |
| Package: LINC |
| Version: 1.8.0 |
| Command: /home/biocbuild/bbs-3.7-bioc/R/bin/R CMD check --install=check:LINC.install-out.txt --library=/home/biocbuild/bbs-3.7-bioc/R/library --no-vignettes --timings LINC_1.8.0.tar.gz |
| StartedAt: 2018-10-16 01:30:42 -0400 (Tue, 16 Oct 2018) |
| EndedAt: 2018-10-16 01:45:45 -0400 (Tue, 16 Oct 2018) |
| EllapsedTime: 903.5 seconds |
| RetCode: 0 |
| Status: OK |
| CheckDir: LINC.Rcheck |
| Warnings: 0 |
##############################################################################
##############################################################################
###
### Running command:
###
### /home/biocbuild/bbs-3.7-bioc/R/bin/R CMD check --install=check:LINC.install-out.txt --library=/home/biocbuild/bbs-3.7-bioc/R/library --no-vignettes --timings LINC_1.8.0.tar.gz
###
##############################################################################
##############################################################################
* using log directory ‘/home/biocbuild/bbs-3.7-bioc/meat/LINC.Rcheck’
* using R version 3.5.1 Patched (2018-07-12 r74967)
* using platform: x86_64-pc-linux-gnu (64-bit)
* using session charset: UTF-8
* using option ‘--no-vignettes’
* checking for file ‘LINC/DESCRIPTION’ ... OK
* checking extension type ... Package
* this is package ‘LINC’ version ‘1.8.0’
* checking package namespace information ... OK
* checking package dependencies ... OK
* checking if this is a source package ... OK
* checking if there is a namespace ... OK
* checking for hidden files and directories ... OK
* checking for portable file names ... OK
* checking for sufficient/correct file permissions ... OK
* checking whether package ‘LINC’ can be installed ... OK
* checking installed package size ... OK
* checking package directory ... OK
* checking ‘build’ directory ... OK
* checking DESCRIPTION meta-information ... OK
* checking top-level files ... OK
* checking for left-over files ... OK
* checking index information ... OK
* checking package subdirectories ... OK
* checking R files for non-ASCII characters ... OK
* checking R files for syntax errors ... OK
* checking whether the package can be loaded ... OK
* checking whether the package can be loaded with stated dependencies ... OK
* checking whether the package can be unloaded cleanly ... OK
* checking whether the namespace can be loaded with stated dependencies ... OK
* checking whether the namespace can be unloaded cleanly ... OK
* checking dependencies in R code ... OK
* checking S3 generic/method consistency ... OK
* checking replacement functions ... OK
* checking foreign function calls ... OK
* checking R code for possible problems ... NOTE
justlinc,matrix: no visible global function definition for ‘plot’
Undefined global functions or variables:
plot
Consider adding
importFrom("graphics", "plot")
to your NAMESPACE file.
* checking Rd files ... OK
* checking Rd metadata ... OK
* checking Rd cross-references ... OK
* checking for missing documentation entries ... OK
* checking for code/documentation mismatches ... OK
* checking Rd \usage sections ... OK
* checking Rd contents ... OK
* checking for unstated dependencies in examples ... OK
* checking contents of ‘data’ directory ... OK
* checking data for non-ASCII characters ... OK
* checking data for ASCII and uncompressed saves ... OK
* checking R/sysdata.rda ... NOTE
Note: significantly better compression could be obtained
by using R CMD build --resave-data
old_size new_size compress
sysdata.rda 449Kb 299Kb xz
* checking line endings in C/C++/Fortran sources/headers ... OK
* checking compiled code ... NOTE
Note: information on .o files is not available
* checking files in ‘vignettes’ ... OK
* checking examples ... OK
Examples with CPU or elapsed time > 5s
user system elapsed
getbio-methods 526.600 7.172 534.164
singlelinc-methods 140.684 1.220 142.038
clusterlinc-methods 14.928 0.032 14.975
* checking for unstated dependencies in ‘tests’ ... OK
* checking tests ...
Running ‘runTests.R’
OK
* checking for unstated dependencies in vignettes ... OK
* checking package vignettes in ‘inst/doc’ ... OK
* checking running R code from vignettes ... SKIPPED
* checking re-building of vignette outputs ... SKIPPED
* checking PDF version of manual ... OK
* DONE
Status: 3 NOTEs
See
‘/home/biocbuild/bbs-3.7-bioc/meat/LINC.Rcheck/00check.log’
for details.
LINC.Rcheck/00install.out
##############################################################################
##############################################################################
###
### Running command:
###
### /home/biocbuild/bbs-3.7-bioc/R/bin/R CMD INSTALL LINC
###
##############################################################################
##############################################################################
* installing to library ‘/home/biocbuild/bbs-3.7-bioc/R/library’
* installing *source* package ‘LINC’ ...
** libs
g++ -I"/home/biocbuild/bbs-3.7-bioc/R/include" -DNDEBUG -I"/home/biocbuild/bbs-3.7-bioc/R/library/Rcpp/include" -I/usr/local/include -fpic -g -O2 -Wall -c Cppspear.cpp -o Cppspear.o
Cppspear.cpp: In function ‘Rcpp::NumericMatrix Cppspear(Rcpp::NumericMatrix, Rcpp::NumericMatrix)’:
Cppspear.cpp:78:14: warning: unused variable ‘qspear’ [-Wunused-variable]
double qspear;double nfraction;
^
gcc -I"/home/biocbuild/bbs-3.7-bioc/R/include" -DNDEBUG -I"/home/biocbuild/bbs-3.7-bioc/R/library/Rcpp/include" -I/usr/local/include -fpic -g -O2 -Wall -c LINC_init.c -o LINC_init.o
g++ -I"/home/biocbuild/bbs-3.7-bioc/R/include" -DNDEBUG -I"/home/biocbuild/bbs-3.7-bioc/R/library/Rcpp/include" -I/usr/local/include -fpic -g -O2 -Wall -c RcppExports.cpp -o RcppExports.o
g++ -I"/home/biocbuild/bbs-3.7-bioc/R/include" -DNDEBUG -I"/home/biocbuild/bbs-3.7-bioc/R/library/Rcpp/include" -I/usr/local/include -fpic -g -O2 -Wall -c docdd.cpp -o docdd.o
g++ -I"/home/biocbuild/bbs-3.7-bioc/R/include" -DNDEBUG -I"/home/biocbuild/bbs-3.7-bioc/R/library/Rcpp/include" -I/usr/local/include -fpic -g -O2 -Wall -c doesd.cpp -o doesd.o
g++ -shared -L/home/biocbuild/bbs-3.7-bioc/R/lib -L/usr/local/lib -o LINC.so Cppspear.o LINC_init.o RcppExports.o docdd.o doesd.o -L/home/biocbuild/bbs-3.7-bioc/R/lib -lR
installing to /home/biocbuild/bbs-3.7-bioc/R/library/LINC/libs
** R
** data
** inst
** byte-compile and prepare package for lazy loading
Creating a new generic function for ‘history’ in package ‘LINC’
** help
*** installing help indices
** building package indices
** installing vignettes
** testing if installed package can be loaded
* DONE (LINC)
LINC.Rcheck/tests/runTests.Rout
R version 3.5.1 Patched (2018-07-12 r74967) -- "Feather Spray"
Copyright (C) 2018 The R Foundation for Statistical Computing
Platform: x86_64-pc-linux-gnu (64-bit)
R is free software and comes with ABSOLUTELY NO WARRANTY.
You are welcome to redistribute it under certain conditions.
Type 'license()' or 'licence()' for distribution details.
R is a collaborative project with many contributors.
Type 'contributors()' for more information and
'citation()' on how to cite R or R packages in publications.
Type 'demo()' for some demos, 'help()' for on-line help, or
'help.start()' for an HTML browser interface to help.
Type 'q()' to quit R.
> BiocGenerics:::testPackage("LINC")
This is LINC - Co-Expression Analysis of lincRNAs
(Manuel Goepferich & Carl Herrmann)
Attaching package: 'LINC'
The following object is masked from 'package:utils':
history
removed 4 zero variance genes from input
removed genes with duplicated names
linc: gene system(s) assumed:
ENTREZID
linc: Correlation function with 'everything' called
linc: Computation of correlation matrix started
clusterlinc: computation for the correlation test started
clusterlinc: distance matrix called with the method dicedist
clusterlinc: co-expressed genes selected based on 'pvalCutOff'
removed 4 zero variance genes from input
removed genes with duplicated names
linc: gene system(s) assumed:
ENTREZID
linc: Correlation function with 'everything' called
linc: Computation of correlation matrix started
singlelinc: no test conducted, genes selected based on correlation values
singlelinc: co-expression analysis yielded 9 genes
singlelinc: The function enrichGO will be called.
Loading required package: org.Hs.eg.db
Loading required package: AnnotationDbi
Loading required package: stats4
Loading required package: BiocGenerics
Loading required package: parallel
Attaching package: 'BiocGenerics'
The following objects are masked from 'package:parallel':
clusterApply, clusterApplyLB, clusterCall, clusterEvalQ,
clusterExport, clusterMap, parApply, parCapply, parLapply,
parLapplyLB, parRapply, parSapply, parSapplyLB
The following objects are masked from 'package:stats':
IQR, mad, sd, var, xtabs
The following objects are masked from 'package:base':
Filter, Find, Map, Position, Reduce, anyDuplicated, append,
as.data.frame, basename, cbind, colMeans, colSums, colnames,
dirname, do.call, duplicated, eval, evalq, get, grep, grepl,
intersect, is.unsorted, lapply, lengths, mapply, match, mget,
order, paste, pmax, pmax.int, pmin, pmin.int, rank, rbind,
rowMeans, rowSums, rownames, sapply, setdiff, sort, table, tapply,
union, unique, unsplit, which, which.max, which.min
Loading required package: Biobase
Welcome to Bioconductor
Vignettes contain introductory material; view with
'browseVignettes()'. To cite Bioconductor, see
'citation("Biobase")', and for packages 'citation("pkgname")'.
Loading required package: IRanges
Loading required package: S4Vectors
Attaching package: 'S4Vectors'
The following object is masked from 'package:base':
expand.grid
removed 4 zero variance genes from input
removed genes with duplicated names
linc: gene system(s) assumed:
ENTREZID
linc: Correlation function with 'everything' called
linc: Computation of correlation matrix started
removed 4 zero variance genes from input
removed genes with duplicated names
linc: gene system(s) assumed:
ENTREZID
linc: Correlation function with 'everything' called
linc: Computation of correlation matrix started
clusterlinc: computation for the correlation test started
clusterlinc: distance matrix called with the method dicedist
clusterlinc: co-expressed genes selected based on 'pvalCutOff'
RUNIT TEST PROTOCOL -- Tue Oct 16 01:45:42 2018
***********************************************
Number of test functions: 4
Number of errors: 0
Number of failures: 0
1 Test Suite :
LINC RUnit Tests - 4 test functions, 0 errors, 0 failures
Number of test functions: 4
Number of errors: 0
Number of failures: 0
Warning messages:
1: In linc(cor_test_mat, codingGenes = c(TRUE, FALSE, TRUE, TRUE, FALSE, :
Input 'object' contains infinite values
2: In linc(cor_test_mat, codingGenes = c(TRUE, FALSE, TRUE, TRUE, FALSE, :
Input 'object' contains infinite values
3: In singlelinc(linc_matrix, query = "17", onlycor = T, underth = F, :
'testFun' was supplied and 'onlycor' equals 'TRUE', here 'onlycor' has the higher priority
4: In linc(cor_test_mat, codingGenes = c(TRUE, FALSE, TRUE, TRUE, FALSE, :
Input 'object' contains infinite values
5: In linc(cor_test_mat, codingGenes = c(TRUE, FALSE, TRUE, TRUE, FALSE, :
Input 'object' contains infinite values
>
> proc.time()
user system elapsed
72.356 2.300 74.722
LINC.Rcheck/LINC-Ex.timings
| name | user | system | elapsed | |
| Arith-methods | 1.764 | 0.064 | 1.851 | |
| BRAIN_EXPR | 0.172 | 0.012 | 0.187 | |
| LINCbio-class | 0.004 | 0.000 | 0.002 | |
| LINCcluster-class | 0.000 | 0.000 | 0.001 | |
| LINCfeature-class | 0.000 | 0.000 | 0.001 | |
| LINCmatrix-class | 0.000 | 0.004 | 0.000 | |
| LINCsingle-class | 0.000 | 0.000 | 0.001 | |
| assignment-methods | 0.188 | 0.016 | 0.205 | |
| changeOrgDb | 0.536 | 0.008 | 0.545 | |
| clusterlinc-methods | 14.928 | 0.032 | 14.975 | |
| correlation-methods | 0.192 | 0.028 | 0.222 | |
| express-methods | 0.268 | 0.084 | 0.354 | |
| feature | 1.508 | 0.012 | 1.520 | |
| getbio-methods | 526.600 | 7.172 | 534.164 | |
| getcoexpr | 0.328 | 0.000 | 0.327 | |
| getlinc-methods | 0.164 | 0.000 | 0.161 | |
| history-methods | 0.160 | 0.000 | 0.161 | |
| justlinc-methods | 0.004 | 0.000 | 0.002 | |
| linCenvir-methods | 0.164 | 0.000 | 0.164 | |
| linc-methods | 4.748 | 0.000 | 4.764 | |
| linctable-methods | 0.000 | 0.000 | 0.001 | |
| plotlinc-methods | 3.820 | 0.004 | 3.838 | |
| querycluster | 0.320 | 0.000 | 0.322 | |
| results-methods | 0.172 | 0.000 | 0.170 | |
| singlelinc-methods | 140.684 | 1.220 | 142.038 | |