| Back to Multiple platform build/check report for BioC 3.7 |
|
This page was generated on 2018-10-17 08:50:36 -0400 (Wed, 17 Oct 2018).
| Package 775/1561 | Hostname | OS / Arch | INSTALL | BUILD | CHECK | BUILD BIN | ||||||
| KEGGprofile 1.22.0 Shilin Zhao
| malbec2 | Linux (Ubuntu 16.04.1 LTS) / x86_64 | OK | OK | OK | |||||||
| tokay2 | Windows Server 2012 R2 Standard / x64 | OK | OK | OK | OK | |||||||
| merida2 | OS X 10.11.6 El Capitan / x86_64 | OK | OK | [ OK ] | OK |
| Package: KEGGprofile |
| Version: 1.22.0 |
| Command: /Library/Frameworks/R.framework/Versions/Current/Resources/bin/R CMD check --install=check:KEGGprofile.install-out.txt --library=/Library/Frameworks/R.framework/Versions/Current/Resources/library --no-vignettes --timings KEGGprofile_1.22.0.tar.gz |
| StartedAt: 2018-10-16 22:13:23 -0400 (Tue, 16 Oct 2018) |
| EndedAt: 2018-10-16 22:15:31 -0400 (Tue, 16 Oct 2018) |
| EllapsedTime: 127.8 seconds |
| RetCode: 0 |
| Status: OK |
| CheckDir: KEGGprofile.Rcheck |
| Warnings: 0 |
##############################################################################
##############################################################################
###
### Running command:
###
### /Library/Frameworks/R.framework/Versions/Current/Resources/bin/R CMD check --install=check:KEGGprofile.install-out.txt --library=/Library/Frameworks/R.framework/Versions/Current/Resources/library --no-vignettes --timings KEGGprofile_1.22.0.tar.gz
###
##############################################################################
##############################################################################
* using log directory ‘/Users/biocbuild/bbs-3.7-bioc/meat/KEGGprofile.Rcheck’
* using R version 3.5.1 Patched (2018-07-12 r74967)
* using platform: x86_64-apple-darwin15.6.0 (64-bit)
* using session charset: UTF-8
* using option ‘--no-vignettes’
* checking for file ‘KEGGprofile/DESCRIPTION’ ... OK
* checking extension type ... Package
* this is package ‘KEGGprofile’ version ‘1.22.0’
* checking package namespace information ... OK
* checking package dependencies ... OK
* checking if this is a source package ... OK
* checking if there is a namespace ... OK
* checking for hidden files and directories ... OK
* checking for portable file names ... OK
* checking for sufficient/correct file permissions ... OK
* checking whether package ‘KEGGprofile’ can be installed ... OK
* checking installed package size ... OK
* checking package directory ... OK
* checking ‘build’ directory ... OK
* checking DESCRIPTION meta-information ... OK
* checking top-level files ... OK
* checking for left-over files ... OK
* checking index information ... OK
* checking package subdirectories ... OK
* checking R files for non-ASCII characters ... OK
* checking R files for syntax errors ... OK
* checking whether the package can be loaded ... OK
* checking whether the package can be loaded with stated dependencies ... OK
* checking whether the package can be unloaded cleanly ... OK
* checking whether the namespace can be loaded with stated dependencies ... OK
* checking whether the namespace can be unloaded cleanly ... OK
* checking dependencies in R code ... OK
* checking S3 generic/method consistency ... OK
* checking replacement functions ... OK
* checking foreign function calls ... OK
* checking R code for possible problems ... OK
* checking Rd files ... OK
* checking Rd metadata ... OK
* checking Rd cross-references ... OK
* checking for missing documentation entries ... OK
* checking for code/documentation mismatches ... OK
* checking Rd \usage sections ... OK
* checking Rd contents ... OK
* checking for unstated dependencies in examples ... OK
* checking contents of ‘data’ directory ... OK
* checking data for non-ASCII characters ... OK
* checking data for ASCII and uncompressed saves ... OK
* checking sizes of PDF files under ‘inst/doc’ ... OK
* checking files in ‘vignettes’ ... OK
* checking examples ... OK
Examples with CPU or elapsed time > 5s
user system elapsed
plot_pathway 7.386 0.768 8.133
convertId 0.244 0.021 6.107
* checking for unstated dependencies in vignettes ... OK
* checking package vignettes in ‘inst/doc’ ... OK
* checking running R code from vignettes ... SKIPPED
* checking re-building of vignette outputs ... SKIPPED
* checking PDF version of manual ... OK
* DONE
Status: OK
KEGGprofile.Rcheck/00install.out
############################################################################## ############################################################################## ### ### Running command: ### ### /Library/Frameworks/R.framework/Versions/Current/Resources/bin/R CMD INSTALL KEGGprofile ### ############################################################################## ############################################################################## * installing to library ‘/Library/Frameworks/R.framework/Versions/3.5/Resources/library’ * installing *source* package ‘KEGGprofile’ ... ** R ** data ** inst ** byte-compile and prepare package for lazy loading ** help *** installing help indices ** building package indices ** installing vignettes ** testing if installed package can be loaded * DONE (KEGGprofile)
KEGGprofile.Rcheck/KEGGprofile-Ex.timings
| name | user | system | elapsed | |
| col_by_value | 0.013 | 0.001 | 0.015 | |
| convertId | 0.244 | 0.021 | 6.107 | |
| download_KEGGfile | 0.043 | 0.013 | 4.692 | |
| download_latest_pathway | 0.001 | 0.000 | 0.001 | |
| find_enriched_pathway | 2.627 | 0.108 | 2.769 | |
| newIdMatrix | 0.003 | 0.001 | 0.004 | |
| parse_XMLfile | 0.073 | 0.001 | 0.089 | |
| plot_pathway | 7.386 | 0.768 | 8.133 | |
| plot_pathway_cor | 3.645 | 0.126 | 3.815 | |
| plot_profile | 1.792 | 0.159 | 1.954 | |