| Back to Multiple platform build/check report for BioC 3.7 |
|
This page was generated on 2018-10-17 08:43:00 -0400 (Wed, 17 Oct 2018).
| Package 773/1561 | Hostname | OS / Arch | INSTALL | BUILD | CHECK | BUILD BIN | ||||||
| KEGGlincs 1.6.2 Shana White
| malbec2 | Linux (Ubuntu 16.04.1 LTS) / x86_64 | OK | OK | OK | |||||||
| tokay2 | Windows Server 2012 R2 Standard / x64 | OK | OK | OK | [ OK ] | |||||||
| merida2 | OS X 10.11.6 El Capitan / x86_64 | OK | OK | OK | OK |
| Package: KEGGlincs |
| Version: 1.6.2 |
| Command: rm -rf KEGGlincs.buildbin-libdir && mkdir KEGGlincs.buildbin-libdir && C:\Users\biocbuild\bbs-3.7-bioc\R\bin\R.exe CMD INSTALL --merge-multiarch --build --library=KEGGlincs.buildbin-libdir KEGGlincs_1.6.2.tar.gz |
| StartedAt: 2018-10-17 06:36:14 -0400 (Wed, 17 Oct 2018) |
| EndedAt: 2018-10-17 06:36:35 -0400 (Wed, 17 Oct 2018) |
| EllapsedTime: 20.6 seconds |
| RetCode: 0 |
| Status: OK |
| PackageFile: KEGGlincs_1.6.2.zip |
| PackageFileSize: 2.299 MiB |
##############################################################################
##############################################################################
###
### Running command:
###
### rm -rf KEGGlincs.buildbin-libdir && mkdir KEGGlincs.buildbin-libdir && C:\Users\biocbuild\bbs-3.7-bioc\R\bin\R.exe CMD INSTALL --merge-multiarch --build --library=KEGGlincs.buildbin-libdir KEGGlincs_1.6.2.tar.gz
###
##############################################################################
##############################################################################
install for i386
* installing *source* package 'KEGGlincs' ...
** R
** inst
** byte-compile and prepare package for lazy loading
** help
*** installing help indices
converting help for package 'KEGGlincs'
finding HTML links ... done
KEGG_lincs html
KEGGlincs html
KL_compare html
add_edge_data html
cyto_vis html
edge_mapping_info html
expand_KEGG_edges html
expand_KEGG_mappings html
generate_mappings html
get_KGML html
get_fisher_info html
get_graph_object html
keggerize_edges html
node_mapping_info html
overlap_info html
path_genes_by_cell_type html
refine_mappings html
tidy_edge html
toCytoscape html
** building package indices
** installing vignettes
** testing if installed package can be loaded
In R CMD INSTALL
install for x64
* installing *source* package 'KEGGlincs' ...
** testing if installed package can be loaded
* MD5 sums
packaged installation of 'KEGGlincs' as KEGGlincs_1.6.2.zip
* DONE (KEGGlincs)
In R CMD INSTALL
In R CMD INSTALL