| Back to Multiple platform build/check report for BioC 3.7 |
|
This page was generated on 2018-10-17 08:36:52 -0400 (Wed, 17 Oct 2018).
| Package 776/1561 | Hostname | OS / Arch | INSTALL | BUILD | CHECK | BUILD BIN | ||||||
| KEGGREST 1.20.2 Bioconductor Package Maintainer
| malbec2 | Linux (Ubuntu 16.04.1 LTS) / x86_64 | OK | OK | OK | |||||||
| tokay2 | Windows Server 2012 R2 Standard / x64 | OK | OK | [ OK ] | OK | |||||||
| merida2 | OS X 10.11.6 El Capitan / x86_64 | OK | OK | OK | OK |
| Package: KEGGREST |
| Version: 1.20.2 |
| Command: C:\Users\biocbuild\bbs-3.7-bioc\R\bin\R.exe CMD check --force-multiarch --install=check:KEGGREST.install-out.txt --library=C:\Users\biocbuild\bbs-3.7-bioc\R\library --no-vignettes --timings KEGGREST_1.20.2.tar.gz |
| StartedAt: 2018-10-17 02:56:10 -0400 (Wed, 17 Oct 2018) |
| EndedAt: 2018-10-17 03:06:41 -0400 (Wed, 17 Oct 2018) |
| EllapsedTime: 631.6 seconds |
| RetCode: 0 |
| Status: OK |
| CheckDir: KEGGREST.Rcheck |
| Warnings: 0 |
##############################################################################
##############################################################################
###
### Running command:
###
### C:\Users\biocbuild\bbs-3.7-bioc\R\bin\R.exe CMD check --force-multiarch --install=check:KEGGREST.install-out.txt --library=C:\Users\biocbuild\bbs-3.7-bioc\R\library --no-vignettes --timings KEGGREST_1.20.2.tar.gz
###
##############################################################################
##############################################################################
* using log directory 'C:/Users/biocbuild/bbs-3.7-bioc/meat/KEGGREST.Rcheck'
* using R version 3.5.1 Patched (2018-07-24 r75005)
* using platform: x86_64-w64-mingw32 (64-bit)
* using session charset: ISO8859-1
* using option '--no-vignettes'
* checking for file 'KEGGREST/DESCRIPTION' ... OK
* this is package 'KEGGREST' version '1.20.2'
* checking package namespace information ... OK
* checking package dependencies ... OK
* checking if this is a source package ... OK
* checking if there is a namespace ... OK
* checking for hidden files and directories ... OK
* checking for portable file names ... OK
* checking whether package 'KEGGREST' can be installed ... OK
* checking installed package size ... OK
* checking package directory ... OK
* checking 'build' directory ... OK
* checking DESCRIPTION meta-information ... OK
* checking top-level files ... OK
* checking for left-over files ... OK
* checking index information ... OK
* checking package subdirectories ... OK
* checking R files for non-ASCII characters ... OK
* checking R files for syntax errors ... OK
* loading checks for arch 'i386'
** checking whether the package can be loaded ... OK
** checking whether the package can be loaded with stated dependencies ... OK
** checking whether the package can be unloaded cleanly ... OK
** checking whether the namespace can be loaded with stated dependencies ... OK
** checking whether the namespace can be unloaded cleanly ... OK
* loading checks for arch 'x64'
** checking whether the package can be loaded ... OK
** checking whether the package can be loaded with stated dependencies ... OK
** checking whether the package can be unloaded cleanly ... OK
** checking whether the namespace can be loaded with stated dependencies ... OK
** checking whether the namespace can be unloaded cleanly ... OK
* checking dependencies in R code ... NOTE
Unexported object imported by a ':::' call: 'BiocGenerics:::testPackage'
See the note in ?`:::` about the use of this operator.
* checking S3 generic/method consistency ... OK
* checking replacement functions ... OK
* checking foreign function calls ... OK
* checking R code for possible problems ... OK
* checking Rd files ... OK
* checking Rd metadata ... OK
* checking Rd cross-references ... OK
* checking for missing documentation entries ... OK
* checking for code/documentation mismatches ... OK
* checking Rd \usage sections ... OK
* checking Rd contents ... OK
* checking for unstated dependencies in examples ... OK
* checking files in 'vignettes' ... OK
* checking examples ...
** running examples for arch 'i386' ... OK
Examples with CPU or elapsed time > 5s
user system elapsed
listDatabases 8.07 1.31 62.89
keggList 7.06 1.25 61.26
keggLink 1.44 0.31 21.47
mark.pathway.by.objects 0.40 0.05 11.28
keggConv 0.35 0.07 6.37
** running examples for arch 'x64' ... OK
Examples with CPU or elapsed time > 5s
user system elapsed
listDatabases 6.89 1.25 33.22
keggList 6.35 1.63 52.39
keggLink 1.03 0.39 29.74
mark.pathway.by.objects 0.23 0.01 8.45
* checking for unstated dependencies in 'tests' ... OK
* checking tests ...
** running tests for arch 'i386' ...
Running 'KEGGREST_unit_tests.R'
OK
** running tests for arch 'x64' ...
Running 'KEGGREST_unit_tests.R'
OK
* checking for unstated dependencies in vignettes ... OK
* checking package vignettes in 'inst/doc' ... OK
* checking running R code from vignettes ... SKIPPED
* checking re-building of vignette outputs ... SKIPPED
* checking PDF version of manual ... OK
* DONE
Status: 1 NOTE
See
'C:/Users/biocbuild/bbs-3.7-bioc/meat/KEGGREST.Rcheck/00check.log'
for details.
KEGGREST.Rcheck/00install.out
##############################################################################
##############################################################################
###
### Running command:
###
### C:\cygwin\bin\curl.exe -O https://malbec2.bioconductor.org/BBS/3.7/bioc/src/contrib/KEGGREST_1.20.2.tar.gz && rm -rf KEGGREST.buildbin-libdir && mkdir KEGGREST.buildbin-libdir && C:\Users\biocbuild\bbs-3.7-bioc\R\bin\R.exe CMD INSTALL --merge-multiarch --build --library=KEGGREST.buildbin-libdir KEGGREST_1.20.2.tar.gz && C:\Users\biocbuild\bbs-3.7-bioc\R\bin\R.exe CMD INSTALL KEGGREST_1.20.2.zip && rm KEGGREST_1.20.2.tar.gz KEGGREST_1.20.2.zip
###
##############################################################################
##############################################################################
% Total % Received % Xferd Average Speed Time Time Time Current
Dload Upload Total Spent Left Speed
0 0 0 0 0 0 0 0 --:--:-- --:--:-- --:--:-- 0
100 14145 100 14145 0 0 244k 0 --:--:-- --:--:-- --:--:-- 276k
install for i386
* installing *source* package 'KEGGREST' ...
** R
** inst
** byte-compile and prepare package for lazy loading
** help
*** installing help indices
converting help for package 'KEGGREST'
finding HTML links ... done
keggConv html
keggFind html
keggGet html
keggInfo html
keggLink html
keggList html
listDatabases html
mark.pathway.by.objects html
** building package indices
** installing vignettes
** testing if installed package can be loaded
In R CMD INSTALL
install for x64
* installing *source* package 'KEGGREST' ...
** testing if installed package can be loaded
* MD5 sums
packaged installation of 'KEGGREST' as KEGGREST_1.20.2.zip
* DONE (KEGGREST)
In R CMD INSTALL
In R CMD INSTALL
* installing to library 'C:/Users/biocbuild/bbs-3.7-bioc/R/library'
package 'KEGGREST' successfully unpacked and MD5 sums checked
In R CMD INSTALL
|
KEGGREST.Rcheck/tests_i386/KEGGREST_unit_tests.Rout
R version 3.5.1 Patched (2018-07-24 r75005) -- "Feather Spray"
Copyright (C) 2018 The R Foundation for Statistical Computing
Platform: i386-w64-mingw32/i386 (32-bit)
R is free software and comes with ABSOLUTELY NO WARRANTY.
You are welcome to redistribute it under certain conditions.
Type 'license()' or 'licence()' for distribution details.
R is a collaborative project with many contributors.
Type 'contributors()' for more information and
'citation()' on how to cite R or R packages in publications.
Type 'demo()' for some demos, 'help()' for on-line help, or
'help.start()' for an HTML browser interface to help.
Type 'q()' to quit R.
> BiocGenerics:::testPackage("KEGGREST")
No encoding supplied: defaulting to UTF-8.
RUNIT TEST PROTOCOL -- Wed Oct 17 03:04:44 2018
***********************************************
Number of test functions: 11
Number of errors: 0
Number of failures: 0
1 Test Suite :
KEGGREST RUnit Tests - 11 test functions, 0 errors, 0 failures
Number of test functions: 11
Number of errors: 0
Number of failures: 0
>
> proc.time()
user system elapsed
18.09 1.73 107.03
|
KEGGREST.Rcheck/tests_x64/KEGGREST_unit_tests.Rout
R version 3.5.1 Patched (2018-07-24 r75005) -- "Feather Spray"
Copyright (C) 2018 The R Foundation for Statistical Computing
Platform: x86_64-w64-mingw32/x64 (64-bit)
R is free software and comes with ABSOLUTELY NO WARRANTY.
You are welcome to redistribute it under certain conditions.
Type 'license()' or 'licence()' for distribution details.
R is a collaborative project with many contributors.
Type 'contributors()' for more information and
'citation()' on how to cite R or R packages in publications.
Type 'demo()' for some demos, 'help()' for on-line help, or
'help.start()' for an HTML browser interface to help.
Type 'q()' to quit R.
> BiocGenerics:::testPackage("KEGGREST")
No encoding supplied: defaulting to UTF-8.
RUNIT TEST PROTOCOL -- Wed Oct 17 03:06:37 2018
***********************************************
Number of test functions: 11
Number of errors: 0
Number of failures: 0
1 Test Suite :
KEGGREST RUnit Tests - 11 test functions, 0 errors, 0 failures
Number of test functions: 11
Number of errors: 0
Number of failures: 0
>
> proc.time()
user system elapsed
16.90 1.87 112.78
|
|
KEGGREST.Rcheck/examples_i386/KEGGREST-Ex.timings
|
KEGGREST.Rcheck/examples_x64/KEGGREST-Ex.timings
|