| Back to Multiple platform build/check report for BioC 3.7 |
|
This page was generated on 2018-10-17 08:34:01 -0400 (Wed, 17 Oct 2018).
| Package 770/1561 | Hostname | OS / Arch | INSTALL | BUILD | CHECK | BUILD BIN | ||||||
| KCsmart 2.38.0 Jorma de Ronde
| malbec2 | Linux (Ubuntu 16.04.1 LTS) / x86_64 | OK | OK | WARNINGS | |||||||
| tokay2 | Windows Server 2012 R2 Standard / x64 | OK | OK | WARNINGS | [ OK ] | |||||||
| merida2 | OS X 10.11.6 El Capitan / x86_64 | OK | OK | WARNINGS | OK |
| Package: KCsmart |
| Version: 2.38.0 |
| Command: rm -rf KCsmart.buildbin-libdir && mkdir KCsmart.buildbin-libdir && C:\Users\biocbuild\bbs-3.7-bioc\R\bin\R.exe CMD INSTALL --merge-multiarch --build --library=KCsmart.buildbin-libdir KCsmart_2.38.0.tar.gz |
| StartedAt: 2018-10-17 06:36:08 -0400 (Wed, 17 Oct 2018) |
| EndedAt: 2018-10-17 06:36:24 -0400 (Wed, 17 Oct 2018) |
| EllapsedTime: 16.7 seconds |
| RetCode: 0 |
| Status: OK |
| PackageFile: KCsmart_2.38.0.zip |
| PackageFileSize: 2.156 MiB |
##############################################################################
##############################################################################
###
### Running command:
###
### rm -rf KCsmart.buildbin-libdir && mkdir KCsmart.buildbin-libdir && C:\Users\biocbuild\bbs-3.7-bioc\R\bin\R.exe CMD INSTALL --merge-multiarch --build --library=KCsmart.buildbin-libdir KCsmart_2.38.0.tar.gz
###
##############################################################################
##############################################################################
install for i386
* installing *source* package 'KCsmart' ...
** R
** data
** inst
** byte-compile and prepare package for lazy loading
Creating a generic function for 'write.table' from package 'utils' in package 'KCsmart'
** help
*** installing help indices
converting help for package 'KCsmart'
finding HTML links ... done
KCData-class html
KCsmart-package html
KcghData-class html
KcghDataMirror-class html
KcghDataSplit-class html
KcghDataSum-class html
calcSpm html
calcSpmCollection html
compKc-class html
compKcSigRegions-class html
compareSpmCollection html
findSigLevelFdr html
findSigLevelTrad html
getSigRegionsCompKC html
getSigSegments html
hsMirrorLocs html
hsSampleData html
idPoints html
mmMirrorLocs html
plot html
plotScaleSpace html
probeAnnotation-class html
samplePointMatrix-class html
sigSegments-class html
spmCollection-class html
write.table html
** building package indices
** installing vignettes
** testing if installed package can be loaded
In R CMD INSTALL
install for x64
* installing *source* package 'KCsmart' ...
** testing if installed package can be loaded
* MD5 sums
packaged installation of 'KCsmart' as KCsmart_2.38.0.zip
* DONE (KCsmart)
In R CMD INSTALL
In R CMD INSTALL