| Back to Multiple platform build/check report for BioC 3.7 |
|
This page was generated on 2018-10-17 08:39:24 -0400 (Wed, 17 Oct 2018).
| Package 716/1561 | Hostname | OS / Arch | INSTALL | BUILD | CHECK | BUILD BIN | ||||||
| IdeoViz 1.16.0 Shraddha Pai
| malbec2 | Linux (Ubuntu 16.04.1 LTS) / x86_64 | OK | OK | WARNINGS | |||||||
| tokay2 | Windows Server 2012 R2 Standard / x64 | [ OK ] | OK | WARNINGS | OK | |||||||
| merida2 | OS X 10.11.6 El Capitan / x86_64 | OK | OK | WARNINGS | OK |
| Package: IdeoViz |
| Version: 1.16.0 |
| Command: C:\cygwin\bin\curl.exe -O https://malbec2.bioconductor.org/BBS/3.7/bioc/src/contrib/IdeoViz_1.16.0.tar.gz && rm -rf IdeoViz.buildbin-libdir && mkdir IdeoViz.buildbin-libdir && C:\Users\biocbuild\bbs-3.7-bioc\R\bin\R.exe CMD INSTALL --merge-multiarch --build --library=IdeoViz.buildbin-libdir IdeoViz_1.16.0.tar.gz && C:\Users\biocbuild\bbs-3.7-bioc\R\bin\R.exe CMD INSTALL IdeoViz_1.16.0.zip && rm IdeoViz_1.16.0.tar.gz IdeoViz_1.16.0.zip |
| StartedAt: 2018-10-16 19:54:13 -0400 (Tue, 16 Oct 2018) |
| EndedAt: 2018-10-16 19:54:42 -0400 (Tue, 16 Oct 2018) |
| EllapsedTime: 28.3 seconds |
| RetCode: 0 |
| Status: OK |
##############################################################################
##############################################################################
###
### Running command:
###
### C:\cygwin\bin\curl.exe -O https://malbec2.bioconductor.org/BBS/3.7/bioc/src/contrib/IdeoViz_1.16.0.tar.gz && rm -rf IdeoViz.buildbin-libdir && mkdir IdeoViz.buildbin-libdir && C:\Users\biocbuild\bbs-3.7-bioc\R\bin\R.exe CMD INSTALL --merge-multiarch --build --library=IdeoViz.buildbin-libdir IdeoViz_1.16.0.tar.gz && C:\Users\biocbuild\bbs-3.7-bioc\R\bin\R.exe CMD INSTALL IdeoViz_1.16.0.zip && rm IdeoViz_1.16.0.tar.gz IdeoViz_1.16.0.zip
###
##############################################################################
##############################################################################
% Total % Received % Xferd Average Speed Time Time Time Current
Dload Upload Total Spent Left Speed
0 0 0 0 0 0 0 0 --:--:-- --:--:-- --:--:-- 0
100 439k 100 439k 0 0 7081k 0 --:--:-- --:--:-- --:--:-- 7844k
install for i386
* installing *source* package 'IdeoViz' ...
** R
** data
** inst
** byte-compile and prepare package for lazy loading
** help
*** installing help indices
converting help for package 'IdeoViz'
finding HTML links ... done
GSM733664_broadPeaks html
IdeoViz-package html
avgByBin html
binned_fullGenome html
binned_multiSeries html
binned_singleSeries html
getBins html
getIdeo html
hg18_ideo html
plotChromValuePair html
plotOnIdeo html
wins html
wins_discrete html
wins_entiregenome html
** building package indices
** installing vignettes
** testing if installed package can be loaded
In R CMD INSTALL
install for x64
* installing *source* package 'IdeoViz' ...
** testing if installed package can be loaded
* MD5 sums
packaged installation of 'IdeoViz' as IdeoViz_1.16.0.zip
* DONE (IdeoViz)
In R CMD INSTALL
In R CMD INSTALL
* installing to library 'C:/Users/biocbuild/bbs-3.7-bioc/R/library'
package 'IdeoViz' successfully unpacked and MD5 sums checked
In R CMD INSTALL