| Back to Multiple platform build/check report for BioC 3.7 |
|
This page was generated on 2018-10-17 08:43:13 -0400 (Wed, 17 Oct 2018).
| Package 766/1561 | Hostname | OS / Arch | INSTALL | BUILD | CHECK | BUILD BIN | ||||||
| IWTomics 1.4.0 Marzia A Cremona
| malbec2 | Linux (Ubuntu 16.04.1 LTS) / x86_64 | OK | OK | WARNINGS | |||||||
| tokay2 | Windows Server 2012 R2 Standard / x64 | OK | OK | WARNINGS | [ OK ] | |||||||
| merida2 | OS X 10.11.6 El Capitan / x86_64 | OK | OK | WARNINGS | OK |
| Package: IWTomics |
| Version: 1.4.0 |
| Command: rm -rf IWTomics.buildbin-libdir && mkdir IWTomics.buildbin-libdir && C:\Users\biocbuild\bbs-3.7-bioc\R\bin\R.exe CMD INSTALL --merge-multiarch --build --library=IWTomics.buildbin-libdir IWTomics_1.4.0.tar.gz |
| StartedAt: 2018-10-17 06:36:00 -0400 (Wed, 17 Oct 2018) |
| EndedAt: 2018-10-17 06:36:20 -0400 (Wed, 17 Oct 2018) |
| EllapsedTime: 20.5 seconds |
| RetCode: 0 |
| Status: OK |
| PackageFile: IWTomics_1.4.0.zip |
| PackageFileSize: 1.619 MiB |
##############################################################################
##############################################################################
###
### Running command:
###
### rm -rf IWTomics.buildbin-libdir && mkdir IWTomics.buildbin-libdir && C:\Users\biocbuild\bbs-3.7-bioc\R\bin\R.exe CMD INSTALL --merge-multiarch --build --library=IWTomics.buildbin-libdir IWTomics_1.4.0.tar.gz
###
##############################################################################
##############################################################################
install for i386
* installing *source* package 'IWTomics' ...
** R
** data
** inst
** byte-compile and prepare package for lazy loading
Creating a new generic function for 'smooth' in package 'IWTomics'
** help
*** installing help indices
converting help for package 'IWTomics'
finding HTML links ... done
ETn_example html
IWTomics-internal html
IWTomics-package html
IWTomicsData-class html
Rd warning: C:/Users/biocbuild/bbs-3.7-bioc/tmpdir/RtmpYpoiAx/R.INSTALL180c4f38230f/IWTomics/man/IWTomicsData-class.Rd:60: file link 'GRangesList' in package 'GenomicRanges' does not exist and so has been treated as a topic
Rd warning: C:/Users/biocbuild/bbs-3.7-bioc/tmpdir/RtmpYpoiAx/R.INSTALL180c4f38230f/IWTomics/man/IWTomicsData-class.Rd:135: file link 'GRangesList' in package 'GenomicRanges' does not exist and so has been treated as a topic
Rd warning: C:/Users/biocbuild/bbs-3.7-bioc/tmpdir/RtmpYpoiAx/R.INSTALL180c4f38230f/IWTomics/man/IWTomicsData-class.Rd:168: file link 'read.delim' in package 'utils' does not exist and so has been treated as a topic
Rd warning: C:/Users/biocbuild/bbs-3.7-bioc/tmpdir/RtmpYpoiAx/R.INSTALL180c4f38230f/IWTomics/man/IWTomicsData-class.Rd:308: file link 'plot' in package 'IWTomics' does not exist and so has been treated as a topic
Rd warning: C:/Users/biocbuild/bbs-3.7-bioc/tmpdir/RtmpYpoiAx/R.INSTALL180c4f38230f/IWTomics/man/IWTomicsData-class.Rd:309: file link 'smooth' in package 'IWTomics' does not exist and so has been treated as a topic
IWTomicsTest html
Rd warning: C:/Users/biocbuild/bbs-3.7-bioc/tmpdir/RtmpYpoiAx/R.INSTALL180c4f38230f/IWTomics/man/IWTomicsTest.Rd:61: file link 'smooth' in package 'IWTomics' does not exist and so has been treated as a topic
Rd warning: C:/Users/biocbuild/bbs-3.7-bioc/tmpdir/RtmpYpoiAx/R.INSTALL180c4f38230f/IWTomics/man/IWTomicsTest.Rd:64: file link 'smooth' in package 'IWTomics' does not exist and so has been treated as a topic
Rd warning: C:/Users/biocbuild/bbs-3.7-bioc/tmpdir/RtmpYpoiAx/R.INSTALL180c4f38230f/IWTomics/man/IWTomicsTest.Rd:79: file link 'plot' in package 'IWTomics' does not exist and so has been treated as a topic
Rd warning: C:/Users/biocbuild/bbs-3.7-bioc/tmpdir/RtmpYpoiAx/R.INSTALL180c4f38230f/IWTomics/man/IWTomicsTest.Rd:80: file link 'smooth' in package 'IWTomics' does not exist and so has been treated as a topic
features_example html
plot-IWTomicsData html
Rd warning: C:/Users/biocbuild/bbs-3.7-bioc/tmpdir/RtmpYpoiAx/R.INSTALL180c4f38230f/IWTomics/man/plot-IWTomicsData.Rd:96: file link 'smooth' in package 'IWTomics' does not exist and so has been treated as a topic
plotSummary html
plotTest html
regionsFeatures_center html
regionsFeatures_scale html
regions_example html
Rd warning: C:/Users/biocbuild/bbs-3.7-bioc/tmpdir/RtmpYpoiAx/R.INSTALL180c4f38230f/IWTomics/man/regions_example.Rd:19: file link 'GRangesList' in package 'GenomicRanges' does not exist and so has been treated as a topic
Rd warning: C:/Users/biocbuild/bbs-3.7-bioc/tmpdir/RtmpYpoiAx/R.INSTALL180c4f38230f/IWTomics/man/regions_example.Rd:15: file link 'GRangesList' in package 'GenomicRanges' does not exist and so has been treated as a topic
smooth-IWTomicsData html
Rd warning: C:/Users/biocbuild/bbs-3.7-bioc/tmpdir/RtmpYpoiAx/R.INSTALL180c4f38230f/IWTomics/man/smooth-IWTomicsData.Rd:78: file link 'plot' in package 'IWTomics' does not exist and so has been treated as a topic
** building package indices
** installing vignettes
** testing if installed package can be loaded
In R CMD INSTALL
install for x64
* installing *source* package 'IWTomics' ...
** testing if installed package can be loaded
* MD5 sums
packaged installation of 'IWTomics' as IWTomics_1.4.0.zip
* DONE (IWTomics)
In R CMD INSTALL
In R CMD INSTALL