| Back to Multiple platform build/check report for BioC 3.7 |
|
This page was generated on 2018-10-17 08:33:55 -0400 (Wed, 17 Oct 2018).
| Package 759/1561 | Hostname | OS / Arch | INSTALL | BUILD | CHECK | BUILD BIN | ||||||
| ITALICS 2.40.0 Guillem Rigaill
| malbec2 | Linux (Ubuntu 16.04.1 LTS) / x86_64 | OK | OK | OK | |||||||
| tokay2 | Windows Server 2012 R2 Standard / x64 | [ OK ] | OK | OK | OK | |||||||
| merida2 | OS X 10.11.6 El Capitan / x86_64 | OK | OK | OK | OK |
| Package: ITALICS |
| Version: 2.40.0 |
| Command: C:\cygwin\bin\curl.exe -O https://malbec2.bioconductor.org/BBS/3.7/bioc/src/contrib/ITALICS_2.40.0.tar.gz && rm -rf ITALICS.buildbin-libdir && mkdir ITALICS.buildbin-libdir && C:\Users\biocbuild\bbs-3.7-bioc\R\bin\R.exe CMD INSTALL --merge-multiarch --build --library=ITALICS.buildbin-libdir ITALICS_2.40.0.tar.gz && C:\Users\biocbuild\bbs-3.7-bioc\R\bin\R.exe CMD INSTALL ITALICS_2.40.0.zip && rm ITALICS_2.40.0.tar.gz ITALICS_2.40.0.zip |
| StartedAt: 2018-10-16 19:47:12 -0400 (Tue, 16 Oct 2018) |
| EndedAt: 2018-10-16 19:47:54 -0400 (Tue, 16 Oct 2018) |
| EllapsedTime: 42.0 seconds |
| RetCode: 0 |
| Status: OK |
##############################################################################
##############################################################################
###
### Running command:
###
### C:\cygwin\bin\curl.exe -O https://malbec2.bioconductor.org/BBS/3.7/bioc/src/contrib/ITALICS_2.40.0.tar.gz && rm -rf ITALICS.buildbin-libdir && mkdir ITALICS.buildbin-libdir && C:\Users\biocbuild\bbs-3.7-bioc\R\bin\R.exe CMD INSTALL --merge-multiarch --build --library=ITALICS.buildbin-libdir ITALICS_2.40.0.tar.gz && C:\Users\biocbuild\bbs-3.7-bioc\R\bin\R.exe CMD INSTALL ITALICS_2.40.0.zip && rm ITALICS_2.40.0.tar.gz ITALICS_2.40.0.zip
###
##############################################################################
##############################################################################
% Total % Received % Xferd Average Speed Time Time Time Current
Dload Upload Total Spent Left Speed
0 0 0 0 0 0 0 0 --:--:-- --:--:-- --:--:-- 0
100 121k 100 121k 0 0 2300k 0 --:--:-- --:--:-- --:--:-- 2587k
install for i386
* installing *source* package 'ITALICS' ...
** R
** inst
** byte-compile and prepare package for lazy loading
** help
*** installing help indices
converting help for package 'ITALICS'
finding HTML links ... done
GLAD.GLAD html
ITALICSNew html
ITALICSTrain html
Model.GetConfDat html
Model.GetCorrection html
Model.GetEffet html
Model.GetModel html
Model.GetResidu html
New.AddInfo html
New.fromQuartetToSnp html
New.fromSnpToQuartet html
New.getQuartet html
New.getSnpInfo html
New.readQuartetCopyNb html
** building package indices
** installing vignettes
** testing if installed package can be loaded
In R CMD INSTALL
install for x64
* installing *source* package 'ITALICS' ...
** testing if installed package can be loaded
* MD5 sums
packaged installation of 'ITALICS' as ITALICS_2.40.0.zip
* DONE (ITALICS)
In R CMD INSTALL
In R CMD INSTALL
* installing to library 'C:/Users/biocbuild/bbs-3.7-bioc/R/library'
package 'ITALICS' successfully unpacked and MD5 sums checked
In R CMD INSTALL