| Back to Multiple platform build/check report for BioC 3.7 |
|
This page was generated on 2018-10-17 08:40:44 -0400 (Wed, 17 Oct 2018).
| Package 746/1561 | Hostname | OS / Arch | INSTALL | BUILD | CHECK | BUILD BIN | ||||||
| IONiseR 2.4.0 Mike Smith
| malbec2 | Linux (Ubuntu 16.04.1 LTS) / x86_64 | OK | OK | OK | |||||||
| tokay2 | Windows Server 2012 R2 Standard / x64 | [ OK ] | OK | OK | OK | |||||||
| merida2 | OS X 10.11.6 El Capitan / x86_64 | OK | OK | OK | OK |
| Package: IONiseR |
| Version: 2.4.0 |
| Command: C:\cygwin\bin\curl.exe -O https://malbec2.bioconductor.org/BBS/3.7/bioc/src/contrib/IONiseR_2.4.0.tar.gz && rm -rf IONiseR.buildbin-libdir && mkdir IONiseR.buildbin-libdir && C:\Users\biocbuild\bbs-3.7-bioc\R\bin\R.exe CMD INSTALL --merge-multiarch --build --library=IONiseR.buildbin-libdir IONiseR_2.4.0.tar.gz && C:\Users\biocbuild\bbs-3.7-bioc\R\bin\R.exe CMD INSTALL IONiseR_2.4.0.zip && rm IONiseR_2.4.0.tar.gz IONiseR_2.4.0.zip |
| StartedAt: 2018-10-16 19:48:16 -0400 (Tue, 16 Oct 2018) |
| EndedAt: 2018-10-16 19:49:29 -0400 (Tue, 16 Oct 2018) |
| EllapsedTime: 73.7 seconds |
| RetCode: 0 |
| Status: OK |
##############################################################################
##############################################################################
###
### Running command:
###
### C:\cygwin\bin\curl.exe -O https://malbec2.bioconductor.org/BBS/3.7/bioc/src/contrib/IONiseR_2.4.0.tar.gz && rm -rf IONiseR.buildbin-libdir && mkdir IONiseR.buildbin-libdir && C:\Users\biocbuild\bbs-3.7-bioc\R\bin\R.exe CMD INSTALL --merge-multiarch --build --library=IONiseR.buildbin-libdir IONiseR_2.4.0.tar.gz && C:\Users\biocbuild\bbs-3.7-bioc\R\bin\R.exe CMD INSTALL IONiseR_2.4.0.zip && rm IONiseR_2.4.0.tar.gz IONiseR_2.4.0.zip
###
##############################################################################
##############################################################################
% Total % Received % Xferd Average Speed Time Time Time Current
Dload Upload Total Spent Left Speed
0 0 0 0 0 0 0 0 --:--:-- --:--:-- --:--:-- 0
100 1153k 100 1153k 0 0 15.9M 0 --:--:-- --:--:-- --:--:-- 17.6M
install for i386
* installing *source* package 'IONiseR' ...
** R
** inst
** byte-compile and prepare package for lazy loading
** help
*** installing help indices
converting help for package 'IONiseR'
finding HTML links ... done
Fast5Summary-class html
IONiseR html
baseCalled html
channelActivityPlot html
channelHeatmap html
eventData html
fast5toFastq html
fastq html
fastq2D html
fastqComplement html
fastqTemplate html
layoutPlot html
muxHeatmap html
plotActiveChannels html
plotBaseProductionRate html
plotCurrentByTime html
plotEventRate html
plotKmerFrequencyCorrelation html
plotReadAccumulation html
plotReadCategoryCounts html
plotReadCategoryQuals html
plotReadTypeProduction html
readFast5Log html
readFast5Summary html
readInfo html
** building package indices
** installing vignettes
** testing if installed package can be loaded
In R CMD INSTALL
install for x64
* installing *source* package 'IONiseR' ...
** testing if installed package can be loaded
* MD5 sums
packaged installation of 'IONiseR' as IONiseR_2.4.0.zip
* DONE (IONiseR)
In R CMD INSTALL
In R CMD INSTALL
* installing to library 'C:/Users/biocbuild/bbs-3.7-bioc/R/library'
package 'IONiseR' successfully unpacked and MD5 sums checked
In R CMD INSTALL