| Back to Multiple platform build/check report for BioC 3.7 |
|
This page was generated on 2018-10-17 08:36:08 -0400 (Wed, 17 Oct 2018).
| Package 701/1561 | Hostname | OS / Arch | INSTALL | BUILD | CHECK | BUILD BIN | ||||||
| HybridMTest 1.24.0 Demba Fofana
| malbec2 | Linux (Ubuntu 16.04.1 LTS) / x86_64 | OK | OK | OK | |||||||
| tokay2 | Windows Server 2012 R2 Standard / x64 | OK | OK | WARNINGS | [ OK ] | |||||||
| merida2 | OS X 10.11.6 El Capitan / x86_64 | OK | OK | OK | OK |
| Package: HybridMTest |
| Version: 1.24.0 |
| Command: rm -rf HybridMTest.buildbin-libdir && mkdir HybridMTest.buildbin-libdir && C:\Users\biocbuild\bbs-3.7-bioc\R\bin\R.exe CMD INSTALL --merge-multiarch --build --library=HybridMTest.buildbin-libdir HybridMTest_1.24.0.tar.gz |
| StartedAt: 2018-10-17 06:31:38 -0400 (Wed, 17 Oct 2018) |
| EndedAt: 2018-10-17 06:33:15 -0400 (Wed, 17 Oct 2018) |
| EllapsedTime: 96.3 seconds |
| RetCode: 0 |
| Status: OK |
| PackageFile: HybridMTest_1.24.0.zip |
| PackageFileSize: 284.4 KiB |
##############################################################################
##############################################################################
###
### Running command:
###
### rm -rf HybridMTest.buildbin-libdir && mkdir HybridMTest.buildbin-libdir && C:\Users\biocbuild\bbs-3.7-bioc\R\bin\R.exe CMD INSTALL --merge-multiarch --build --library=HybridMTest.buildbin-libdir HybridMTest_1.24.0.tar.gz
###
##############################################################################
##############################################################################
install for i386
* installing *source* package 'HybridMTest' ...
** R
** data
** inst
** byte-compile and prepare package for lazy loading
** help
*** installing help indices
converting help for package 'HybridMTest'
finding HTML links ... done
GroupComp.data html
Rd warning: C:/Users/biocbuild/bbs-3.7-bioc/tmpdir/Rtmp2JQUQI/R.INSTALL1dc8731a54bf/HybridMTest/man/GroupComp.data.Rd:30: file link 'ExpressionSet' in package 'Biobase' does not exist and so has been treated as a topic
HybridMTest-package html
correlation.data html
Rd warning: C:/Users/biocbuild/bbs-3.7-bioc/tmpdir/Rtmp2JQUQI/R.INSTALL1dc8731a54bf/HybridMTest/man/correlation.data.Rd:28: file link 'ExpressionSet' in package 'Biobase' does not exist and so has been treated as a topic
grenander.ebp html
hybrid.test html
row.kgrp.shapiro html
row.kruskal.wallis html
row.oneway.anova html
row.pearson html
row.slr.shapiro html
row.spearman html
** building package indices
** installing vignettes
** testing if installed package can be loaded
In R CMD INSTALL
install for x64
* installing *source* package 'HybridMTest' ...
** testing if installed package can be loaded
* MD5 sums
packaged installation of 'HybridMTest' as HybridMTest_1.24.0.zip
* DONE (HybridMTest)
In R CMD INSTALL
In R CMD INSTALL