| Back to Multiple platform build/check report for BioC 3.7 |
|
This page was generated on 2018-10-17 08:21:15 -0400 (Wed, 17 Oct 2018).
| Package 680/1561 | Hostname | OS / Arch | INSTALL | BUILD | CHECK | BUILD BIN | ||||||
| HEM 1.52.0 HyungJun Cho
| malbec2 | Linux (Ubuntu 16.04.1 LTS) / x86_64 | [ OK ] | OK | OK | |||||||
| tokay2 | Windows Server 2012 R2 Standard / x64 | OK | OK | OK | OK | |||||||
| merida2 | OS X 10.11.6 El Capitan / x86_64 | OK | OK | OK | OK |
| Package: HEM |
| Version: 1.52.0 |
| Command: /home/biocbuild/bbs-3.7-bioc/R/bin/R CMD INSTALL HEM |
| StartedAt: 2018-10-15 17:57:53 -0400 (Mon, 15 Oct 2018) |
| EndedAt: 2018-10-15 17:57:58 -0400 (Mon, 15 Oct 2018) |
| EllapsedTime: 5.0 seconds |
| RetCode: 0 |
| Status: OK |
##############################################################################
##############################################################################
###
### Running command:
###
### /home/biocbuild/bbs-3.7-bioc/R/bin/R CMD INSTALL HEM
###
##############################################################################
##############################################################################
* installing to library ‘/home/biocbuild/bbs-3.7-bioc/R/library’
* installing *source* package ‘HEM’ ...
** libs
gcc -I"/home/biocbuild/bbs-3.7-bioc/R/include" -DNDEBUG -I/usr/local/include -fpic -g -O2 -Wall -c hem.c -o hem.o
hem.c: In function ‘onelayerhem’:
hem.c:1390:12: warning: variable ‘k’ set but not used [-Wunused-but-set-variable]
int i, j, k, m, n;
^
hem.c: In function ‘chk_prt’:
hem.c:1593:16: warning: variable ‘l’ set but not used [-Wunused-but-set-variable]
int i, j, k, l;
^
gcc -shared -L/home/biocbuild/bbs-3.7-bioc/R/lib -L/usr/local/lib -o HEM.so hem.o -L/home/biocbuild/bbs-3.7-bioc/R/lib -lR
installing to /home/biocbuild/bbs-3.7-bioc/R/library/HEM/libs
** R
** data
** byte-compile and prepare package for lazy loading
** help
*** installing help indices
** building package indices
** installing vignettes
** testing if installed package can be loaded
* DONE (HEM)