| Back to Multiple platform build/check report for BioC 3.7 |
|
This page was generated on 2018-10-17 08:38:40 -0400 (Wed, 17 Oct 2018).
| Package 675/1561 | Hostname | OS / Arch | INSTALL | BUILD | CHECK | BUILD BIN | ||||||
| HDTD 1.14.0 Anestis Touloumis
| malbec2 | Linux (Ubuntu 16.04.1 LTS) / x86_64 | OK | OK | OK | |||||||
| tokay2 | Windows Server 2012 R2 Standard / x64 | OK | OK | OK | [ OK ] | |||||||
| merida2 | OS X 10.11.6 El Capitan / x86_64 | OK | OK | OK | OK |
| Package: HDTD |
| Version: 1.14.0 |
| Command: rm -rf HDTD.buildbin-libdir && mkdir HDTD.buildbin-libdir && C:\Users\biocbuild\bbs-3.7-bioc\R\bin\R.exe CMD INSTALL --merge-multiarch --build --library=HDTD.buildbin-libdir HDTD_1.14.0.tar.gz |
| StartedAt: 2018-10-17 06:29:58 -0400 (Wed, 17 Oct 2018) |
| EndedAt: 2018-10-17 06:31:25 -0400 (Wed, 17 Oct 2018) |
| EllapsedTime: 87.1 seconds |
| RetCode: 0 |
| Status: OK |
| PackageFile: HDTD_1.14.0.zip |
| PackageFileSize: 836.1 KiB |
##############################################################################
##############################################################################
###
### Running command:
###
### rm -rf HDTD.buildbin-libdir && mkdir HDTD.buildbin-libdir && C:\Users\biocbuild\bbs-3.7-bioc\R\bin\R.exe CMD INSTALL --merge-multiarch --build --library=HDTD.buildbin-libdir HDTD_1.14.0.tar.gz
###
##############################################################################
##############################################################################
install for i386
* installing *source* package 'HDTD' ...
** libs
C:/Rtools/mingw_32/bin/gcc -I"C:/Users/BIOCBU˜1/BBS-3˜1.7-B/R/include" -DNDEBUG -I"C:/Users/biocbuild/bbs-3.7-bioc/R/library/Rcpp/include" -I"C:/Users/biocbuild/bbs-3.7-bioc/R/library/RcppArmadillo/include" -I"C:/extsoft/include" -O3 -Wall -std=gnu99 -mtune=generic -c HDTD_init.c -o HDTD_init.o
C:/Rtools/mingw_32/bin/g++ -I"C:/Users/BIOCBU˜1/BBS-3˜1.7-B/R/include" -DNDEBUG -I"C:/Users/biocbuild/bbs-3.7-bioc/R/library/Rcpp/include" -I"C:/Users/biocbuild/bbs-3.7-bioc/R/library/RcppArmadillo/include" -I"C:/extsoft/include" -fopenmp -O2 -Wall -mtune=generic -c HDTDcpp.cpp -o HDTDcpp.o
C:/Rtools/mingw_32/bin/g++ -I"C:/Users/BIOCBU˜1/BBS-3˜1.7-B/R/include" -DNDEBUG -I"C:/Users/biocbuild/bbs-3.7-bioc/R/library/Rcpp/include" -I"C:/Users/biocbuild/bbs-3.7-bioc/R/library/RcppArmadillo/include" -I"C:/extsoft/include" -fopenmp -O2 -Wall -mtune=generic -c RcppExports.cpp -o RcppExports.o
C:/Rtools/mingw_32/bin/g++ -shared -s -static-libgcc -o HDTD.dll tmp.def HDTD_init.o HDTDcpp.o RcppExports.o -fopenmp -LC:/Users/BIOCBU˜1/BBS-3˜1.7-B/R/bin/i386 -lRlapack -LC:/Users/BIOCBU˜1/BBS-3˜1.7-B/R/bin/i386 -lRblas -lgfortran -lm -lquadmath -LC:/extsoft/lib/i386 -LC:/extsoft/lib -LC:/Users/BIOCBU˜1/BBS-3˜1.7-B/R/bin/i386 -lR
installing to C:/Users/biocbuild/bbs-3.7-bioc/meat/HDTD.buildbin-libdir/HDTD/libs/i386
** R
** data
*** moving datasets to lazyload DB
** inst
** byte-compile and prepare package for lazy loading
** help
*** installing help indices
converting help for package 'HDTD'
finding HTML links ... done
HDTD-package html
VEGFmouse html
centerdata html
covmat.hat html
covmat.ts html
meanmat.hat html
meanmat.ts html
orderdata html
transposedata html
** building package indices
** installing vignettes
** testing if installed package can be loaded
In R CMD INSTALL
install for x64
* installing *source* package 'HDTD' ...
** libs
C:/Rtools/mingw_64/bin/gcc -I"C:/Users/BIOCBU˜1/BBS-3˜1.7-B/R/include" -DNDEBUG -I"C:/Users/biocbuild/bbs-3.7-bioc/R/library/Rcpp/include" -I"C:/Users/biocbuild/bbs-3.7-bioc/R/library/RcppArmadillo/include" -I"C:/extsoft/include" -O2 -Wall -std=gnu99 -mtune=generic -c HDTD_init.c -o HDTD_init.o
C:/Rtools/mingw_64/bin/g++ -I"C:/Users/BIOCBU˜1/BBS-3˜1.7-B/R/include" -DNDEBUG -I"C:/Users/biocbuild/bbs-3.7-bioc/R/library/Rcpp/include" -I"C:/Users/biocbuild/bbs-3.7-bioc/R/library/RcppArmadillo/include" -I"C:/extsoft/include" -fopenmp -O2 -Wall -mtune=generic -c HDTDcpp.cpp -o HDTDcpp.o
C:/Rtools/mingw_64/bin/g++ -I"C:/Users/BIOCBU˜1/BBS-3˜1.7-B/R/include" -DNDEBUG -I"C:/Users/biocbuild/bbs-3.7-bioc/R/library/Rcpp/include" -I"C:/Users/biocbuild/bbs-3.7-bioc/R/library/RcppArmadillo/include" -I"C:/extsoft/include" -fopenmp -O2 -Wall -mtune=generic -c RcppExports.cpp -o RcppExports.o
C:/Rtools/mingw_64/bin/g++ -shared -s -static-libgcc -o HDTD.dll tmp.def HDTD_init.o HDTDcpp.o RcppExports.o -fopenmp -LC:/Users/BIOCBU˜1/BBS-3˜1.7-B/R/bin/x64 -lRlapack -LC:/Users/BIOCBU˜1/BBS-3˜1.7-B/R/bin/x64 -lRblas -lgfortran -lm -lquadmath -LC:/extsoft/lib/x64 -LC:/extsoft/lib -LC:/Users/BIOCBU˜1/BBS-3˜1.7-B/R/bin/x64 -lR
installing to C:/Users/biocbuild/bbs-3.7-bioc/meat/HDTD.buildbin-libdir/HDTD/libs/x64
** testing if installed package can be loaded
* MD5 sums
packaged installation of 'HDTD' as HDTD_1.14.0.zip
* DONE (HDTD)
In R CMD INSTALL
In R CMD INSTALL