| Back to Multiple platform build/check report for BioC 3.7 |
|
This page was generated on 2018-10-17 08:40:21 -0400 (Wed, 17 Oct 2018).
| Package 629/1561 | Hostname | OS / Arch | INSTALL | BUILD | CHECK | BUILD BIN | ||||||
| GoogleGenomics 2.2.0 Siddhartha Bagaria
| malbec2 | Linux (Ubuntu 16.04.1 LTS) / x86_64 | OK | OK | OK | |||||||
| tokay2 | Windows Server 2012 R2 Standard / x64 | [ OK ] | OK | WARNINGS | OK | |||||||
| merida2 | OS X 10.11.6 El Capitan / x86_64 | OK | OK | OK | OK |
| Package: GoogleGenomics |
| Version: 2.2.0 |
| Command: C:\cygwin\bin\curl.exe -O https://malbec2.bioconductor.org/BBS/3.7/bioc/src/contrib/GoogleGenomics_2.2.0.tar.gz && rm -rf GoogleGenomics.buildbin-libdir && mkdir GoogleGenomics.buildbin-libdir && C:\Users\biocbuild\bbs-3.7-bioc\R\bin\R.exe CMD INSTALL --merge-multiarch --build --library=GoogleGenomics.buildbin-libdir GoogleGenomics_2.2.0.tar.gz && C:\Users\biocbuild\bbs-3.7-bioc\R\bin\R.exe CMD INSTALL GoogleGenomics_2.2.0.zip && rm GoogleGenomics_2.2.0.tar.gz GoogleGenomics_2.2.0.zip |
| StartedAt: 2018-10-16 20:07:07 -0400 (Tue, 16 Oct 2018) |
| EndedAt: 2018-10-16 20:08:12 -0400 (Tue, 16 Oct 2018) |
| EllapsedTime: 64.4 seconds |
| RetCode: 0 |
| Status: OK |
##############################################################################
##############################################################################
###
### Running command:
###
### C:\cygwin\bin\curl.exe -O https://malbec2.bioconductor.org/BBS/3.7/bioc/src/contrib/GoogleGenomics_2.2.0.tar.gz && rm -rf GoogleGenomics.buildbin-libdir && mkdir GoogleGenomics.buildbin-libdir && C:\Users\biocbuild\bbs-3.7-bioc\R\bin\R.exe CMD INSTALL --merge-multiarch --build --library=GoogleGenomics.buildbin-libdir GoogleGenomics_2.2.0.tar.gz && C:\Users\biocbuild\bbs-3.7-bioc\R\bin\R.exe CMD INSTALL GoogleGenomics_2.2.0.zip && rm GoogleGenomics_2.2.0.tar.gz GoogleGenomics_2.2.0.zip
###
##############################################################################
##############################################################################
% Total % Received % Xferd Average Speed Time Time Time Current
Dload Upload Total Spent Left Speed
0 0 0 0 0 0 0 0 --:--:-- --:--:-- --:--:-- 0
100 101k 100 101k 0 0 1906k 0 --:--:-- --:--:-- --:--:-- 2207k
install for i386
* installing *source* package 'GoogleGenomics' ...
** libs
C:/Rtools/mingw_32/bin/g++ -I"C:/Users/BIOCBU˜1/BBS-3˜1.7-B/R/include" -DNDEBUG -I"C:/extsoft/include" -O2 -Wall -mtune=generic -c init.cc -o init.o
C:/Rtools/mingw_32/bin/g++ -shared -s -static-libgcc -o GoogleGenomics.dll tmp.def init.o -LC:/extsoft/lib/i386 -LC:/extsoft/lib -LC:/Users/BIOCBU˜1/BBS-3˜1.7-B/R/bin/i386 -lR
installing to C:/Users/biocbuild/bbs-3.7-bioc/meat/GoogleGenomics.buildbin-libdir/GoogleGenomics/libs/i386
** R
** byte-compile and prepare package for lazy loading
** help
*** installing help indices
converting help for package 'GoogleGenomics'
finding HTML links ... done
GoogleGenomics html
authenticate html
Rd warning: C:/Users/biocbuild/bbs-3.7-bioc/tmpdir/RtmpQnRXol/R.INSTALL1b3419b330c5/GoogleGenomics/man/authenticate.Rd:24: file link 'httpuv' in package 'httpuv' does not exist and so has been treated as a topic
callGRPCMethod html
Rd warning: C:/Users/biocbuild/bbs-3.7-bioc/tmpdir/RtmpQnRXol/R.INSTALL1b3419b330c5/GoogleGenomics/man/callGRPCMethod.Rd:15: file link 'RProtoBuf' in package 'RProtoBuf' does not exist and so has been treated as a topic
defaultGcloudCredsPath html
getRProtoBufDefaultObject html
Rd warning: C:/Users/biocbuild/bbs-3.7-bioc/tmpdir/RtmpQnRXol/R.INSTALL1b3419b330c5/GoogleGenomics/man/getRProtoBufDefaultObject.Rd:6: file link 'RProtoBuf' in package 'RProtoBuf' does not exist and so has been treated as a topic
getReads html
getReadsPage html
getSearchPage html
getVariantCalls html
getVariants html
getVariantsPage html
isGRPCAvailable html
readsToGAlignments html
Rd warning: C:/Users/biocbuild/bbs-3.7-bioc/tmpdir/RtmpQnRXol/R.INSTALL1b3419b330c5/GoogleGenomics/man/readsToGAlignments.Rd:18: file link 'GAlignments' in package 'GenomicAlignments' does not exist and so has been treated as a topic
variantsToGRanges html
Rd warning: C:/Users/biocbuild/bbs-3.7-bioc/tmpdir/RtmpQnRXol/R.INSTALL1b3419b330c5/GoogleGenomics/man/variantsToGRanges.Rd:18: file link 'GRanges' in package 'GenomicRanges' does not exist and so has been treated as a topic
variantsToVRanges html
Rd warning: C:/Users/biocbuild/bbs-3.7-bioc/tmpdir/RtmpQnRXol/R.INSTALL1b3419b330c5/GoogleGenomics/man/variantsToVRanges.Rd:18: file link 'VRanges' in package 'VariantAnnotation' does not exist and so has been treated as a topic
** building package indices
** installing vignettes
** testing if installed package can be loaded
Configured public API key.
In R CMD INSTALL
install for x64
* installing *source* package 'GoogleGenomics' ...
** libs
C:/Rtools/mingw_64/bin/g++ -I"C:/Users/BIOCBU˜1/BBS-3˜1.7-B/R/include" -DNDEBUG -I"C:/extsoft/include" -O2 -Wall -mtune=generic -c init.cc -o init.o
C:/Rtools/mingw_64/bin/g++ -shared -s -static-libgcc -o GoogleGenomics.dll tmp.def init.o -LC:/extsoft/lib/x64 -LC:/extsoft/lib -LC:/Users/BIOCBU˜1/BBS-3˜1.7-B/R/bin/x64 -lR
installing to C:/Users/biocbuild/bbs-3.7-bioc/meat/GoogleGenomics.buildbin-libdir/GoogleGenomics/libs/x64
** testing if installed package can be loaded
Configured public API key.
* MD5 sums
packaged installation of 'GoogleGenomics' as GoogleGenomics_2.2.0.zip
* DONE (GoogleGenomics)
In R CMD INSTALL
In R CMD INSTALL
* installing to library 'C:/Users/biocbuild/bbs-3.7-bioc/R/library'
package 'GoogleGenomics' successfully unpacked and MD5 sums checked
In R CMD INSTALL