| Back to Multiple platform build/check report for BioC 3.7 |
|
This page was generated on 2018-10-17 08:21:34 -0400 (Wed, 17 Oct 2018).
| Package 621/1561 | Hostname | OS / Arch | INSTALL | BUILD | CHECK | BUILD BIN | ||||||
| GlobalAncova 3.48.0 Manuela Hummel
| malbec2 | Linux (Ubuntu 16.04.1 LTS) / x86_64 | [ OK ] | OK | OK | |||||||
| tokay2 | Windows Server 2012 R2 Standard / x64 | OK | OK | OK | OK | |||||||
| merida2 | OS X 10.11.6 El Capitan / x86_64 | OK | OK | OK | OK |
| Package: GlobalAncova |
| Version: 3.48.0 |
| Command: /home/biocbuild/bbs-3.7-bioc/R/bin/R CMD INSTALL GlobalAncova |
| StartedAt: 2018-10-15 18:04:44 -0400 (Mon, 15 Oct 2018) |
| EndedAt: 2018-10-15 18:04:54 -0400 (Mon, 15 Oct 2018) |
| EllapsedTime: 10.4 seconds |
| RetCode: 0 |
| Status: OK |
##############################################################################
##############################################################################
###
### Running command:
###
### /home/biocbuild/bbs-3.7-bioc/R/bin/R CMD INSTALL GlobalAncova
###
##############################################################################
##############################################################################
* installing to library ‘/home/biocbuild/bbs-3.7-bioc/R/library’
* installing *source* package ‘GlobalAncova’ ...
** libs
gcc -I"/home/biocbuild/bbs-3.7-bioc/R/include" -DNDEBUG -I/usr/local/include -fpic -g -O2 -Wall -c GlobalAncova.c -o GlobalAncova.o
GlobalAncova.c: In function ‘permut_withFperm’:
GlobalAncova.c:186:16: warning: ‘ord_perm’ may be used uninitialized in this function [-Wmaybe-uninitialized]
n1 = ord_perm[j] ;
^
GlobalAncova.c: In function ‘permut’:
GlobalAncova.c:289:16: warning: ‘ord_perm’ may be used uninitialized in this function [-Wmaybe-uninitialized]
n1 = ord_perm[j] ;
^
gcc -I"/home/biocbuild/bbs-3.7-bioc/R/include" -DNDEBUG -I/usr/local/include -fpic -g -O2 -Wall -c ludcmp.c -o ludcmp.o
gcc -I"/home/biocbuild/bbs-3.7-bioc/R/include" -DNDEBUG -I/usr/local/include -fpic -g -O2 -Wall -c matrix.c -o matrix.o
gcc -shared -L/home/biocbuild/bbs-3.7-bioc/R/lib -L/usr/local/lib -o GlobalAncova.so GlobalAncova.o ludcmp.o matrix.o -L/home/biocbuild/bbs-3.7-bioc/R/lib -lR
installing to /home/biocbuild/bbs-3.7-bioc/R/library/GlobalAncova/libs
** R
** data
** byte-compile and prepare package for lazy loading
** help
*** installing help indices
** building package indices
** installing vignettes
** testing if installed package can be loaded
* DONE (GlobalAncova)