| Back to Multiple platform build/check report for BioC 3.7 |
|
This page was generated on 2018-10-17 08:42:06 -0400 (Wed, 17 Oct 2018).
| Package 620/1561 | Hostname | OS / Arch | INSTALL | BUILD | CHECK | BUILD BIN | ||||||
| Glimma 1.8.2 Shian Su
| malbec2 | Linux (Ubuntu 16.04.1 LTS) / x86_64 | OK | OK | OK | |||||||
| tokay2 | Windows Server 2012 R2 Standard / x64 | [ OK ] | OK | OK | OK | |||||||
| merida2 | OS X 10.11.6 El Capitan / x86_64 | OK | OK | OK | OK |
| Package: Glimma |
| Version: 1.8.2 |
| Command: C:\cygwin\bin\curl.exe -O https://malbec2.bioconductor.org/BBS/3.7/bioc/src/contrib/Glimma_1.8.2.tar.gz && rm -rf Glimma.buildbin-libdir && mkdir Glimma.buildbin-libdir && C:\Users\biocbuild\bbs-3.7-bioc\R\bin\R.exe CMD INSTALL --merge-multiarch --build --library=Glimma.buildbin-libdir Glimma_1.8.2.tar.gz && C:\Users\biocbuild\bbs-3.7-bioc\R\bin\R.exe CMD INSTALL Glimma_1.8.2.zip && rm Glimma_1.8.2.tar.gz Glimma_1.8.2.zip |
| StartedAt: 2018-10-16 18:55:58 -0400 (Tue, 16 Oct 2018) |
| EndedAt: 2018-10-16 18:57:28 -0400 (Tue, 16 Oct 2018) |
| EllapsedTime: 89.8 seconds |
| RetCode: 0 |
| Status: OK |
##############################################################################
##############################################################################
###
### Running command:
###
### C:\cygwin\bin\curl.exe -O https://malbec2.bioconductor.org/BBS/3.7/bioc/src/contrib/Glimma_1.8.2.tar.gz && rm -rf Glimma.buildbin-libdir && mkdir Glimma.buildbin-libdir && C:\Users\biocbuild\bbs-3.7-bioc\R\bin\R.exe CMD INSTALL --merge-multiarch --build --library=Glimma.buildbin-libdir Glimma_1.8.2.tar.gz && C:\Users\biocbuild\bbs-3.7-bioc\R\bin\R.exe CMD INSTALL Glimma_1.8.2.zip && rm Glimma_1.8.2.tar.gz Glimma_1.8.2.zip
###
##############################################################################
##############################################################################
% Total % Received % Xferd Average Speed Time Time Time Current
Dload Upload Total Spent Left Speed
0 0 0 0 0 0 0 0 --:--:-- --:--:-- --:--:-- 0
100 3339k 100 3339k 0 0 27.6M 0 --:--:-- --:--:-- --:--:-- 29.3M
install for i386
* installing *source* package 'Glimma' ...
** R
** data
*** moving datasets to lazyload DB
** inst
** byte-compile and prepare package for lazy loading
** help
*** installing help indices
converting help for package 'Glimma'
finding HTML links ... done
arraydata html
as.hexcol html
glBar html
glBar.default html
glMDPlot.DESeqDataSet html
glMDPlot.DESeqResults html
glMDPlot.DGEExact html
glMDPlot.DGELRT html
glMDPlot.MArrayLM html
glMDPlot html
glMDPlot.default html
glMDRmd html
glMDSPlot.DESeqDataSet html
glMDSPlot.DGEList html
glMDSPlot html
glMDSPlot.default html
glScatter html
glScatter.default html
glTable html
glXYPlot html
glimma html
gllink html
gltablink html
is.hex html
lymphomaRNAseq html
makeJson html
makeJson.data.frame html
makeJson.jschart html
** building package indices
** installing vignettes
** testing if installed package can be loaded
In R CMD INSTALL
install for x64
* installing *source* package 'Glimma' ...
** testing if installed package can be loaded
* MD5 sums
packaged installation of 'Glimma' as Glimma_1.8.2.zip
* DONE (Glimma)
In R CMD INSTALL
In R CMD INSTALL
* installing to library 'C:/Users/biocbuild/bbs-3.7-bioc/R/library'
package 'Glimma' successfully unpacked and MD5 sums checked
In R CMD INSTALL