| Back to Multiple platform build/check report for BioC 3.7 |
|
This page was generated on 2018-10-17 08:42:38 -0400 (Wed, 17 Oct 2018).
| Package 567/1561 | Hostname | OS / Arch | INSTALL | BUILD | CHECK | BUILD BIN | ||||||
| GeneGeneInteR 1.6.0 Mathieu Emily
| malbec2 | Linux (Ubuntu 16.04.1 LTS) / x86_64 | OK | OK | OK | |||||||
| tokay2 | Windows Server 2012 R2 Standard / x64 | OK | OK | WARNINGS | [ OK ] | |||||||
| merida2 | OS X 10.11.6 El Capitan / x86_64 | OK | OK | OK | OK |
| Package: GeneGeneInteR |
| Version: 1.6.0 |
| Command: rm -rf GeneGeneInteR.buildbin-libdir && mkdir GeneGeneInteR.buildbin-libdir && C:\Users\biocbuild\bbs-3.7-bioc\R\bin\R.exe CMD INSTALL --merge-multiarch --build --library=GeneGeneInteR.buildbin-libdir GeneGeneInteR_1.6.0.tar.gz |
| StartedAt: 2018-10-17 06:22:10 -0400 (Wed, 17 Oct 2018) |
| EndedAt: 2018-10-17 06:23:03 -0400 (Wed, 17 Oct 2018) |
| EllapsedTime: 53.1 seconds |
| RetCode: 0 |
| Status: OK |
| PackageFile: GeneGeneInteR_1.6.0.zip |
| PackageFileSize: 1.1 MiB |
##############################################################################
##############################################################################
###
### Running command:
###
### rm -rf GeneGeneInteR.buildbin-libdir && mkdir GeneGeneInteR.buildbin-libdir && C:\Users\biocbuild\bbs-3.7-bioc\R\bin\R.exe CMD INSTALL --merge-multiarch --build --library=GeneGeneInteR.buildbin-libdir GeneGeneInteR_1.6.0.tar.gz
###
##############################################################################
##############################################################################
install for i386
* installing *source* package 'GeneGeneInteR' ...
** R
** data
*** moving datasets to lazyload DB
** inst
** byte-compile and prepare package for lazy loading
** help
*** installing help indices
converting help for package 'GeneGeneInteR'
finding HTML links ... done
CCA.test html
CLD.test html
GBIGM.test html
GGI html
KCCA.test html
PCA.test html
PLSPM.test html
data.SNP html
gates.test html
gene.pair html
importFile html
Rd warning: C:/Users/biocbuild/bbs-3.7-bioc/tmpdir/Rtmp2BUVRq/R.INSTALL233031f6381d/GeneGeneInteR/man/importFile.Rd:42: file link 'GRanges' in package 'GenomicRanges' does not exist and so has been treated as a topic
imputeSnpMatrix html
minP.test html
plot.GGInetwork html
print.GGItest html
selectSnps html
snpMatrixScour html
summary.GGInetwork html
summary.GGItest html
tProd.test html
tTS.test html
** building package indices
** installing vignettes
** testing if installed package can be loaded
In R CMD INSTALL
install for x64
* installing *source* package 'GeneGeneInteR' ...
** testing if installed package can be loaded
* MD5 sums
packaged installation of 'GeneGeneInteR' as GeneGeneInteR_1.6.0.zip
* DONE (GeneGeneInteR)
In R CMD INSTALL
In R CMD INSTALL