| Back to Multiple platform build/check report for BioC 3.7 |
|
This page was generated on 2018-10-17 08:41:36 -0400 (Wed, 17 Oct 2018).
| Package 605/1561 | Hostname | OS / Arch | INSTALL | BUILD | CHECK | BUILD BIN | ||||||
| GenVisR 1.12.1 Zachary Skidmore
| malbec2 | Linux (Ubuntu 16.04.1 LTS) / x86_64 | OK | OK | ERROR | |||||||
| tokay2 | Windows Server 2012 R2 Standard / x64 | OK | OK | [ ERROR ] | OK | |||||||
| merida2 | OS X 10.11.6 El Capitan / x86_64 | OK | OK | ERROR | OK |
| Package: GenVisR |
| Version: 1.12.1 |
| Command: C:\Users\biocbuild\bbs-3.7-bioc\R\bin\R.exe CMD check --force-multiarch --install=check:GenVisR.install-out.txt --library=C:\Users\biocbuild\bbs-3.7-bioc\R\library --no-vignettes --timings GenVisR_1.12.1.tar.gz |
| StartedAt: 2018-10-17 02:18:31 -0400 (Wed, 17 Oct 2018) |
| EndedAt: 2018-10-17 02:33:37 -0400 (Wed, 17 Oct 2018) |
| EllapsedTime: 905.6 seconds |
| RetCode: 1 |
| Status: ERROR |
| CheckDir: GenVisR.Rcheck |
| Warnings: NA |
##############################################################################
##############################################################################
###
### Running command:
###
### C:\Users\biocbuild\bbs-3.7-bioc\R\bin\R.exe CMD check --force-multiarch --install=check:GenVisR.install-out.txt --library=C:\Users\biocbuild\bbs-3.7-bioc\R\library --no-vignettes --timings GenVisR_1.12.1.tar.gz
###
##############################################################################
##############################################################################
* using log directory 'C:/Users/biocbuild/bbs-3.7-bioc/meat/GenVisR.Rcheck'
* using R version 3.5.1 Patched (2018-07-24 r75005)
* using platform: x86_64-w64-mingw32 (64-bit)
* using session charset: ISO8859-1
* using option '--no-vignettes'
* checking for file 'GenVisR/DESCRIPTION' ... OK
* this is package 'GenVisR' version '1.12.1'
* checking package namespace information ... OK
* checking package dependencies ... OK
* checking if this is a source package ... OK
* checking if there is a namespace ... OK
* checking for hidden files and directories ... OK
* checking for portable file names ... OK
* checking whether package 'GenVisR' can be installed ... OK
* checking installed package size ... OK
* checking package directory ... OK
* checking 'build' directory ... OK
* checking DESCRIPTION meta-information ... OK
* checking top-level files ... OK
* checking for left-over files ... OK
* checking index information ... OK
* checking package subdirectories ... OK
* checking R files for non-ASCII characters ... OK
* checking R files for syntax errors ... OK
* loading checks for arch 'i386'
** checking whether the package can be loaded ... OK
** checking whether the package can be loaded with stated dependencies ... OK
** checking whether the package can be unloaded cleanly ... OK
** checking whether the namespace can be loaded with stated dependencies ... OK
** checking whether the namespace can be unloaded cleanly ... OK
* loading checks for arch 'x64'
** checking whether the package can be loaded ... OK
** checking whether the package can be loaded with stated dependencies ... OK
** checking whether the package can be unloaded cleanly ... OK
** checking whether the namespace can be loaded with stated dependencies ... OK
** checking whether the namespace can be unloaded cleanly ... OK
* checking dependencies in R code ... NOTE
Namespace in Imports field not imported from: 'reshape2'
All declared Imports should be used.
* checking S3 generic/method consistency ... OK
* checking replacement functions ... OK
* checking foreign function calls ... OK
* checking R code for possible problems ... NOTE
setTierTwo,data.table : a: no visible binding for global variable 'tmp'
toLolliplot,GMS: no visible binding for global variable 'missingINdex'
toLolliplot,VEP: no visible binding for global variable 'missingINdex'
Undefined global functions or variables:
missingINdex tmp
* checking Rd files ... OK
* checking Rd metadata ... OK
* checking Rd cross-references ... OK
* checking for missing documentation entries ... OK
* checking for code/documentation mismatches ... OK
* checking Rd \usage sections ... OK
* checking Rd contents ... OK
* checking for unstated dependencies in examples ... OK
* checking contents of 'data' directory ... OK
* checking data for non-ASCII characters ... OK
* checking data for ASCII and uncompressed saves ... OK
* checking files in 'vignettes' ... OK
* checking examples ...
** running examples for arch 'i386' ... OK
Examples with CPU or elapsed time > 5s
user system elapsed
Lolliplot-class 18.48 1.86 115.08
genCov 5.34 0.21 5.56
cnFreq 5.31 0.09 5.41
lolliplot 2.77 0.02 11.54
** running examples for arch 'x64' ... OK
Examples with CPU or elapsed time > 5s
user system elapsed
Lolliplot-class 17.37 0.76 25.68
cnFreq 7.03 0.00 7.03
genCov 6.71 0.23 6.95
lolliplot 3.03 0.00 9.62
* checking for unstated dependencies in 'tests' ... OK
* checking tests ...
** running tests for arch 'i386' ...
Running 'testthat.R'
ERROR
Running the tests in 'tests/testthat.R' failed.
Last 13 lines of output:
> library(testthat)
> library(GenVisR)
>
> test_check("GenVisR")
-- 1. Failure: setDomainHeights domains are nested correctly (@test-Lolliplot-cl
`expected` not equivalent to `actual`.
1/1 mismatches
[1] 6 - 8 == -2
== testthat results ===========================================================
OK: 552 SKIPPED: 45 FAILED: 1
1. Failure: setDomainHeights domains are nested correctly (@test-Lolliplot-class.R#525)
Error: testthat unit tests failed
Execution halted
** running tests for arch 'x64' ...
Running 'testthat.R'
ERROR
Running the tests in 'tests/testthat.R' failed.
Last 13 lines of output:
> library(testthat)
> library(GenVisR)
>
> test_check("GenVisR")
-- 1. Failure: setDomainHeights domains are nested correctly (@test-Lolliplot-cl
`expected` not equivalent to `actual`.
1/1 mismatches
[1] 6 - 8 == -2
== testthat results ===========================================================
OK: 552 SKIPPED: 45 FAILED: 1
1. Failure: setDomainHeights domains are nested correctly (@test-Lolliplot-class.R#525)
Error: testthat unit tests failed
Execution halted
* checking for unstated dependencies in vignettes ... OK
* checking package vignettes in 'inst/doc' ... OK
* checking running R code from vignettes ... SKIPPED
* checking re-building of vignette outputs ... SKIPPED
* checking PDF version of manual ... OK
* DONE
Status: 2 ERRORs, 2 NOTEs
See
'C:/Users/biocbuild/bbs-3.7-bioc/meat/GenVisR.Rcheck/00check.log'
for details.
GenVisR.Rcheck/00install.out
##############################################################################
##############################################################################
###
### Running command:
###
### C:\cygwin\bin\curl.exe -O https://malbec2.bioconductor.org/BBS/3.7/bioc/src/contrib/GenVisR_1.12.1.tar.gz && rm -rf GenVisR.buildbin-libdir && mkdir GenVisR.buildbin-libdir && C:\Users\biocbuild\bbs-3.7-bioc\R\bin\R.exe CMD INSTALL --merge-multiarch --build --library=GenVisR.buildbin-libdir GenVisR_1.12.1.tar.gz && C:\Users\biocbuild\bbs-3.7-bioc\R\bin\R.exe CMD INSTALL GenVisR_1.12.1.zip && rm GenVisR_1.12.1.tar.gz GenVisR_1.12.1.zip
###
##############################################################################
##############################################################################
% Total % Received % Xferd Average Speed Time Time Time Current
Dload Upload Total Spent Left Speed
0 0 0 0 0 0 0 0 --:--:-- --:--:-- --:--:-- 0
100 2036k 100 2036k 0 0 26.4M 0 --:--:-- --:--:-- --:--:-- 29.6M
install for i386
* installing *source* package 'GenVisR' ...
** R
** data
*** moving datasets to lazyload DB
** inst
** byte-compile and prepare package for lazy loading
** help
*** installing help indices
converting help for package 'GenVisR'
finding HTML links ... done
Clinical-class html
GMS-class html
GMS_Virtual-class html
GMS_v4-class html
GenVisR html
HCC1395_Germline html
HCC1395_N html
HCC1395_T html
Lolliplot-class html
LucCNseg html
MutSpectra-class html
MutationAnnotationFormat-class html
MutationAnnotationFormat_Virtual-class
html
MutationAnnotationFormat_v1.0-class html
MutationAnnotationFormat_v2.0-class html
MutationAnnotationFormat_v2.1-class html
MutationAnnotationFormat_v2.2-class html
MutationAnnotationFormat_v2.3-class html
MutationAnnotationFormat_v2.4-class html
PIK3CA html
Rainfall-class html
SNPloci html
TvTi html
VEP-class html
VEP_Virtual-class html
VEP_v88-class html
Waterfall-class html
brcaMAF html
cnFreq html
cnSpec html
cnView html
compIdent html
covBars html
cytoGeno html
drawPlot-methods html
genCov html
geneViz html
getData-methods html
getDescription-methods html
getGrob-methods html
getHeader-methods html
getMeta-methods html
getMutation-methods html
getPath-methods html
getPosition-methods html
getSample-methods html
getVersion-methods html
hg19chr html
ideoView html
lohSpec html
lohView html
lolliplot html
lolliplot_AA2sidechain html
lolliplot_buildMain html
waterfall html
writeData-methods html
** building package indices
** installing vignettes
** testing if installed package can be loaded
In R CMD INSTALL
install for x64
* installing *source* package 'GenVisR' ...
** testing if installed package can be loaded
* MD5 sums
packaged installation of 'GenVisR' as GenVisR_1.12.1.zip
* DONE (GenVisR)
In R CMD INSTALL
In R CMD INSTALL
* installing to library 'C:/Users/biocbuild/bbs-3.7-bioc/R/library'
package 'GenVisR' successfully unpacked and MD5 sums checked
In R CMD INSTALL
|
GenVisR.Rcheck/tests_i386/testthat.Rout.fail
R version 3.5.1 Patched (2018-07-24 r75005) -- "Feather Spray"
Copyright (C) 2018 The R Foundation for Statistical Computing
Platform: i386-w64-mingw32/i386 (32-bit)
R is free software and comes with ABSOLUTELY NO WARRANTY.
You are welcome to redistribute it under certain conditions.
Type 'license()' or 'licence()' for distribution details.
R is a collaborative project with many contributors.
Type 'contributors()' for more information and
'citation()' on how to cite R or R packages in publications.
Type 'demo()' for some demos, 'help()' for on-line help, or
'help.start()' for an HTML browser interface to help.
Type 'q()' to quit R.
> library(testthat)
> library(GenVisR)
>
> test_check("GenVisR")
-- 1. Failure: setDomainHeights domains are nested correctly (@test-Lolliplot-cl
`expected` not equivalent to `actual`.
1/1 mismatches
[1] 6 - 8 == -2
== testthat results ===========================================================
OK: 552 SKIPPED: 45 FAILED: 1
1. Failure: setDomainHeights domains are nested correctly (@test-Lolliplot-class.R#525)
Error: testthat unit tests failed
Execution halted
|
GenVisR.Rcheck/tests_x64/testthat.Rout.fail
R version 3.5.1 Patched (2018-07-24 r75005) -- "Feather Spray"
Copyright (C) 2018 The R Foundation for Statistical Computing
Platform: x86_64-w64-mingw32/x64 (64-bit)
R is free software and comes with ABSOLUTELY NO WARRANTY.
You are welcome to redistribute it under certain conditions.
Type 'license()' or 'licence()' for distribution details.
R is a collaborative project with many contributors.
Type 'contributors()' for more information and
'citation()' on how to cite R or R packages in publications.
Type 'demo()' for some demos, 'help()' for on-line help, or
'help.start()' for an HTML browser interface to help.
Type 'q()' to quit R.
> library(testthat)
> library(GenVisR)
>
> test_check("GenVisR")
-- 1. Failure: setDomainHeights domains are nested correctly (@test-Lolliplot-cl
`expected` not equivalent to `actual`.
1/1 mismatches
[1] 6 - 8 == -2
== testthat results ===========================================================
OK: 552 SKIPPED: 45 FAILED: 1
1. Failure: setDomainHeights domains are nested correctly (@test-Lolliplot-class.R#525)
Error: testthat unit tests failed
Execution halted
|
|
GenVisR.Rcheck/examples_i386/GenVisR-Ex.timings
|
GenVisR.Rcheck/examples_x64/GenVisR-Ex.timings
|