| Back to Multiple platform build/check report for BioC 3.7 |
|
This page was generated on 2018-10-17 08:22:07 -0400 (Wed, 17 Oct 2018).
| Package 657/1561 | Hostname | OS / Arch | INSTALL | BUILD | CHECK | BUILD BIN | ||||||
| GSEABase 1.42.0 Bioconductor Package Maintainer
| malbec2 | Linux (Ubuntu 16.04.1 LTS) / x86_64 | OK | OK | [ OK ] | |||||||
| tokay2 | Windows Server 2012 R2 Standard / x64 | OK | OK | OK | OK | |||||||
| merida2 | OS X 10.11.6 El Capitan / x86_64 | OK | OK | OK | OK |
| Package: GSEABase |
| Version: 1.42.0 |
| Command: /home/biocbuild/bbs-3.7-bioc/R/bin/R CMD check --install=check:GSEABase.install-out.txt --library=/home/biocbuild/bbs-3.7-bioc/R/library --no-vignettes --timings GSEABase_1.42.0.tar.gz |
| StartedAt: 2018-10-16 01:02:59 -0400 (Tue, 16 Oct 2018) |
| EndedAt: 2018-10-16 01:04:36 -0400 (Tue, 16 Oct 2018) |
| EllapsedTime: 97.2 seconds |
| RetCode: 0 |
| Status: OK |
| CheckDir: GSEABase.Rcheck |
| Warnings: 0 |
############################################################################## ############################################################################## ### ### Running command: ### ### /home/biocbuild/bbs-3.7-bioc/R/bin/R CMD check --install=check:GSEABase.install-out.txt --library=/home/biocbuild/bbs-3.7-bioc/R/library --no-vignettes --timings GSEABase_1.42.0.tar.gz ### ############################################################################## ############################################################################## * using log directory ‘/home/biocbuild/bbs-3.7-bioc/meat/GSEABase.Rcheck’ * using R version 3.5.1 Patched (2018-07-12 r74967) * using platform: x86_64-pc-linux-gnu (64-bit) * using session charset: UTF-8 * using option ‘--no-vignettes’ * checking for file ‘GSEABase/DESCRIPTION’ ... OK * checking extension type ... Package * this is package ‘GSEABase’ version ‘1.42.0’ * checking package namespace information ... OK * checking package dependencies ... OK * checking if this is a source package ... OK * checking if there is a namespace ... OK * checking for hidden files and directories ... OK * checking for portable file names ... OK * checking for sufficient/correct file permissions ... OK * checking whether package ‘GSEABase’ can be installed ... OK * checking installed package size ... OK * checking package directory ... OK * checking ‘build’ directory ... OK * checking DESCRIPTION meta-information ... OK * checking top-level files ... OK * checking for left-over files ... OK * checking index information ... OK * checking package subdirectories ... OK * checking R files for non-ASCII characters ... OK * checking R files for syntax errors ... OK * checking whether the package can be loaded ... OK * checking whether the package can be loaded with stated dependencies ... OK * checking whether the package can be unloaded cleanly ... OK * checking whether the namespace can be loaded with stated dependencies ... OK * checking whether the namespace can be unloaded cleanly ... OK * checking dependencies in R code ... OK * checking S3 generic/method consistency ... OK * checking replacement functions ... OK * checking foreign function calls ... OK * checking R code for possible problems ... OK * checking Rd files ... OK * checking Rd metadata ... OK * checking Rd cross-references ... OK * checking for missing documentation entries ... OK * checking for code/documentation mismatches ... OK * checking Rd \usage sections ... OK * checking Rd contents ... OK * checking for unstated dependencies in examples ... OK * checking files in ‘vignettes’ ... OK * checking examples ... OK * checking for unstated dependencies in ‘tests’ ... OK * checking tests ... Running ‘unitTests.R’ OK * checking for unstated dependencies in vignettes ... OK * checking package vignettes in ‘inst/doc’ ... OK * checking running R code from vignettes ... SKIPPED * checking re-building of vignette outputs ... SKIPPED * checking PDF version of manual ... OK * DONE Status: OK
GSEABase.Rcheck/00install.out
############################################################################## ############################################################################## ### ### Running command: ### ### /home/biocbuild/bbs-3.7-bioc/R/bin/R CMD INSTALL GSEABase ### ############################################################################## ############################################################################## * installing to library ‘/home/biocbuild/bbs-3.7-bioc/R/library’ * installing *source* package ‘GSEABase’ ... ** R ** inst ** byte-compile and prepare package for lazy loading ** help *** installing help indices ** building package indices ** installing vignettes ** testing if installed package can be loaded * DONE (GSEABase)
GSEABase.Rcheck/tests/unitTests.Rout
R version 3.5.1 Patched (2018-07-12 r74967) -- "Feather Spray"
Copyright (C) 2018 The R Foundation for Statistical Computing
Platform: x86_64-pc-linux-gnu (64-bit)
R is free software and comes with ABSOLUTELY NO WARRANTY.
You are welcome to redistribute it under certain conditions.
Type 'license()' or 'licence()' for distribution details.
R is a collaborative project with many contributors.
Type 'contributors()' for more information and
'citation()' on how to cite R or R packages in publications.
Type 'demo()' for some demos, 'help()' for on-line help, or
'help.start()' for an HTML browser interface to help.
Type 'q()' to quit R.
> BiocGenerics:::testPackage("GSEABase")
Attaching package: 'BiocGenerics'
The following objects are masked from 'package:parallel':
clusterApply, clusterApplyLB, clusterCall, clusterEvalQ,
clusterExport, clusterMap, parApply, parCapply, parLapply,
parLapplyLB, parRapply, parSapply, parSapplyLB
The following objects are masked from 'package:stats':
IQR, mad, sd, var, xtabs
The following objects are masked from 'package:base':
Filter, Find, Map, Position, Reduce, anyDuplicated, append,
as.data.frame, basename, cbind, colMeans, colSums, colnames,
dirname, do.call, duplicated, eval, evalq, get, grep, grepl,
intersect, is.unsorted, lapply, lengths, mapply, match, mget,
order, paste, pmax, pmax.int, pmin, pmin.int, rank, rbind,
rowMeans, rowSums, rownames, sapply, setdiff, sort, table, tapply,
union, unique, unsplit, which, which.max, which.min
Welcome to Bioconductor
Vignettes contain introductory material; view with
'browseVignettes()'. To cite Bioconductor, see
'citation("Biobase")', and for packages 'citation("pkgname")'.
Attaching package: 'S4Vectors'
The following object is masked from 'package:base':
expand.grid
Attaching package: 'graph'
The following object is masked from 'package:XML':
addNode
'select()' returned 1:many mapping between keys and columns
'select()' returned 1:many mapping between keys and columns
'select()' returned 1:many mapping between keys and columns
'select()' returned 1:many mapping between keys and columns
'select()' returned 1:many mapping between keys and columns
'select()' returned 1:many mapping between keys and columns
'select()' returned 1:many mapping between keys and columns
'select()' returned 1:many mapping between keys and columns
RUNIT TEST PROTOCOL -- Tue Oct 16 01:04:32 2018
***********************************************
Number of test functions: 79
Number of errors: 0
Number of failures: 0
1 Test Suite :
GSEABase RUnit Tests - 79 test functions, 0 errors, 0 failures
Number of test functions: 79
Number of errors: 0
Number of failures: 0
>
> proc.time()
user system elapsed
13.080 0.428 13.700
GSEABase.Rcheck/GSEABase-Ex.timings
| name | user | system | elapsed | |
| CollectionType-class | 0.416 | 0.008 | 0.445 | |
| CollectionType-constructors | 0.108 | 0.000 | 0.107 | |
| GSEABase-package | 0.108 | 0.000 | 0.130 | |
| GeneColorSet-class | 0.096 | 0.000 | 0.095 | |
| GeneIdentifierType-class | 0.06 | 0.00 | 0.06 | |
| GeneIdentifierType-constructors | 0.136 | 0.000 | 0.171 | |
| GeneSet-class | 0.084 | 0.004 | 0.088 | |
| GeneSet-methods | 0.052 | 0.000 | 0.049 | |
| GeneSetCollection-class | 0.008 | 0.000 | 0.006 | |
| GeneSetCollection-methods | 2.452 | 0.144 | 2.599 | |
| OBOCollection-class | 0.060 | 0.000 | 0.062 | |
| getOBOCollection | 0.044 | 0.000 | 0.042 | |
| getObjects | 0.012 | 0.000 | 0.012 | |
| goSlim-methods | 0.676 | 0.036 | 0.723 | |
| incidence-methods | 0.012 | 0.000 | 0.010 | |