| Back to Multiple platform build/check report for BioC 3.7 |
|
This page was generated on 2018-10-17 08:37:59 -0400 (Wed, 17 Oct 2018).
| Package 638/1561 | Hostname | OS / Arch | INSTALL | BUILD | CHECK | BUILD BIN | ||||||
| GOTHiC 1.16.0 Borbala Mifsud
| malbec2 | Linux (Ubuntu 16.04.1 LTS) / x86_64 | OK | OK | OK | |||||||
| tokay2 | Windows Server 2012 R2 Standard / x64 | [ OK ] | OK | OK | OK | |||||||
| merida2 | OS X 10.11.6 El Capitan / x86_64 | OK | OK | OK | OK |
| Package: GOTHiC |
| Version: 1.16.0 |
| Command: C:\cygwin\bin\curl.exe -O https://malbec2.bioconductor.org/BBS/3.7/bioc/src/contrib/GOTHiC_1.16.0.tar.gz && rm -rf GOTHiC.buildbin-libdir && mkdir GOTHiC.buildbin-libdir && C:\Users\biocbuild\bbs-3.7-bioc\R\bin\R.exe CMD INSTALL --merge-multiarch --build --library=GOTHiC.buildbin-libdir GOTHiC_1.16.0.tar.gz && C:\Users\biocbuild\bbs-3.7-bioc\R\bin\R.exe CMD INSTALL GOTHiC_1.16.0.zip && rm GOTHiC_1.16.0.tar.gz GOTHiC_1.16.0.zip |
| StartedAt: 2018-10-16 20:08:14 -0400 (Tue, 16 Oct 2018) |
| EndedAt: 2018-10-16 20:08:59 -0400 (Tue, 16 Oct 2018) |
| EllapsedTime: 45.5 seconds |
| RetCode: 0 |
| Status: OK |
##############################################################################
##############################################################################
###
### Running command:
###
### C:\cygwin\bin\curl.exe -O https://malbec2.bioconductor.org/BBS/3.7/bioc/src/contrib/GOTHiC_1.16.0.tar.gz && rm -rf GOTHiC.buildbin-libdir && mkdir GOTHiC.buildbin-libdir && C:\Users\biocbuild\bbs-3.7-bioc\R\bin\R.exe CMD INSTALL --merge-multiarch --build --library=GOTHiC.buildbin-libdir GOTHiC_1.16.0.tar.gz && C:\Users\biocbuild\bbs-3.7-bioc\R\bin\R.exe CMD INSTALL GOTHiC_1.16.0.zip && rm GOTHiC_1.16.0.tar.gz GOTHiC_1.16.0.zip
###
##############################################################################
##############################################################################
% Total % Received % Xferd Average Speed Time Time Time Current
Dload Upload Total Spent Left Speed
0 0 0 0 0 0 0 0 --:--:-- --:--:-- --:--:-- 0
100 2160k 100 2160k 0 0 31.4M 0 --:--:-- --:--:-- --:--:-- 35.1M
install for i386
* installing *source* package 'GOTHiC' ...
** R
** data
** byte-compile and prepare package for lazy loading
** help
*** installing help indices
converting help for package 'GOTHiC'
finding HTML links ... done
GOTHiC html
GOTHiChicup html
filtered html
mapReadsToRestrictionSites html
pairReads html
** building package indices
** installing vignettes
** testing if installed package can be loaded
In R CMD INSTALL
install for x64
* installing *source* package 'GOTHiC' ...
** testing if installed package can be loaded
* MD5 sums
packaged installation of 'GOTHiC' as GOTHiC_1.16.0.zip
* DONE (GOTHiC)
In R CMD INSTALL
In R CMD INSTALL
* installing to library 'C:/Users/biocbuild/bbs-3.7-bioc/R/library'
package 'GOTHiC' successfully unpacked and MD5 sums checked
In R CMD INSTALL