| Back to Multiple platform build/check report for BioC 3.7 |
|
This page was generated on 2018-10-17 08:56:13 -0400 (Wed, 17 Oct 2018).
| Package 625/1561 | Hostname | OS / Arch | INSTALL | BUILD | CHECK | BUILD BIN | ||||||
| GMRP 1.8.1 Yuan-De Tan
| malbec2 | Linux (Ubuntu 16.04.1 LTS) / x86_64 | OK | OK | OK | |||||||
| tokay2 | Windows Server 2012 R2 Standard / x64 | OK | OK | WARNINGS | OK | |||||||
| merida2 | OS X 10.11.6 El Capitan / x86_64 | OK | [ OK ] | OK | OK |
| Package: GMRP |
| Version: 1.8.1 |
| Command: /Library/Frameworks/R.framework/Versions/Current/Resources/bin/R CMD build --keep-empty-dirs --no-resave-data GMRP |
| StartedAt: 2018-10-16 18:13:38 -0400 (Tue, 16 Oct 2018) |
| EndedAt: 2018-10-16 18:14:08 -0400 (Tue, 16 Oct 2018) |
| EllapsedTime: 29.5 seconds |
| RetCode: 0 |
| Status: OK |
| PackageFile: GMRP_1.8.1.tar.gz |
| PackageFileSize: 819.5 KiB |
##############################################################################
##############################################################################
###
### Running command:
###
### /Library/Frameworks/R.framework/Versions/Current/Resources/bin/R CMD build --keep-empty-dirs --no-resave-data GMRP
###
##############################################################################
##############################################################################
* checking for file ‘GMRP/DESCRIPTION’ ... OK
* preparing ‘GMRP’:
* checking DESCRIPTION meta-information ... OK
* installing the package to build vignettes
* creating vignettes ... OK
Warning: ‘inst/doc’ file
‘GMRP.R’
ignored as vignettes have been rebuilt.
Run R CMD build with --no-build-vignettes to prevent rebuilding.
* checking for LF line-endings in source and make files and shell scripts
* checking for empty or unneeded directories
* looking to see if a ‘data/datalist’ file should be added
* building ‘GMRP_1.8.1.tar.gz’