| Back to Multiple platform build/check report for BioC 3.7 |
|
This page was generated on 2018-10-17 08:43:36 -0400 (Wed, 17 Oct 2018).
| Package 618/1561 | Hostname | OS / Arch | INSTALL | BUILD | CHECK | BUILD BIN | ||||||
| GISPA 1.4.0 Bhakti Dwivedi
| malbec2 | Linux (Ubuntu 16.04.1 LTS) / x86_64 | OK | OK | OK | |||||||
| tokay2 | Windows Server 2012 R2 Standard / x64 | [ OK ] | OK | OK | OK | |||||||
| merida2 | OS X 10.11.6 El Capitan / x86_64 | OK | OK | OK | OK |
| Package: GISPA |
| Version: 1.4.0 |
| Command: C:\cygwin\bin\curl.exe -O https://malbec2.bioconductor.org/BBS/3.7/bioc/src/contrib/GISPA_1.4.0.tar.gz && rm -rf GISPA.buildbin-libdir && mkdir GISPA.buildbin-libdir && C:\Users\biocbuild\bbs-3.7-bioc\R\bin\R.exe CMD INSTALL --merge-multiarch --build --library=GISPA.buildbin-libdir GISPA_1.4.0.tar.gz && C:\Users\biocbuild\bbs-3.7-bioc\R\bin\R.exe CMD INSTALL GISPA_1.4.0.zip && rm GISPA_1.4.0.tar.gz GISPA_1.4.0.zip |
| StartedAt: 2018-10-16 20:24:22 -0400 (Tue, 16 Oct 2018) |
| EndedAt: 2018-10-16 20:25:11 -0400 (Tue, 16 Oct 2018) |
| EllapsedTime: 49.1 seconds |
| RetCode: 0 |
| Status: OK |
##############################################################################
##############################################################################
###
### Running command:
###
### C:\cygwin\bin\curl.exe -O https://malbec2.bioconductor.org/BBS/3.7/bioc/src/contrib/GISPA_1.4.0.tar.gz && rm -rf GISPA.buildbin-libdir && mkdir GISPA.buildbin-libdir && C:\Users\biocbuild\bbs-3.7-bioc\R\bin\R.exe CMD INSTALL --merge-multiarch --build --library=GISPA.buildbin-libdir GISPA_1.4.0.tar.gz && C:\Users\biocbuild\bbs-3.7-bioc\R\bin\R.exe CMD INSTALL GISPA_1.4.0.zip && rm GISPA_1.4.0.tar.gz GISPA_1.4.0.zip
###
##############################################################################
##############################################################################
% Total % Received % Xferd Average Speed Time Time Time Current
Dload Upload Total Spent Left Speed
0 0 0 0 0 0 0 0 --:--:-- --:--:-- --:--:-- 0
100 187k 100 187k 0 0 3194k 0 --:--:-- --:--:-- --:--:-- 3612k
install for i386
* installing *source* package 'GISPA' ...
** R
** data
*** moving datasets to lazyload DB
** byte-compile and prepare package for lazy loading
** help
*** installing help indices
converting help for package 'GISPA'
finding HTML links ... done
GISPA html
cnvset html
computePS html
cptModel html
cptPlot html
cptSlopeplot html
exprset html
propBarplot html
stackedBarplot html
varset html
** building package indices
** installing vignettes
** testing if installed package can be loaded
In R CMD INSTALL
install for x64
* installing *source* package 'GISPA' ...
** testing if installed package can be loaded
* MD5 sums
packaged installation of 'GISPA' as GISPA_1.4.0.zip
* DONE (GISPA)
In R CMD INSTALL
In R CMD INSTALL
* installing to library 'C:/Users/biocbuild/bbs-3.7-bioc/R/library'
package 'GISPA' successfully unpacked and MD5 sums checked
In R CMD INSTALL