| Back to Multiple platform build/check report for BioC 3.7 |
|
This page was generated on 2018-10-17 08:35:58 -0400 (Wed, 17 Oct 2018).
| Package 611/1561 | Hostname | OS / Arch | INSTALL | BUILD | CHECK | BUILD BIN | ||||||
| GEWIST 1.24.0 Wei Q. Deng
| malbec2 | Linux (Ubuntu 16.04.1 LTS) / x86_64 | OK | OK | OK | |||||||
| tokay2 | Windows Server 2012 R2 Standard / x64 | [ OK ] | OK | OK | OK | |||||||
| merida2 | OS X 10.11.6 El Capitan / x86_64 | OK | OK | OK | OK |
| Package: GEWIST |
| Version: 1.24.0 |
| Command: C:\cygwin\bin\curl.exe -O https://malbec2.bioconductor.org/BBS/3.7/bioc/src/contrib/GEWIST_1.24.0.tar.gz && rm -rf GEWIST.buildbin-libdir && mkdir GEWIST.buildbin-libdir && C:\Users\biocbuild\bbs-3.7-bioc\R\bin\R.exe CMD INSTALL --merge-multiarch --build --library=GEWIST.buildbin-libdir GEWIST_1.24.0.tar.gz && C:\Users\biocbuild\bbs-3.7-bioc\R\bin\R.exe CMD INSTALL GEWIST_1.24.0.zip && rm GEWIST_1.24.0.tar.gz GEWIST_1.24.0.zip |
| StartedAt: 2018-10-16 20:15:49 -0400 (Tue, 16 Oct 2018) |
| EndedAt: 2018-10-16 20:16:54 -0400 (Tue, 16 Oct 2018) |
| EllapsedTime: 65.3 seconds |
| RetCode: 0 |
| Status: OK |
##############################################################################
##############################################################################
###
### Running command:
###
### C:\cygwin\bin\curl.exe -O https://malbec2.bioconductor.org/BBS/3.7/bioc/src/contrib/GEWIST_1.24.0.tar.gz && rm -rf GEWIST.buildbin-libdir && mkdir GEWIST.buildbin-libdir && C:\Users\biocbuild\bbs-3.7-bioc\R\bin\R.exe CMD INSTALL --merge-multiarch --build --library=GEWIST.buildbin-libdir GEWIST_1.24.0.tar.gz && C:\Users\biocbuild\bbs-3.7-bioc\R\bin\R.exe CMD INSTALL GEWIST_1.24.0.zip && rm GEWIST_1.24.0.tar.gz GEWIST_1.24.0.zip
###
##############################################################################
##############################################################################
% Total % Received % Xferd Average Speed Time Time Time Current
Dload Upload Total Spent Left Speed
0 0 0 0 0 0 0 0 --:--:-- --:--:-- --:--:-- 0
100 9164 100 9164 0 0 159k 0 --:--:-- --:--:-- --:--:-- 182k
install for i386
* installing *source* package 'GEWIST' ...
** R
** byte-compile and prepare package for lazy loading
** help
*** installing help indices
converting help for package 'GEWIST'
finding HTML links ... done
GEWIST-package html
effectPDF html
gewistLevene html
** building package indices
** installing vignettes
** testing if installed package can be loaded
In R CMD INSTALL
install for x64
* installing *source* package 'GEWIST' ...
** testing if installed package can be loaded
* MD5 sums
packaged installation of 'GEWIST' as GEWIST_1.24.0.zip
* DONE (GEWIST)
In R CMD INSTALL
In R CMD INSTALL
* installing to library 'C:/Users/biocbuild/bbs-3.7-bioc/R/library'
package 'GEWIST' successfully unpacked and MD5 sums checked
In R CMD INSTALL