| Back to Multiple platform build/check report for BioC 3.7 |
|
This page was generated on 2018-10-17 08:40:10 -0400 (Wed, 17 Oct 2018).
| Package 578/1561 | Hostname | OS / Arch | INSTALL | BUILD | CHECK | BUILD BIN | ||||||
| GENESIS 2.10.1 Stephanie M. Gogarten
| malbec2 | Linux (Ubuntu 16.04.1 LTS) / x86_64 | OK | OK | OK | |||||||
| tokay2 | Windows Server 2012 R2 Standard / x64 | OK | OK | OK | [ OK ] | |||||||
| merida2 | OS X 10.11.6 El Capitan / x86_64 | OK | OK | OK | OK |
| Package: GENESIS |
| Version: 2.10.1 |
| Command: rm -rf GENESIS.buildbin-libdir && mkdir GENESIS.buildbin-libdir && C:\Users\biocbuild\bbs-3.7-bioc\R\bin\R.exe CMD INSTALL --merge-multiarch --build --library=GENESIS.buildbin-libdir GENESIS_2.10.1.tar.gz |
| StartedAt: 2018-10-17 06:22:34 -0400 (Wed, 17 Oct 2018) |
| EndedAt: 2018-10-17 06:23:09 -0400 (Wed, 17 Oct 2018) |
| EllapsedTime: 34.8 seconds |
| RetCode: 0 |
| Status: OK |
| PackageFile: GENESIS_2.10.1.zip |
| PackageFileSize: 1.52 MiB |
##############################################################################
##############################################################################
###
### Running command:
###
### rm -rf GENESIS.buildbin-libdir && mkdir GENESIS.buildbin-libdir && C:\Users\biocbuild\bbs-3.7-bioc\R\bin\R.exe CMD INSTALL --merge-multiarch --build --library=GENESIS.buildbin-libdir GENESIS_2.10.1.tar.gz
###
##############################################################################
##############################################################################
install for i386
* installing *source* package 'GENESIS' ...
** R
** data
** inst
** byte-compile and prepare package for lazy loading
** help
*** installing help indices
converting help for package 'GENESIS'
finding HTML links ... done
GENESIS-package html
HapMap_ASW_MXL_KINGmat html
admixMapMM html
finding level-2 HTML links ... done
assocTestAggregate html
assocTestMM html
assocTestSeq html
assocTestSeqWindow html
assocTestSingle html
deprecated html
fitNullMM html
fitNullModel html
fitNullReg html
king2mat html
pcair html
pcairPartition html
pcrelate html
pcrelateMakeGRM html
pcrelateReadInbreed html
pcrelateReadKinship html
plot.pcair html
varCompCI html
** building package indices
** installing vignettes
** testing if installed package can be loaded
In R CMD INSTALL
install for x64
* installing *source* package 'GENESIS' ...
** testing if installed package can be loaded
* MD5 sums
packaged installation of 'GENESIS' as GENESIS_2.10.1.zip
* DONE (GENESIS)
In R CMD INSTALL
In R CMD INSTALL