| Back to Multiple platform build/check report for BioC 3.7 |
|
This page was generated on 2018-10-17 08:40:28 -0400 (Wed, 17 Oct 2018).
| Package 516/1561 | Hostname | OS / Arch | INSTALL | BUILD | CHECK | BUILD BIN | ||||||
| FlowRepositoryR 1.12.0 Josef Spidlen
| malbec2 | Linux (Ubuntu 16.04.1 LTS) / x86_64 | OK | OK | OK | |||||||
| tokay2 | Windows Server 2012 R2 Standard / x64 | OK | OK | OK | [ OK ] | |||||||
| merida2 | OS X 10.11.6 El Capitan / x86_64 | OK | OK | OK | OK |
| Package: FlowRepositoryR |
| Version: 1.12.0 |
| Command: rm -rf FlowRepositoryR.buildbin-libdir && mkdir FlowRepositoryR.buildbin-libdir && C:\Users\biocbuild\bbs-3.7-bioc\R\bin\R.exe CMD INSTALL --merge-multiarch --build --library=FlowRepositoryR.buildbin-libdir FlowRepositoryR_1.12.0.tar.gz |
| StartedAt: 2018-10-17 06:20:25 -0400 (Wed, 17 Oct 2018) |
| EndedAt: 2018-10-17 06:20:40 -0400 (Wed, 17 Oct 2018) |
| EllapsedTime: 14.4 seconds |
| RetCode: 0 |
| Status: OK |
| PackageFile: FlowRepositoryR_1.12.0.zip |
| PackageFileSize: 447.5 KiB |
##############################################################################
##############################################################################
###
### Running command:
###
### rm -rf FlowRepositoryR.buildbin-libdir && mkdir FlowRepositoryR.buildbin-libdir && C:\Users\biocbuild\bbs-3.7-bioc\R\bin\R.exe CMD INSTALL --merge-multiarch --build --library=FlowRepositoryR.buildbin-libdir FlowRepositoryR_1.12.0.tar.gz
###
##############################################################################
##############################################################################
install for i386
* installing *source* package 'FlowRepositoryR' ...
** R
** inst
** byte-compile and prepare package for lazy loading
** help
*** installing help indices
converting help for package 'FlowRepositoryR'
finding HTML links ... done
FlowRepositoryR-package html
attachmentProxy-class html
download-methods html
fcsProxy-class html
fileProxy-class html
flowRep.get html
flowRep.ls html
flowRep.search html
flowRep.submitGeneStatus html
flowRep.submitImpcResults html
flowRepData-class html
flowRepOrganization-class html
forgetFlowRepositoryCredentials html
getFlowRepositoryURL html
id-methods html
ilarCodeDescription html
impcCodeDescription html
impcResultsCopy-methods html
is.downloaded-methods html
listKnownIlarCodes html
setFlowRepositoryCredentials html
setFlowRepositoryURL html
** building package indices
** installing vignettes
** testing if installed package can be loaded
In R CMD INSTALL
install for x64
* installing *source* package 'FlowRepositoryR' ...
** testing if installed package can be loaded
* MD5 sums
packaged installation of 'FlowRepositoryR' as FlowRepositoryR_1.12.0.zip
* DONE (FlowRepositoryR)
In R CMD INSTALL
In R CMD INSTALL