| Back to Multiple platform build/check report for BioC 3.7 |
|
This page was generated on 2018-07-24 11:21:10 -0400 (Tue, 24 Jul 2018).
| Package 486/1560 | Hostname | OS / Arch | INSTALL | BUILD | CHECK | BUILD BIN | ||||||
| FGNet 3.14.0 Sara Aibar
| malbec2 | Linux (Ubuntu 16.04.1 LTS) / x86_64 | OK | OK | ERROR | |||||||
| tokay2 | Windows Server 2012 R2 Standard / x64 | OK | OK | ERROR | OK | |||||||
| merida2 | OS X 10.11.6 El Capitan / x86_64 | OK | OK | ERROR | [ OK ] |
| Package: FGNet |
| Version: 3.14.0 |
| Command: rm -rf FGNet.buildbin-libdir && mkdir FGNet.buildbin-libdir && /Users/biocbuild/BBS/utils/build-universal.sh FGNet_3.14.0.tar.gz /Library/Frameworks/R.framework/Versions/Current/Resources/bin/R FGNet.buildbin-libdir |
| StartedAt: 2018-07-24 03:21:31 -0400 (Tue, 24 Jul 2018) |
| EndedAt: 2018-07-24 03:22:20 -0400 (Tue, 24 Jul 2018) |
| EllapsedTime: 49.1 seconds |
| RetCode: 0 |
| Status: OK |
| PackageFile: FGNet_3.14.0.tgz |
| PackageFileSize: 6.132 MiB |
############################################################################## ############################################################################## ### ### Running command: ### ### rm -rf FGNet.buildbin-libdir && mkdir FGNet.buildbin-libdir && /Users/biocbuild/BBS/utils/build-universal.sh FGNet_3.14.0.tar.gz /Library/Frameworks/R.framework/Versions/Current/Resources/bin/R FGNet.buildbin-libdir ### ############################################################################## ############################################################################## >>>>>>> >>>>>>> INSTALLATION WITH 'R CMD INSTALL --preclean --no-multiarch --library=FGNet.buildbin-libdir FGNet_3.14.0.tar.gz' >>>>>>> * installing *source* package ‘FGNet’ ... ** R ** data ** inst ** byte-compile and prepare package for lazy loading ** help *** installing help indices ** building package indices ** installing vignettes ** testing if installed package can be loaded * DONE (FGNet)