| Back to Multiple platform build/check report for BioC 3.7 |
|
This page was generated on 2018-10-17 08:45:26 -0400 (Wed, 17 Oct 2018).
| Package 484/1561 | Hostname | OS / Arch | INSTALL | BUILD | CHECK | BUILD BIN | ||||||
| FELLA 1.0.1 Sergio Picart-Armada
| malbec2 | Linux (Ubuntu 16.04.1 LTS) / x86_64 | OK | OK | OK | |||||||
| tokay2 | Windows Server 2012 R2 Standard / x64 | [ OK ] | OK | OK | OK | |||||||
| merida2 | OS X 10.11.6 El Capitan / x86_64 | OK | OK | OK | OK |
| Package: FELLA |
| Version: 1.0.1 |
| Command: C:\cygwin\bin\curl.exe -O https://malbec2.bioconductor.org/BBS/3.7/bioc/src/contrib/FELLA_1.0.1.tar.gz && rm -rf FELLA.buildbin-libdir && mkdir FELLA.buildbin-libdir && C:\Users\biocbuild\bbs-3.7-bioc\R\bin\R.exe CMD INSTALL --merge-multiarch --build --library=FELLA.buildbin-libdir FELLA_1.0.1.tar.gz && C:\Users\biocbuild\bbs-3.7-bioc\R\bin\R.exe CMD INSTALL FELLA_1.0.1.zip && rm FELLA_1.0.1.tar.gz FELLA_1.0.1.zip |
| StartedAt: 2018-10-16 19:29:04 -0400 (Tue, 16 Oct 2018) |
| EndedAt: 2018-10-16 19:30:13 -0400 (Tue, 16 Oct 2018) |
| EllapsedTime: 69.0 seconds |
| RetCode: 0 |
| Status: OK |
##############################################################################
##############################################################################
###
### Running command:
###
### C:\cygwin\bin\curl.exe -O https://malbec2.bioconductor.org/BBS/3.7/bioc/src/contrib/FELLA_1.0.1.tar.gz && rm -rf FELLA.buildbin-libdir && mkdir FELLA.buildbin-libdir && C:\Users\biocbuild\bbs-3.7-bioc\R\bin\R.exe CMD INSTALL --merge-multiarch --build --library=FELLA.buildbin-libdir FELLA_1.0.1.tar.gz && C:\Users\biocbuild\bbs-3.7-bioc\R\bin\R.exe CMD INSTALL FELLA_1.0.1.zip && rm FELLA_1.0.1.tar.gz FELLA_1.0.1.zip
###
##############################################################################
##############################################################################
% Total % Received % Xferd Average Speed Time Time Time Current
Dload Upload Total Spent Left Speed
0 0 0 0 0 0 0 0 --:--:-- --:--:-- --:--:-- 0
100 984k 100 984k 0 0 13.8M 0 --:--:-- --:--:-- --:--:-- 15.2M
install for i386
* installing *source* package 'FELLA' ...
** R
** data
** inst
** byte-compile and prepare package for lazy loading
** help
*** installing help indices
converting help for package 'FELLA'
finding HTML links ... done
D.diffusion html
D.hypergeom html
D.keggdata html
D.pagerank html
FELLA.DATA html
FELLA html
FELLA.USER html
FELLA.sample html
U.diffusion html
U.hypergeom html
U.pagerank html
U.userinput html
checkArguments html
data-funs html
enrich-funs html
export-funs html
getBackground html
getCom html
getExcluded html
getGraph html
getInfo html
getInput html
getMatrix html
getName html
getPscores html
getPvaluesSize html
getStatus html
getSums html
getValid html
infere.con2ec html
input.sample html
is.FELLA.DATA html
is.FELLA.USER html
largestcc html
launchApp html
listApprox html
listCategories html
listInternalDatabases html
listMethods html
mytriangle html
plotBipartite html
plotLegend html
sanitise html
** building package indices
** installing vignettes
** testing if installed package can be loaded
In R CMD INSTALL
install for x64
* installing *source* package 'FELLA' ...
** testing if installed package can be loaded
* MD5 sums
packaged installation of 'FELLA' as FELLA_1.0.1.zip
* DONE (FELLA)
In R CMD INSTALL
In R CMD INSTALL
* installing to library 'C:/Users/biocbuild/bbs-3.7-bioc/R/library'
package 'FELLA' successfully unpacked and MD5 sums checked
In R CMD INSTALL