| Back to Multiple platform build/check report for BioC 3.7 |
|
This page was generated on 2018-10-17 08:39:15 -0400 (Wed, 17 Oct 2018).
| Package 447/1561 | Hostname | OS / Arch | INSTALL | BUILD | CHECK | BUILD BIN | ||||||
| EnrichmentBrowser 2.10.11 Ludwig Geistlinger
| malbec2 | Linux (Ubuntu 16.04.1 LTS) / x86_64 | OK | OK | OK | |||||||
| tokay2 | Windows Server 2012 R2 Standard / x64 | [ OK ] | OK | OK | OK | |||||||
| merida2 | OS X 10.11.6 El Capitan / x86_64 | OK | OK | OK | OK |
| Package: EnrichmentBrowser |
| Version: 2.10.11 |
| Command: C:\cygwin\bin\curl.exe -O https://malbec2.bioconductor.org/BBS/3.7/bioc/src/contrib/EnrichmentBrowser_2.10.11.tar.gz && rm -rf EnrichmentBrowser.buildbin-libdir && mkdir EnrichmentBrowser.buildbin-libdir && C:\Users\biocbuild\bbs-3.7-bioc\R\bin\R.exe CMD INSTALL --merge-multiarch --build --library=EnrichmentBrowser.buildbin-libdir EnrichmentBrowser_2.10.11.tar.gz && C:\Users\biocbuild\bbs-3.7-bioc\R\bin\R.exe CMD INSTALL EnrichmentBrowser_2.10.11.zip && rm EnrichmentBrowser_2.10.11.tar.gz EnrichmentBrowser_2.10.11.zip |
| StartedAt: 2018-10-16 20:37:11 -0400 (Tue, 16 Oct 2018) |
| EndedAt: 2018-10-16 20:38:25 -0400 (Tue, 16 Oct 2018) |
| EllapsedTime: 73.9 seconds |
| RetCode: 0 |
| Status: OK |
##############################################################################
##############################################################################
###
### Running command:
###
### C:\cygwin\bin\curl.exe -O https://malbec2.bioconductor.org/BBS/3.7/bioc/src/contrib/EnrichmentBrowser_2.10.11.tar.gz && rm -rf EnrichmentBrowser.buildbin-libdir && mkdir EnrichmentBrowser.buildbin-libdir && C:\Users\biocbuild\bbs-3.7-bioc\R\bin\R.exe CMD INSTALL --merge-multiarch --build --library=EnrichmentBrowser.buildbin-libdir EnrichmentBrowser_2.10.11.tar.gz && C:\Users\biocbuild\bbs-3.7-bioc\R\bin\R.exe CMD INSTALL EnrichmentBrowser_2.10.11.zip && rm EnrichmentBrowser_2.10.11.tar.gz EnrichmentBrowser_2.10.11.zip
###
##############################################################################
##############################################################################
% Total % Received % Xferd Average Speed Time Time Time Current
Dload Upload Total Spent Left Speed
0 0 0 0 0 0 0 0 --:--:-- --:--:-- --:--:-- 0
100 681k 100 681k 0 0 9.7M 0 --:--:-- --:--:-- --:--:-- 10.9M
install for i386
* installing *source* package 'EnrichmentBrowser' ...
** R
** inst
** byte-compile and prepare package for lazy loading
** help
*** installing help indices
converting help for package 'EnrichmentBrowser'
finding HTML links ... done
combResults html
compileGRN html
finding level-2 HTML links ... done
configEBrowser html
deAna html
downloadPathways html
eaBrowse html
ebrowser html
getGenesets html
ggeaGraph html
idMap html
isAvailable html
makeExampleData html
nbea html
normalize html
plots html
probe2gene html
readSE html
sbea html
** building package indices
** installing vignettes
** testing if installed package can be loaded
In R CMD INSTALL
install for x64
* installing *source* package 'EnrichmentBrowser' ...
** testing if installed package can be loaded
* MD5 sums
packaged installation of 'EnrichmentBrowser' as EnrichmentBrowser_2.10.11.zip
* DONE (EnrichmentBrowser)
In R CMD INSTALL
In R CMD INSTALL
* installing to library 'C:/Users/biocbuild/bbs-3.7-bioc/R/library'
package 'EnrichmentBrowser' successfully unpacked and MD5 sums checked
In R CMD INSTALL