| Back to Multiple platform build/check report for BioC 3.7 |
|
This page was generated on 2018-10-17 08:54:52 -0400 (Wed, 17 Oct 2018).
| Package 442/1561 | Hostname | OS / Arch | INSTALL | BUILD | CHECK | BUILD BIN | ||||||
| EMDomics 2.10.0 Sadhika Malladi
| malbec2 | Linux (Ubuntu 16.04.1 LTS) / x86_64 | OK | OK | OK | |||||||
| tokay2 | Windows Server 2012 R2 Standard / x64 | OK | OK | WARNINGS | OK | |||||||
| merida2 | OS X 10.11.6 El Capitan / x86_64 | OK | OK | [ OK ] | OK |
| Package: EMDomics |
| Version: 2.10.0 |
| Command: /Library/Frameworks/R.framework/Versions/Current/Resources/bin/R CMD check --install=check:EMDomics.install-out.txt --library=/Library/Frameworks/R.framework/Versions/Current/Resources/library --no-vignettes --timings EMDomics_2.10.0.tar.gz |
| StartedAt: 2018-10-16 21:10:04 -0400 (Tue, 16 Oct 2018) |
| EndedAt: 2018-10-16 21:11:31 -0400 (Tue, 16 Oct 2018) |
| EllapsedTime: 86.9 seconds |
| RetCode: 0 |
| Status: OK |
| CheckDir: EMDomics.Rcheck |
| Warnings: 0 |
##############################################################################
##############################################################################
###
### Running command:
###
### /Library/Frameworks/R.framework/Versions/Current/Resources/bin/R CMD check --install=check:EMDomics.install-out.txt --library=/Library/Frameworks/R.framework/Versions/Current/Resources/library --no-vignettes --timings EMDomics_2.10.0.tar.gz
###
##############################################################################
##############################################################################
* using log directory ‘/Users/biocbuild/bbs-3.7-bioc/meat/EMDomics.Rcheck’
* using R version 3.5.1 Patched (2018-07-12 r74967)
* using platform: x86_64-apple-darwin15.6.0 (64-bit)
* using session charset: UTF-8
* using option ‘--no-vignettes’
* checking for file ‘EMDomics/DESCRIPTION’ ... OK
* this is package ‘EMDomics’ version ‘2.10.0’
* checking package namespace information ... OK
* checking package dependencies ... OK
* checking if this is a source package ... OK
* checking if there is a namespace ... OK
* checking for hidden files and directories ... OK
* checking for portable file names ... OK
* checking for sufficient/correct file permissions ... OK
* checking whether package ‘EMDomics’ can be installed ... OK
* checking installed package size ... OK
* checking package directory ... OK
* checking ‘build’ directory ... OK
* checking DESCRIPTION meta-information ... NOTE
Authors@R field gives more than one person with maintainer role:
Sadhika Malladi <contact@sadhikamalladi.com> [aut, cre]
Daniel Schmolze <emd@schmolze.com> [aut, cre]
* checking top-level files ... OK
* checking for left-over files ... OK
* checking index information ... OK
* checking package subdirectories ... OK
* checking R files for non-ASCII characters ... OK
* checking R files for syntax errors ... OK
* checking whether the package can be loaded ... OK
* checking whether the package can be loaded with stated dependencies ... OK
* checking whether the package can be unloaded cleanly ... OK
* checking whether the namespace can be loaded with stated dependencies ... OK
* checking whether the namespace can be unloaded cleanly ... OK
* checking dependencies in R code ... OK
* checking S3 generic/method consistency ... OK
* checking replacement functions ... OK
* checking foreign function calls ... OK
* checking R code for possible problems ... NOTE
.cvm_pairwise_q: no visible global function definition for ‘combn’
.cvm_pairwise_q : <anonymous>: no visible global function definition
for ‘median’
.emd_gene_pairwise: no visible global function definition for ‘hist’
.emd_pairwise_q: no visible global function definition for ‘combn’
.emd_pairwise_q : <anonymous>: no visible global function definition
for ‘median’
.ks_pairwise_table: no visible global function definition for ‘ks.test’
calculate_cvm: no visible global function definition for ‘combn’
calculate_cvm : <anonymous>: no visible global function definition for
‘median’
calculate_cvm_gene: no visible global function definition for ‘combn’
calculate_emd: no visible global function definition for ‘combn’
calculate_emd : <anonymous>: no visible global function definition for
‘median’
calculate_emd_gene: no visible global function definition for ‘combn’
calculate_ks: no visible global function definition for ‘combn’
calculate_ks : <anonymous>: no visible global function definition for
‘p.adjust’
calculate_ks : <anonymous>: no visible global function definition for
‘median’
calculate_ks_gene: no visible global function definition for ‘combn’
calculate_ks_gene: no visible global function definition for ‘ks.test’
Undefined global functions or variables:
combn hist ks.test median p.adjust
Consider adding
importFrom("graphics", "hist")
importFrom("stats", "ks.test", "median", "p.adjust")
importFrom("utils", "combn")
to your NAMESPACE file.
* checking Rd files ... OK
* checking Rd metadata ... OK
* checking Rd cross-references ... OK
* checking for missing documentation entries ... OK
* checking for code/documentation mismatches ... OK
* checking Rd \usage sections ... OK
* checking Rd contents ... OK
* checking for unstated dependencies in examples ... OK
* checking files in ‘vignettes’ ... OK
* checking examples ... OK
Examples with CPU or elapsed time > 5s
user system elapsed
plot_cvm_density 9.001 0.059 9.166
plot_cvmperms 8.579 0.061 8.736
calculate_cvm 7.761 0.121 7.934
plot_emd_density 5.073 0.069 5.216
* checking for unstated dependencies in vignettes ... OK
* checking package vignettes in ‘inst/doc’ ... OK
* checking running R code from vignettes ... SKIPPED
* checking re-building of vignette outputs ... SKIPPED
* checking PDF version of manual ... OK
* DONE
Status: 2 NOTEs
See
‘/Users/biocbuild/bbs-3.7-bioc/meat/EMDomics.Rcheck/00check.log’
for details.
EMDomics.Rcheck/00install.out
############################################################################## ############################################################################## ### ### Running command: ### ### /Library/Frameworks/R.framework/Versions/Current/Resources/bin/R CMD INSTALL EMDomics ### ############################################################################## ############################################################################## * installing to library ‘/Library/Frameworks/R.framework/Versions/3.5/Resources/library’ * installing *source* package ‘EMDomics’ ... ** R ** byte-compile and prepare package for lazy loading ** help *** installing help indices ** building package indices ** installing vignettes ** testing if installed package can be loaded * DONE (EMDomics)
EMDomics.Rcheck/EMDomics-Ex.timings
| name | user | system | elapsed | |
| calculate_cvm | 7.761 | 0.121 | 7.934 | |
| calculate_cvm_gene | 0.008 | 0.000 | 0.008 | |
| calculate_emd | 4.173 | 0.068 | 4.266 | |
| calculate_emd_gene | 0.009 | 0.000 | 0.010 | |
| calculate_ks | 1.219 | 0.049 | 1.282 | |
| calculate_ks_gene | 0.017 | 0.002 | 0.019 | |
| plot_cvm_density | 9.001 | 0.059 | 9.166 | |
| plot_cvmnull | 3.241 | 0.027 | 3.307 | |
| plot_cvmperms | 8.579 | 0.061 | 8.736 | |
| plot_emd_density | 5.073 | 0.069 | 5.216 | |
| plot_emdnull | 1.909 | 0.030 | 1.970 | |
| plot_emdperms | 4.656 | 0.062 | 4.767 | |
| plot_ks_density | 1.821 | 0.037 | 1.880 | |
| plot_ksnull | 0.793 | 0.022 | 0.824 | |
| plot_ksperms | 1.431 | 0.040 | 1.483 | |