| Back to Multiple platform build/check report for BioC 3.7 |
|
This page was generated on 2018-10-17 08:52:28 -0400 (Wed, 17 Oct 2018).
| Package 440/1561 | Hostname | OS / Arch | INSTALL | BUILD | CHECK | BUILD BIN | ||||||
| ELBOW 1.16.0 Graham Alvare
| malbec2 | Linux (Ubuntu 16.04.1 LTS) / x86_64 | OK | OK | OK | |||||||
| tokay2 | Windows Server 2012 R2 Standard / x64 | OK | OK | OK | OK | |||||||
| merida2 | OS X 10.11.6 El Capitan / x86_64 | OK | OK | [ OK ] | OK |
| Package: ELBOW |
| Version: 1.16.0 |
| Command: /Library/Frameworks/R.framework/Versions/Current/Resources/bin/R CMD check --install=check:ELBOW.install-out.txt --library=/Library/Frameworks/R.framework/Versions/Current/Resources/library --no-vignettes --timings ELBOW_1.16.0.tar.gz |
| StartedAt: 2018-10-16 21:09:32 -0400 (Tue, 16 Oct 2018) |
| EndedAt: 2018-10-16 21:10:09 -0400 (Tue, 16 Oct 2018) |
| EllapsedTime: 36.3 seconds |
| RetCode: 0 |
| Status: OK |
| CheckDir: ELBOW.Rcheck |
| Warnings: 0 |
##############################################################################
##############################################################################
###
### Running command:
###
### /Library/Frameworks/R.framework/Versions/Current/Resources/bin/R CMD check --install=check:ELBOW.install-out.txt --library=/Library/Frameworks/R.framework/Versions/Current/Resources/library --no-vignettes --timings ELBOW_1.16.0.tar.gz
###
##############################################################################
##############################################################################
* using log directory ‘/Users/biocbuild/bbs-3.7-bioc/meat/ELBOW.Rcheck’
* using R version 3.5.1 Patched (2018-07-12 r74967)
* using platform: x86_64-apple-darwin15.6.0 (64-bit)
* using session charset: UTF-8
* using option ‘--no-vignettes’
* checking for file ‘ELBOW/DESCRIPTION’ ... OK
* checking extension type ... Package
* this is package ‘ELBOW’ version ‘1.16.0’
* checking package namespace information ... OK
* checking package dependencies ... OK
* checking if this is a source package ... OK
* checking if there is a namespace ... OK
* checking for hidden files and directories ... OK
* checking for portable file names ... OK
* checking for sufficient/correct file permissions ... OK
* checking whether package ‘ELBOW’ can be installed ... OK
* checking installed package size ... OK
* checking package directory ... OK
* checking ‘build’ directory ... OK
* checking DESCRIPTION meta-information ... OK
* checking top-level files ... OK
* checking for left-over files ... OK
* checking index information ... OK
* checking package subdirectories ... OK
* checking R files for non-ASCII characters ... OK
* checking R files for syntax errors ... OK
* checking whether the package can be loaded ... OK
* checking whether the package can be loaded with stated dependencies ... OK
* checking whether the package can be unloaded cleanly ... OK
* checking whether the namespace can be loaded with stated dependencies ... OK
* checking whether the namespace can be unloaded cleanly ... OK
* checking dependencies in R code ... OK
* checking S3 generic/method consistency ... OK
* checking replacement functions ... OK
* checking foreign function calls ... OK
* checking R code for possible problems ... OK
* checking Rd files ... OK
* checking Rd metadata ... OK
* checking Rd cross-references ... OK
* checking for missing documentation entries ... OK
* checking for code/documentation mismatches ... OK
* checking Rd \usage sections ... OK
* checking Rd contents ... OK
* checking for unstated dependencies in examples ... OK
* checking contents of ‘data’ directory ... OK
* checking data for non-ASCII characters ... OK
* checking data for ASCII and uncompressed saves ... OK
* checking sizes of PDF files under ‘inst/doc’ ... OK
* checking files in ‘vignettes’ ... OK
* checking examples ... OK
Examples with CPU or elapsed time > 5s
user system elapsed
do_elbow_rnaseq 4.906 0.201 5.163
* checking for unstated dependencies in vignettes ... OK
* checking package vignettes in ‘inst/doc’ ... OK
* checking running R code from vignettes ... SKIPPED
* checking re-building of vignette outputs ... SKIPPED
* checking PDF version of manual ... OK
* DONE
Status: OK
ELBOW.Rcheck/00install.out
############################################################################## ############################################################################## ### ### Running command: ### ### /Library/Frameworks/R.framework/Versions/Current/Resources/bin/R CMD INSTALL ELBOW ### ############################################################################## ############################################################################## * installing to library ‘/Library/Frameworks/R.framework/Versions/3.5/Resources/library’ * installing *source* package ‘ELBOW’ ... ** R ** data ** inst ** byte-compile and prepare package for lazy loading ** help *** installing help indices ** building package indices ** installing vignettes ** testing if installed package can be loaded * DONE (ELBOW)
ELBOW.Rcheck/ELBOW-Ex.timings
| name | user | system | elapsed | |
| ELBOW-package | 0.856 | 0.071 | 0.938 | |
| analyze_elbow | 0.932 | 0.045 | 0.984 | |
| do_elbow | 0.066 | 0.001 | 0.067 | |
| do_elbow_rnaseq | 4.906 | 0.201 | 5.163 | |
| elbow_variance | 0.434 | 0.013 | 0.452 | |
| extract_working_sets | 0.047 | 0.002 | 0.048 | |
| get_elbow_limma | 0.300 | 0.005 | 0.308 | |
| get_pvalue | 1.081 | 0.040 | 1.129 | |
| null_variance | 0.651 | 0.014 | 0.672 | |
| plot_dataset | 0.602 | 0.044 | 0.651 | |
| plot_elbow | 0.840 | 0.034 | 0.881 | |
| replicates_to_fold | 0.065 | 0.003 | 0.068 | |