| Back to Multiple platform build/check report for BioC 3.7 |
|
This page was generated on 2018-10-17 08:42:18 -0400 (Wed, 17 Oct 2018).
| Package 436/1561 | Hostname | OS / Arch | INSTALL | BUILD | CHECK | BUILD BIN | ||||||
| EGAD 1.8.0 Sara Ballouz
| malbec2 | Linux (Ubuntu 16.04.1 LTS) / x86_64 | OK | OK | WARNINGS | |||||||
| tokay2 | Windows Server 2012 R2 Standard / x64 | [ OK ] | OK | WARNINGS | OK | |||||||
| merida2 | OS X 10.11.6 El Capitan / x86_64 | OK | OK | WARNINGS | OK |
| Package: EGAD |
| Version: 1.8.0 |
| Command: C:\cygwin\bin\curl.exe -O https://malbec2.bioconductor.org/BBS/3.7/bioc/src/contrib/EGAD_1.8.0.tar.gz && rm -rf EGAD.buildbin-libdir && mkdir EGAD.buildbin-libdir && C:\Users\biocbuild\bbs-3.7-bioc\R\bin\R.exe CMD INSTALL --merge-multiarch --build --library=EGAD.buildbin-libdir EGAD_1.8.0.tar.gz && C:\Users\biocbuild\bbs-3.7-bioc\R\bin\R.exe CMD INSTALL EGAD_1.8.0.zip && rm EGAD_1.8.0.tar.gz EGAD_1.8.0.zip |
| StartedAt: 2018-10-16 20:26:03 -0400 (Tue, 16 Oct 2018) |
| EndedAt: 2018-10-16 20:27:55 -0400 (Tue, 16 Oct 2018) |
| EllapsedTime: 111.3 seconds |
| RetCode: 0 |
| Status: OK |
##############################################################################
##############################################################################
###
### Running command:
###
### C:\cygwin\bin\curl.exe -O https://malbec2.bioconductor.org/BBS/3.7/bioc/src/contrib/EGAD_1.8.0.tar.gz && rm -rf EGAD.buildbin-libdir && mkdir EGAD.buildbin-libdir && C:\Users\biocbuild\bbs-3.7-bioc\R\bin\R.exe CMD INSTALL --merge-multiarch --build --library=EGAD.buildbin-libdir EGAD_1.8.0.tar.gz && C:\Users\biocbuild\bbs-3.7-bioc\R\bin\R.exe CMD INSTALL EGAD_1.8.0.zip && rm EGAD_1.8.0.tar.gz EGAD_1.8.0.zip
###
##############################################################################
##############################################################################
% Total % Received % Xferd Average Speed Time Time Time Current
Dload Upload Total Spent Left Speed
0 0 0 0 0 0 0 0 --:--:-- --:--:-- --:--:-- 0
100 39.4M 100 39.4M 0 0 61.5M 0 --:--:-- --:--:-- --:--:-- 62.3M
install for i386
* installing *source* package 'EGAD' ...
** R
** data
*** moving datasets to lazyload DB
** inst
** byte-compile and prepare package for lazy loading
** help
*** installing help indices
converting help for package 'EGAD'
finding HTML links ... done
GO.human html
GO.mouse html
GO.voc html
assortativity html
atrr.human html
attr.mouse html
auc_multifunc html
auprc html
auroc_analytic html
biogrid html
build_binary_network html
build_coexp_GEOID html
build_coexp_expressionSet html
build_coexp_network html
build_semantic_similarity_network html
build_weighted_network html
calculate_multifunc html
conv_smoother html
example_annotations html
example_binary_network html
example_coexpression html
example_neighbor_voting html
extend_network html
filter_network html
filter_network_cols html
filter_network_rows html
filter_orthologs html
fmeasure html
genes html
get_auc html
get_biogrid html
get_counts html
get_density html
get_expression_data_gemma html
get_expression_matrix_from_GEO html
get_phenocarta html
get_prc html
get_roc html
make_annotations html
make_gene_network html
make_genelist html
make_transparent html
neighbor_voting html
node_degree html
ortho html
pheno html
plot_densities html
plot_density_compare html
plot_distribution html
plot_network_heatmap html
plot_prc html
plot_roc html
plot_roc_overlay html
plot_value_compare html
predictions html
repmat html
run_GBA html
** building package indices
** installing vignettes
** testing if installed package can be loaded
In R CMD INSTALL
install for x64
* installing *source* package 'EGAD' ...
** testing if installed package can be loaded
* MD5 sums
packaged installation of 'EGAD' as EGAD_1.8.0.zip
* DONE (EGAD)
In R CMD INSTALL
In R CMD INSTALL
* installing to library 'C:/Users/biocbuild/bbs-3.7-bioc/R/library'
package 'EGAD' successfully unpacked and MD5 sums checked
In R CMD INSTALL