| Back to Multiple platform build/check report for BioC 3.7 |
|
This page was generated on 2018-10-17 08:36:54 -0400 (Wed, 17 Oct 2018).
| Package 413/1561 | Hostname | OS / Arch | INSTALL | BUILD | CHECK | BUILD BIN | ||||||
| DrugVsDisease 2.22.0 j. Saez-Rodriguez
| malbec2 | Linux (Ubuntu 16.04.1 LTS) / x86_64 | OK | TIMEOUT | skipped | |||||||
| tokay2 | Windows Server 2012 R2 Standard / x64 | OK | [ TIMEOUT ] | skipped | skipped | |||||||
| merida2 | OS X 10.11.6 El Capitan / x86_64 | OK | TIMEOUT | skipped | skipped |
| Package: DrugVsDisease |
| Version: 2.22.0 |
| Command: chmod a+r DrugVsDisease -R && C:\Users\biocbuild\bbs-3.7-bioc\R\bin\R.exe CMD build --keep-empty-dirs --no-resave-data DrugVsDisease |
| StartedAt: 2018-10-16 21:47:30 -0400 (Tue, 16 Oct 2018) |
| EndedAt: 2018-10-16 22:27:50 -0400 (Tue, 16 Oct 2018) |
| EllapsedTime: 2419.6 seconds |
| RetCode: None |
| Status: TIMEOUT |
| PackageFile: None |
| PackageFileSize: NA |
############################################################################## ############################################################################## ### ### Running command: ### ### chmod a+r DrugVsDisease -R && C:\Users\biocbuild\bbs-3.7-bioc\R\bin\R.exe CMD build --keep-empty-dirs --no-resave-data DrugVsDisease ### ############################################################################## ############################################################################## * checking for file 'DrugVsDisease/DESCRIPTION' ... OK * preparing 'DrugVsDisease': * checking DESCRIPTION meta-information ... OK * installing the package to build vignettes * creating vignettes ...