| Back to Multiple platform build/check report for BioC 3.7 |
|
This page was generated on 2018-10-17 08:30:35 -0400 (Wed, 17 Oct 2018).
| Package 407/1561 | Hostname | OS / Arch | INSTALL | BUILD | CHECK | BUILD BIN | ||||||
| Doscheda 1.2.0 Bruno Contrino
| malbec2 | Linux (Ubuntu 16.04.1 LTS) / x86_64 | OK | OK | [ OK ] | |||||||
| tokay2 | Windows Server 2012 R2 Standard / x64 | OK | OK | OK | OK | |||||||
| merida2 | OS X 10.11.6 El Capitan / x86_64 | OK | OK | OK | OK |
| Package: Doscheda |
| Version: 1.2.0 |
| Command: /home/biocbuild/bbs-3.7-bioc/R/bin/R CMD check --install=check:Doscheda.install-out.txt --library=/home/biocbuild/bbs-3.7-bioc/R/library --no-vignettes --timings Doscheda_1.2.0.tar.gz |
| StartedAt: 2018-10-15 23:59:20 -0400 (Mon, 15 Oct 2018) |
| EndedAt: 2018-10-16 00:02:25 -0400 (Tue, 16 Oct 2018) |
| EllapsedTime: 184.8 seconds |
| RetCode: 0 |
| Status: OK |
| CheckDir: Doscheda.Rcheck |
| Warnings: 0 |
##############################################################################
##############################################################################
###
### Running command:
###
### /home/biocbuild/bbs-3.7-bioc/R/bin/R CMD check --install=check:Doscheda.install-out.txt --library=/home/biocbuild/bbs-3.7-bioc/R/library --no-vignettes --timings Doscheda_1.2.0.tar.gz
###
##############################################################################
##############################################################################
* using log directory ‘/home/biocbuild/bbs-3.7-bioc/meat/Doscheda.Rcheck’
* using R version 3.5.1 Patched (2018-07-12 r74967)
* using platform: x86_64-pc-linux-gnu (64-bit)
* using session charset: UTF-8
* using option ‘--no-vignettes’
* checking for file ‘Doscheda/DESCRIPTION’ ... OK
* checking extension type ... Package
* this is package ‘Doscheda’ version ‘1.2.0’
* package encoding: UTF-8
* checking package namespace information ... OK
* checking package dependencies ... OK
* checking if this is a source package ... OK
* checking if there is a namespace ... OK
* checking for hidden files and directories ... OK
* checking for portable file names ... OK
* checking for sufficient/correct file permissions ... OK
* checking whether package ‘Doscheda’ can be installed ... OK
* checking installed package size ... OK
* checking package directory ... OK
* checking ‘build’ directory ... OK
* checking DESCRIPTION meta-information ... OK
* checking top-level files ... OK
* checking for left-over files ... OK
* checking index information ... OK
* checking package subdirectories ... OK
* checking R files for non-ASCII characters ... OK
* checking R files for syntax errors ... OK
* checking whether the package can be loaded ... OK
* checking whether the package can be loaded with stated dependencies ... OK
* checking whether the package can be unloaded cleanly ... OK
* checking whether the namespace can be loaded with stated dependencies ... OK
* checking whether the namespace can be unloaded cleanly ... OK
* checking dependencies in R code ... OK
* checking S3 generic/method consistency ... OK
* checking replacement functions ... OK
* checking foreign function calls ... OK
* checking R code for possible problems ... OK
* checking Rd files ... OK
* checking Rd metadata ... OK
* checking Rd cross-references ... OK
* checking for missing documentation entries ... OK
* checking for code/documentation mismatches ... OK
* checking Rd \usage sections ... OK
* checking Rd contents ... OK
* checking for unstated dependencies in examples ... OK
* checking contents of ‘data’ directory ... OK
* checking data for non-ASCII characters ... OK
* checking data for ASCII and uncompressed saves ... OK
* checking files in ‘vignettes’ ... OK
* checking examples ... OK
Examples with CPU or elapsed time > 5s
user system elapsed
fitModel-methods 19.220 0.456 22.505
runDoscheda 15.580 0.008 17.087
pcaPlot-methods 3.656 0.016 6.096
* checking for unstated dependencies in ‘tests’ ... OK
* checking tests ...
Running ‘testthat.R’
OK
* checking for unstated dependencies in vignettes ... OK
* checking package vignettes in ‘inst/doc’ ... OK
* checking running R code from vignettes ... SKIPPED
* checking re-building of vignette outputs ... SKIPPED
* checking PDF version of manual ... OK
* DONE
Status: OK
Doscheda.Rcheck/00install.out
############################################################################## ############################################################################## ### ### Running command: ### ### /home/biocbuild/bbs-3.7-bioc/R/bin/R CMD INSTALL Doscheda ### ############################################################################## ############################################################################## * installing to library ‘/home/biocbuild/bbs-3.7-bioc/R/library’ * installing *source* package ‘Doscheda’ ... ** R ** data *** moving datasets to lazyload DB ** inst ** byte-compile and prepare package for lazy loading in method for ‘getInput’ with signature ‘"ChemoProtSet"’: no definition for class “ChemoProtSet” in method for ‘getNorm’ with signature ‘"ChemoProtSet"’: no definition for class “ChemoProtSet” in method for ‘getFinal’ with signature ‘"ChemoProtSet"’: no definition for class “ChemoProtSet” in method for ‘getParameters’ with signature ‘"ChemoProtSet"’: no definition for class “ChemoProtSet” in method for ‘getDatasets’ with signature ‘"ChemoProtSet"’: no definition for class “ChemoProtSet” in method for ‘boxplot’ with signature ‘"ChemoProtSet"’: no definition for class “ChemoProtSet” in method for ‘corrPlot’ with signature ‘"ChemoProtSet"’: no definition for class “ChemoProtSet” in method for ‘densityPlot’ with signature ‘"ChemoProtSet"’: no definition for class “ChemoProtSet” Creating a new generic function for ‘meanSdPlot’ in package ‘Doscheda’ ** help *** installing help indices ** building package indices ** installing vignettes ** testing if installed package can be loaded * DONE (Doscheda)
Doscheda.Rcheck/tests/testthat.Rout
R version 3.5.1 Patched (2018-07-12 r74967) -- "Feather Spray"
Copyright (C) 2018 The R Foundation for Statistical Computing
Platform: x86_64-pc-linux-gnu (64-bit)
R is free software and comes with ABSOLUTELY NO WARRANTY.
You are welcome to redistribute it under certain conditions.
Type 'license()' or 'licence()' for distribution details.
R is a collaborative project with many contributors.
Type 'contributors()' for more information and
'citation()' on how to cite R or R packages in publications.
Type 'demo()' for some demos, 'help()' for on-line help, or
'help.start()' for an HTML browser interface to help.
Type 'q()' to quit R.
> library(testthat)
> library(Doscheda)
>
> test_check("Doscheda")
══ testthat results ═══════════════════════════════════════════════════════════
OK: 1 SKIPPED: 0 FAILED: 0
>
> proc.time()
user system elapsed
5.028 0.144 9.186
Doscheda.Rcheck/Doscheda-Ex.timings
| name | user | system | elapsed | |
| corrPlot-methods | 2.332 | 0.096 | 4.158 | |
| densityPlot-methods | 2.032 | 0.008 | 3.803 | |
| doschedaData | 0.032 | 0.000 | 0.033 | |
| fitModel-methods | 19.220 | 0.456 | 22.505 | |
| getDatasets-methods | 0 | 0 | 0 | |
| getFinal-methods | 0.000 | 0.000 | 0.001 | |
| getInput-methods | 0.000 | 0.000 | 0.001 | |
| getNorm-methods | 0 | 0 | 0 | |
| getParameters-methods | 0.000 | 0.000 | 0.001 | |
| makeReport | 0 | 0 | 0 | |
| meanSdPlot-methods | 2.252 | 0.012 | 3.486 | |
| pcaPlot-methods | 3.656 | 0.016 | 6.096 | |
| processedExample | 0.064 | 0.000 | 0.062 | |
| removePeptides-methods | 0.000 | 0.000 | 0.001 | |
| replicatePlot-methods | 1.532 | 0.004 | 2.834 | |
| runDoscheda | 15.580 | 0.008 | 17.087 | |
| runNormalisation-methods | 2.448 | 0.200 | 4.091 | |
| setData-methods | 0.868 | 0.140 | 1.007 | |
| setParameters-methods | 0.004 | 0.000 | 0.003 | |
| volcanoPlot-methods | 1.576 | 0.000 | 3.389 | |