| Back to Multiple platform build/check report for BioC 3.7 |
|
This page was generated on 2018-10-17 08:42:19 -0400 (Wed, 17 Oct 2018).
| Package 391/1561 | Hostname | OS / Arch | INSTALL | BUILD | CHECK | BUILD BIN | ||||||
| Director 1.6.0 Katherine Icay
| malbec2 | Linux (Ubuntu 16.04.1 LTS) / x86_64 | OK | OK | OK | |||||||
| tokay2 | Windows Server 2012 R2 Standard / x64 | OK | OK | OK | [ OK ] | |||||||
| merida2 | OS X 10.11.6 El Capitan / x86_64 | OK | OK | OK | OK |
| Package: Director |
| Version: 1.6.0 |
| Command: rm -rf Director.buildbin-libdir && mkdir Director.buildbin-libdir && C:\Users\biocbuild\bbs-3.7-bioc\R\bin\R.exe CMD INSTALL --merge-multiarch --build --library=Director.buildbin-libdir Director_1.6.0.tar.gz |
| StartedAt: 2018-10-17 06:15:33 -0400 (Wed, 17 Oct 2018) |
| EndedAt: 2018-10-17 06:15:41 -0400 (Wed, 17 Oct 2018) |
| EllapsedTime: 7.1 seconds |
| RetCode: 0 |
| Status: OK |
| PackageFile: Director_1.6.0.zip |
| PackageFileSize: 546.6 KiB |
##############################################################################
##############################################################################
###
### Running command:
###
### rm -rf Director.buildbin-libdir && mkdir Director.buildbin-libdir && C:\Users\biocbuild\bbs-3.7-bioc\R\bin\R.exe CMD INSTALL --merge-multiarch --build --library=Director.buildbin-libdir Director_1.6.0.tar.gz
###
##############################################################################
##############################################################################
install for i386
* installing *source* package 'Director' ...
** R
** data
*** moving datasets to lazyload DB
** inst
** byte-compile and prepare package for lazy loading
** help
*** installing help indices
converting help for package 'Director'
finding HTML links ... done
append2List html
createList html
drawSankey html
filterNumeric html
filterRelation html
filterSubset html
initSankey html
makeSankey html
mesenchymal html
poorprog html
writeSankey html
** building package indices
** installing vignettes
** testing if installed package can be loaded
In R CMD INSTALL
install for x64
* installing *source* package 'Director' ...
** testing if installed package can be loaded
* MD5 sums
packaged installation of 'Director' as Director_1.6.0.zip
* DONE (Director)
In R CMD INSTALL
In R CMD INSTALL