| Back to Multiple platform build/check report for BioC 3.7 |
|
This page was generated on 2018-10-17 08:59:02 -0400 (Wed, 17 Oct 2018).
| Package 366/1561 | Hostname | OS / Arch | INSTALL | BUILD | CHECK | BUILD BIN | ||||||
| DelayedMatrixStats 1.2.0 Peter Hickey
| malbec2 | Linux (Ubuntu 16.04.1 LTS) / x86_64 | OK | OK | OK | |||||||
| tokay2 | Windows Server 2012 R2 Standard / x64 | OK | OK | WARNINGS | OK | |||||||
| merida2 | OS X 10.11.6 El Capitan / x86_64 | OK | OK | [ OK ] | OK |
| Package: DelayedMatrixStats |
| Version: 1.2.0 |
| Command: /Library/Frameworks/R.framework/Versions/Current/Resources/bin/R CMD check --install=check:DelayedMatrixStats.install-out.txt --library=/Library/Frameworks/R.framework/Versions/Current/Resources/library --no-vignettes --timings DelayedMatrixStats_1.2.0.tar.gz |
| StartedAt: 2018-10-16 20:51:53 -0400 (Tue, 16 Oct 2018) |
| EndedAt: 2018-10-16 21:09:27 -0400 (Tue, 16 Oct 2018) |
| EllapsedTime: 1053.6 seconds |
| RetCode: 0 |
| Status: OK |
| CheckDir: DelayedMatrixStats.Rcheck |
| Warnings: 0 |
############################################################################## ############################################################################## ### ### Running command: ### ### /Library/Frameworks/R.framework/Versions/Current/Resources/bin/R CMD check --install=check:DelayedMatrixStats.install-out.txt --library=/Library/Frameworks/R.framework/Versions/Current/Resources/library --no-vignettes --timings DelayedMatrixStats_1.2.0.tar.gz ### ############################################################################## ############################################################################## * using log directory ‘/Users/biocbuild/bbs-3.7-bioc/meat/DelayedMatrixStats.Rcheck’ * using R version 3.5.1 Patched (2018-07-12 r74967) * using platform: x86_64-apple-darwin15.6.0 (64-bit) * using session charset: UTF-8 * using option ‘--no-vignettes’ * checking for file ‘DelayedMatrixStats/DESCRIPTION’ ... OK * checking extension type ... Package * this is package ‘DelayedMatrixStats’ version ‘1.2.0’ * package encoding: UTF-8 * checking package namespace information ... OK * checking package dependencies ... OK * checking if this is a source package ... OK * checking if there is a namespace ... OK * checking for hidden files and directories ... OK * checking for portable file names ... OK * checking for sufficient/correct file permissions ... OK * checking whether package ‘DelayedMatrixStats’ can be installed ... OK * checking installed package size ... OK * checking package directory ... OK * checking ‘build’ directory ... OK * checking DESCRIPTION meta-information ... OK * checking top-level files ... OK * checking for left-over files ... OK * checking index information ... OK * checking package subdirectories ... OK * checking R files for non-ASCII characters ... OK * checking R files for syntax errors ... OK * checking whether the package can be loaded ... OK * checking whether the package can be loaded with stated dependencies ... OK * checking whether the package can be unloaded cleanly ... OK * checking whether the namespace can be loaded with stated dependencies ... OK * checking whether the namespace can be unloaded cleanly ... OK * checking dependencies in R code ... NOTE Missing objects imported by ':::' calls: ‘DelayedArray:::.execute_delayed_ops’ ‘DelayedArray:::get_Nindex_names_along’ Unexported objects imported by ':::' calls: ‘DelayedArray:::.as_array_or_matrix’ ‘DelayedArray:::.get_ans_type’ ‘DelayedArray:::.reduce_array_dimensions’ ‘DelayedArray:::RleArraySeed’ ‘DelayedArray:::colblock_APPLY’ ‘DelayedArray:::extract_block’ ‘DelayedArray:::get_Nindex_lengths’ ‘DelayedArray:::get_max_block_length’ ‘DelayedArray:::get_spacings_for_capped_length_blocks’ ‘DelayedArray:::get_verbose_block_processing’ ‘DelayedArray:::set_dim’ ‘DelayedArray:::set_dimnames’ ‘DelayedArray:::subset_by_Nindex’ ‘DelayedArray:::to_linear_index’ See the note in ?`:::` about the use of this operator. * checking S3 generic/method consistency ... OK * checking replacement functions ... OK * checking foreign function calls ... OK * checking R code for possible problems ... OK * checking Rd files ... OK * checking Rd metadata ... OK * checking Rd cross-references ... OK * checking for missing documentation entries ... OK * checking for code/documentation mismatches ... OK * checking Rd \usage sections ... OK * checking Rd contents ... OK * checking for unstated dependencies in examples ... OK * checking files in ‘vignettes’ ... OK * checking examples ... OK * checking for unstated dependencies in ‘tests’ ... OK * checking tests ... Running ‘testthat.R’ OK * checking for unstated dependencies in vignettes ... OK * checking package vignettes in ‘inst/doc’ ... OK * checking running R code from vignettes ... SKIPPED * checking re-building of vignette outputs ... SKIPPED * checking PDF version of manual ... OK * DONE Status: 1 NOTE See ‘/Users/biocbuild/bbs-3.7-bioc/meat/DelayedMatrixStats.Rcheck/00check.log’ for details.
DelayedMatrixStats.Rcheck/00install.out
############################################################################## ############################################################################## ### ### Running command: ### ### /Library/Frameworks/R.framework/Versions/Current/Resources/bin/R CMD INSTALL DelayedMatrixStats ### ############################################################################## ############################################################################## * installing to library ‘/Library/Frameworks/R.framework/Versions/3.5/Resources/library’ * installing *source* package ‘DelayedMatrixStats’ ... ** R ** byte-compile and prepare package for lazy loading ** help *** installing help indices ** building package indices ** installing vignettes ** testing if installed package can be loaded * DONE (DelayedMatrixStats)
DelayedMatrixStats.Rcheck/tests/testthat.Rout
R version 3.5.1 Patched (2018-07-12 r74967) -- "Feather Spray"
Copyright (C) 2018 The R Foundation for Statistical Computing
Platform: x86_64-apple-darwin15.6.0 (64-bit)
R is free software and comes with ABSOLUTELY NO WARRANTY.
You are welcome to redistribute it under certain conditions.
Type 'license()' or 'licence()' for distribution details.
R is a collaborative project with many contributors.
Type 'contributors()' for more information and
'citation()' on how to cite R or R packages in publications.
Type 'demo()' for some demos, 'help()' for on-line help, or
'help.start()' for an HTML browser interface to help.
Type 'q()' to quit R.
> library(testthat)
> library(DelayedMatrixStats)
Loading required package: DelayedArray
Loading required package: stats4
Loading required package: matrixStats
Loading required package: BiocGenerics
Loading required package: parallel
Attaching package: 'BiocGenerics'
The following objects are masked from 'package:parallel':
clusterApply, clusterApplyLB, clusterCall, clusterEvalQ,
clusterExport, clusterMap, parApply, parCapply, parLapply,
parLapplyLB, parRapply, parSapply, parSapplyLB
The following objects are masked from 'package:stats':
IQR, mad, sd, var, xtabs
The following objects are masked from 'package:base':
Filter, Find, Map, Position, Reduce, anyDuplicated, append,
as.data.frame, basename, cbind, colMeans, colSums, colnames,
dirname, do.call, duplicated, eval, evalq, get, grep, grepl,
intersect, is.unsorted, lapply, lengths, mapply, match, mget,
order, paste, pmax, pmax.int, pmin, pmin.int, rank, rbind,
rowMeans, rowSums, rownames, sapply, setdiff, sort, table, tapply,
union, unique, unsplit, which, which.max, which.min
Loading required package: S4Vectors
Attaching package: 'S4Vectors'
The following object is masked from 'package:base':
expand.grid
Loading required package: IRanges
Loading required package: BiocParallel
Attaching package: 'DelayedArray'
The following objects are masked from 'package:matrixStats':
colMaxs, colMins, colRanges, rowMaxs, rowMins, rowRanges
The following objects are masked from 'package:base':
aperm, apply
Attaching package: 'DelayedMatrixStats'
The following objects are masked from 'package:matrixStats':
colAlls, colAnyMissings, colAnyNAs, colAnys, colAvgsPerRowSet,
colCollapse, colCounts, colCummaxs, colCummins, colCumprods,
colCumsums, colDiffs, colIQRDiffs, colIQRs, colLogSumExps,
colMadDiffs, colMads, colMeans2, colMedians, colOrderStats,
colProds, colQuantiles, colRanks, colSdDiffs, colSds, colSums2,
colTabulates, colVarDiffs, colVars, colWeightedMads,
colWeightedMeans, colWeightedMedians, colWeightedSds,
colWeightedVars, rowAlls, rowAnyMissings, rowAnyNAs, rowAnys,
rowAvgsPerColSet, rowCollapse, rowCounts, rowCummaxs, rowCummins,
rowCumprods, rowCumsums, rowDiffs, rowIQRDiffs, rowIQRs,
rowLogSumExps, rowMadDiffs, rowMads, rowMeans2, rowMedians,
rowOrderStats, rowProds, rowQuantiles, rowRanks, rowSdDiffs,
rowSds, rowSums2, rowTabulates, rowVarDiffs, rowVars,
rowWeightedMads, rowWeightedMeans, rowWeightedMedians,
rowWeightedSds, rowWeightedVars
>
> test_check("DelayedMatrixStats")
Attaching package: 'Matrix'
The following object is masked from 'package:S4Vectors':
expand
Loading required package: rhdf5
══ testthat results ═══════════════════════════════════════════════════════════
OK: 9860 SKIPPED: 0 FAILED: 0
> options(DelayedArray.block.size = 8L)
> test_check("DelayedMatrixStats")
══ testthat results ═══════════════════════════════════════════════════════════
OK: 9860 SKIPPED: 0 FAILED: 0
>
> proc.time()
user system elapsed
930.159 3.089 942.549
DelayedMatrixStats.Rcheck/DelayedMatrixStats-Ex.timings
| name | user | system | elapsed | |
| colAlls | 0.139 | 0.004 | 0.144 | |
| colAnyNAs | 0.501 | 0.041 | 0.543 | |
| colAvgsPerRowSet | 0.262 | 0.008 | 0.271 | |
| colCollapse | 0.244 | 0.006 | 0.250 | |
| colCounts | 0.158 | 0.002 | 0.160 | |
| colCummaxs | 0.211 | 0.005 | 0.216 | |
| colDiffs | 0.192 | 0.006 | 0.199 | |
| colIQRDiffs | 0.218 | 0.001 | 0.220 | |
| colIQRs | 0.006 | 0.000 | 0.007 | |
| colLogSumExps | 0.053 | 0.000 | 0.054 | |
| colMads | 0.171 | 0.000 | 0.175 | |
| colMeans2 | 0.052 | 0.000 | 0.053 | |
| colMedians | 0.06 | 0.00 | 0.06 | |
| colOrderStats | 0.093 | 0.001 | 0.096 | |
| colProds | 0.097 | 0.004 | 0.102 | |
| colQuantiles | 0.048 | 0.000 | 0.048 | |
| colRanks | 0.033 | 0.001 | 0.034 | |
| colSums2 | 0.036 | 0.000 | 0.038 | |
| colTabulates | 0.216 | 0.000 | 0.218 | |
| colVars | 0.107 | 0.004 | 0.112 | |
| colWeightedMads | 0.004 | 0.000 | 0.005 | |
| colWeightedMeans | 0.098 | 0.000 | 0.103 | |
| colWeightedMedians | 0.053 | 0.000 | 0.053 | |
| colWeightedVars | 0.177 | 0.001 | 0.179 | |