| Back to Multiple platform build/check report for BioC 3.7 |
|
This page was generated on 2018-10-17 08:30:37 -0400 (Wed, 17 Oct 2018).
| Package 395/1561 | Hostname | OS / Arch | INSTALL | BUILD | CHECK | BUILD BIN | ||||||
| DMCHMM 1.2.0 Farhad Shokoohi
| malbec2 | Linux (Ubuntu 16.04.1 LTS) / x86_64 | OK | OK | [ OK ] | |||||||
| tokay2 | Windows Server 2012 R2 Standard / x64 | OK | OK | WARNINGS | OK | |||||||
| merida2 | OS X 10.11.6 El Capitan / x86_64 | OK | OK | OK | OK |
| Package: DMCHMM |
| Version: 1.2.0 |
| Command: /home/biocbuild/bbs-3.7-bioc/R/bin/R CMD check --install=check:DMCHMM.install-out.txt --library=/home/biocbuild/bbs-3.7-bioc/R/library --no-vignettes --timings DMCHMM_1.2.0.tar.gz |
| StartedAt: 2018-10-15 23:54:41 -0400 (Mon, 15 Oct 2018) |
| EndedAt: 2018-10-15 23:59:20 -0400 (Mon, 15 Oct 2018) |
| EllapsedTime: 279.0 seconds |
| RetCode: 0 |
| Status: OK |
| CheckDir: DMCHMM.Rcheck |
| Warnings: 0 |
##############################################################################
##############################################################################
###
### Running command:
###
### /home/biocbuild/bbs-3.7-bioc/R/bin/R CMD check --install=check:DMCHMM.install-out.txt --library=/home/biocbuild/bbs-3.7-bioc/R/library --no-vignettes --timings DMCHMM_1.2.0.tar.gz
###
##############################################################################
##############################################################################
* using log directory ‘/home/biocbuild/bbs-3.7-bioc/meat/DMCHMM.Rcheck’
* using R version 3.5.1 Patched (2018-07-12 r74967)
* using platform: x86_64-pc-linux-gnu (64-bit)
* using session charset: UTF-8
* using option ‘--no-vignettes’
* checking for file ‘DMCHMM/DESCRIPTION’ ... OK
* checking extension type ... Package
* this is package ‘DMCHMM’ version ‘1.2.0’
* package encoding: UTF-8
* checking package namespace information ... OK
* checking package dependencies ... NOTE
Depends: includes the non-default packages:
‘SummarizedExperiment’ ‘S4Vectors’ ‘BiocParallel’ ‘GenomicRanges’
‘IRanges’ ‘fdrtool’
Adding so many packages to the search path is excessive and importing
selectively is preferable.
* checking if this is a source package ... OK
* checking if there is a namespace ... OK
* checking for hidden files and directories ... OK
* checking for portable file names ... OK
* checking for sufficient/correct file permissions ... OK
* checking whether package ‘DMCHMM’ can be installed ... OK
* checking installed package size ... OK
* checking package directory ... OK
* checking ‘build’ directory ... OK
* checking DESCRIPTION meta-information ... OK
* checking top-level files ... OK
* checking for left-over files ... OK
* checking index information ... OK
* checking package subdirectories ... OK
* checking R files for non-ASCII characters ... OK
* checking R files for syntax errors ... OK
* checking whether the package can be loaded ... OK
* checking whether the package can be loaded with stated dependencies ... OK
* checking whether the package can be unloaded cleanly ... OK
* checking whether the namespace can be loaded with stated dependencies ... OK
* checking whether the namespace can be unloaded cleanly ... OK
* checking dependencies in R code ... OK
* checking S3 generic/method consistency ... OK
* checking replacement functions ... OK
* checking foreign function calls ... OK
* checking R code for possible problems ... OK
* checking Rd files ... OK
* checking Rd metadata ... OK
* checking Rd cross-references ... OK
* checking for missing documentation entries ... OK
* checking for code/documentation mismatches ... OK
* checking Rd \usage sections ... OK
* checking Rd contents ... OK
* checking for unstated dependencies in examples ... OK
* checking files in ‘vignettes’ ... OK
* checking examples ... OK
Examples with CPU or elapsed time > 5s
user system elapsed
manhattanDMCs-method 56.300 2.396 31.784
methHMMCMC-method 55.512 1.620 29.296
findDMCs-method 54.944 1.932 30.570
qqDMCs-method 53.008 1.352 27.872
methHMEM-method 7.812 1.840 3.382
* checking for unstated dependencies in ‘tests’ ... OK
* checking tests ...
Running ‘testthat.R’
OK
* checking for unstated dependencies in vignettes ... OK
* checking package vignettes in ‘inst/doc’ ... OK
* checking running R code from vignettes ... SKIPPED
* checking re-building of vignette outputs ... SKIPPED
* checking PDF version of manual ... OK
* DONE
Status: 1 NOTE
See
‘/home/biocbuild/bbs-3.7-bioc/meat/DMCHMM.Rcheck/00check.log’
for details.
DMCHMM.Rcheck/00install.out
############################################################################## ############################################################################## ### ### Running command: ### ### /home/biocbuild/bbs-3.7-bioc/R/bin/R CMD INSTALL DMCHMM ### ############################################################################## ############################################################################## * installing to library ‘/home/biocbuild/bbs-3.7-bioc/R/library’ * installing *source* package ‘DMCHMM’ ... ** R ** inst ** byte-compile and prepare package for lazy loading ** help *** installing help indices ** building package indices ** installing vignettes ** testing if installed package can be loaded * DONE (DMCHMM)
DMCHMM.Rcheck/tests/testthat.Rout
R version 3.5.1 Patched (2018-07-12 r74967) -- "Feather Spray"
Copyright (C) 2018 The R Foundation for Statistical Computing
Platform: x86_64-pc-linux-gnu (64-bit)
R is free software and comes with ABSOLUTELY NO WARRANTY.
You are welcome to redistribute it under certain conditions.
Type 'license()' or 'licence()' for distribution details.
R is a collaborative project with many contributors.
Type 'contributors()' for more information and
'citation()' on how to cite R or R packages in publications.
Type 'demo()' for some demos, 'help()' for on-line help, or
'help.start()' for an HTML browser interface to help.
Type 'q()' to quit R.
> library(testthat)
> library(DMCHMM)
Loading required package: SummarizedExperiment
Loading required package: GenomicRanges
Loading required package: stats4
Loading required package: BiocGenerics
Loading required package: parallel
Attaching package: 'BiocGenerics'
The following objects are masked from 'package:parallel':
clusterApply, clusterApplyLB, clusterCall, clusterEvalQ,
clusterExport, clusterMap, parApply, parCapply, parLapply,
parLapplyLB, parRapply, parSapply, parSapplyLB
The following objects are masked from 'package:stats':
IQR, mad, sd, var, xtabs
The following objects are masked from 'package:base':
Filter, Find, Map, Position, Reduce, anyDuplicated, append,
as.data.frame, basename, cbind, colMeans, colSums, colnames,
dirname, do.call, duplicated, eval, evalq, get, grep, grepl,
intersect, is.unsorted, lapply, lengths, mapply, match, mget,
order, paste, pmax, pmax.int, pmin, pmin.int, rank, rbind,
rowMeans, rowSums, rownames, sapply, setdiff, sort, table, tapply,
union, unique, unsplit, which, which.max, which.min
Loading required package: S4Vectors
Attaching package: 'S4Vectors'
The following object is masked from 'package:base':
expand.grid
Loading required package: IRanges
Loading required package: GenomeInfoDb
Loading required package: Biobase
Welcome to Bioconductor
Vignettes contain introductory material; view with
'browseVignettes()'. To cite Bioconductor, see
'citation("Biobase")', and for packages 'citation("pkgname")'.
Loading required package: DelayedArray
Loading required package: matrixStats
Attaching package: 'matrixStats'
The following objects are masked from 'package:Biobase':
anyMissing, rowMedians
Loading required package: BiocParallel
Attaching package: 'DelayedArray'
The following objects are masked from 'package:matrixStats':
colMaxs, colMins, colRanges, rowMaxs, rowMins, rowRanges
The following objects are masked from 'package:base':
aperm, apply
Loading required package: fdrtool
DMCHMM package, Version 1.2.0, Released 2017-08-22
DMCHMM is a novel profiling tool for identifying
differentially methylated CpG sites using Hidden Markov Model in bisulfite
sequencing data.
BugReports: https://github.com/shokoohi/DMCHMM/issues
Attaching package: 'DMCHMM'
The following object is masked from 'package:Biobase':
combine
The following object is masked from 'package:BiocGenerics':
combine
>
> test_check("DMCHMM")
|
| | 0%
|
|=================================== | 50%
|
|======================================================================| 100%
══ testthat results ═══════════════════════════════════════════════════════════
OK: 1 SKIPPED: 0 FAILED: 0
>
> proc.time()
user system elapsed
11.776 1.056 10.339
DMCHMM.Rcheck/DMCHMM-Ex.timings
| name | user | system | elapsed | |
| BSDMCs-class | 0.108 | 0.000 | 0.108 | |
| BSData-class | 0.136 | 0.008 | 0.144 | |
| cBSDMCs-method | 0.060 | 0.004 | 0.063 | |
| cBSData-method | 0.052 | 0.008 | 0.059 | |
| combine-method | 0.196 | 0.024 | 0.219 | |
| findDMCs-method | 54.944 | 1.932 | 30.570 | |
| manhattanDMCs-method | 56.300 | 2.396 | 31.784 | |
| methHMEM-method | 7.812 | 1.840 | 3.382 | |
| methHMMCMC-method | 55.512 | 1.620 | 29.296 | |
| methLevels-method | 0.072 | 0.000 | 0.072 | |
| methReads-method | 0.052 | 0.008 | 0.059 | |
| methStates-method | 0.064 | 0.004 | 0.066 | |
| qqDMCs-method | 53.008 | 1.352 | 27.872 | |
| readBismark-method | 0.360 | 0.036 | 0.428 | |
| totalReads-method | 0.080 | 0.004 | 0.083 | |