| Back to Multiple platform build/check report for BioC 3.7 |
|
This page was generated on 2018-10-17 08:42:00 -0400 (Wed, 17 Oct 2018).
| Package 361/1561 | Hostname | OS / Arch | INSTALL | BUILD | CHECK | BUILD BIN | ||||||
| DEFormats 1.8.0 Andrzej OleÅ›
| malbec2 | Linux (Ubuntu 16.04.1 LTS) / x86_64 | OK | OK | OK | |||||||
| tokay2 | Windows Server 2012 R2 Standard / x64 | OK | OK | OK | [ OK ] | |||||||
| merida2 | OS X 10.11.6 El Capitan / x86_64 | OK | OK | OK | OK |
| Package: DEFormats |
| Version: 1.8.0 |
| Command: rm -rf DEFormats.buildbin-libdir && mkdir DEFormats.buildbin-libdir && C:\Users\biocbuild\bbs-3.7-bioc\R\bin\R.exe CMD INSTALL --merge-multiarch --build --library=DEFormats.buildbin-libdir DEFormats_1.8.0.tar.gz |
| StartedAt: 2018-10-17 06:14:19 -0400 (Wed, 17 Oct 2018) |
| EndedAt: 2018-10-17 06:14:54 -0400 (Wed, 17 Oct 2018) |
| EllapsedTime: 35.4 seconds |
| RetCode: 0 |
| Status: OK |
| PackageFile: DEFormats_1.8.0.zip |
| PackageFileSize: 539.1 KiB |
##############################################################################
##############################################################################
###
### Running command:
###
### rm -rf DEFormats.buildbin-libdir && mkdir DEFormats.buildbin-libdir && C:\Users\biocbuild\bbs-3.7-bioc\R\bin\R.exe CMD INSTALL --merge-multiarch --build --library=DEFormats.buildbin-libdir DEFormats_1.8.0.tar.gz
###
##############################################################################
##############################################################################
install for i386
* installing *source* package 'DEFormats' ...
** R
** inst
** byte-compile and prepare package for lazy loading
Creating a generic function for 'DGEList' from 'edgeR' in package 'DEFormats'
(from the saved implicit definition)
** help
*** installing help indices
converting help for package 'DEFormats'
finding HTML links ... done
DEFormats html
finding level-2 HTML links ... done
DGEList html
as.DESeqDataSet html
as.DGEList html
simulateNormFactors html
simulateRnaSeqData html
** building package indices
** installing vignettes
** testing if installed package can be loaded
In R CMD INSTALL
install for x64
* installing *source* package 'DEFormats' ...
** testing if installed package can be loaded
* MD5 sums
packaged installation of 'DEFormats' as DEFormats_1.8.0.zip
* DONE (DEFormats)
In R CMD INSTALL
In R CMD INSTALL