| Back to Multiple platform build/check report for BioC 3.7 |
|
This page was generated on 2018-10-17 08:44:01 -0400 (Wed, 17 Oct 2018).
| Package 347/1561 | Hostname | OS / Arch | INSTALL | BUILD | CHECK | BUILD BIN | ||||||
Haidong Yi
| malbec2 | Linux (Ubuntu 16.04.1 LTS) / x86_64 | OK | ERROR | skipped | |||||||
| tokay2 | Windows Server 2012 R2 Standard / x64 | [ OK ] | ERROR | skipped | skipped | |||||||
| merida2 | OS X 10.11.6 El Capitan / x86_64 | OK | ERROR | skipped | skipped |
| Package: DASC |
| Version: 1.2.0 |
| Command: C:\cygwin\bin\curl.exe -O https://malbec2.bioconductor.org/BBS/3.7/bioc/src/contrib/DASC_1.2.0.tar.gz && rm -rf DASC.buildbin-libdir && mkdir DASC.buildbin-libdir && C:\Users\biocbuild\bbs-3.7-bioc\R\bin\R.exe CMD INSTALL --merge-multiarch --build --library=DASC.buildbin-libdir DASC_1.2.0.tar.gz && C:\Users\biocbuild\bbs-3.7-bioc\R\bin\R.exe CMD INSTALL DASC_1.2.0.zip && rm DASC_1.2.0.tar.gz DASC_1.2.0.zip |
| StartedAt: 2018-10-16 20:18:45 -0400 (Tue, 16 Oct 2018) |
| EndedAt: 2018-10-16 20:19:22 -0400 (Tue, 16 Oct 2018) |
| EllapsedTime: 37.0 seconds |
| RetCode: 0 |
| Status: OK |
##############################################################################
##############################################################################
###
### Running command:
###
### C:\cygwin\bin\curl.exe -O https://malbec2.bioconductor.org/BBS/3.7/bioc/src/contrib/DASC_1.2.0.tar.gz && rm -rf DASC.buildbin-libdir && mkdir DASC.buildbin-libdir && C:\Users\biocbuild\bbs-3.7-bioc\R\bin\R.exe CMD INSTALL --merge-multiarch --build --library=DASC.buildbin-libdir DASC_1.2.0.tar.gz && C:\Users\biocbuild\bbs-3.7-bioc\R\bin\R.exe CMD INSTALL DASC_1.2.0.zip && rm DASC_1.2.0.tar.gz DASC_1.2.0.zip
###
##############################################################################
##############################################################################
% Total % Received % Xferd Average Speed Time Time Time Current
Dload Upload Total Spent Left Speed
0 0 0 0 0 0 0 0 --:--:-- --:--:-- --:--:-- 0
100 912k 100 912k 0 0 12.5M 0 --:--:-- --:--:-- --:--:-- 14.1M
install for i386
* installing *source* package 'DASC' ...
** R
** data
*** moving datasets to lazyload DB
** byte-compile and prepare package for lazy loading
** help
*** installing help indices
converting help for package 'DASC'
finding HTML links ... done
DASC html
Ini_SemiNMF html
Loss_Fro html
Semi_NMF html
Sptree html
adj2vector html
get_father html
merge html
stanfordData html
trans_ADJ html
trans_Laplace html
update_G html
** building package indices
** installing vignettes
** testing if installed package can be loaded
Warning: Package 'DASC' is deprecated and will be removed from Bioconductor
version 3.7
In R CMD INSTALL
install for x64
* installing *source* package 'DASC' ...
** testing if installed package can be loaded
Warning: Package 'DASC' is deprecated and will be removed from Bioconductor
version 3.7
* MD5 sums
packaged installation of 'DASC' as DASC_1.2.0.zip
* DONE (DASC)
In R CMD INSTALL
In R CMD INSTALL
* installing to library 'C:/Users/biocbuild/bbs-3.7-bioc/R/library'
package 'DASC' successfully unpacked and MD5 sums checked
In R CMD INSTALL