| Back to Multiple platform build/check report for BioC 3.7 |
|
This page was generated on 2018-10-17 08:41:30 -0400 (Wed, 17 Oct 2018).
| Package 323/1561 | Hostname | OS / Arch | INSTALL | BUILD | CHECK | BUILD BIN | ||||||
| CrispRVariants 1.8.0 Helen Lindsay
| malbec2 | Linux (Ubuntu 16.04.1 LTS) / x86_64 | OK | OK | OK | |||||||
| tokay2 | Windows Server 2012 R2 Standard / x64 | OK | OK | WARNINGS | [ OK ] | |||||||
| merida2 | OS X 10.11.6 El Capitan / x86_64 | OK | OK | OK | OK |
| Package: CrispRVariants |
| Version: 1.8.0 |
| Command: rm -rf CrispRVariants.buildbin-libdir && mkdir CrispRVariants.buildbin-libdir && C:\Users\biocbuild\bbs-3.7-bioc\R\bin\R.exe CMD INSTALL --merge-multiarch --build --library=CrispRVariants.buildbin-libdir CrispRVariants_1.8.0.tar.gz |
| StartedAt: 2018-10-17 06:12:56 -0400 (Wed, 17 Oct 2018) |
| EndedAt: 2018-10-17 06:13:42 -0400 (Wed, 17 Oct 2018) |
| EllapsedTime: 46.1 seconds |
| RetCode: 0 |
| Status: OK |
| PackageFile: CrispRVariants_1.8.0.zip |
| PackageFileSize: 1.712 MiB |
##############################################################################
##############################################################################
###
### Running command:
###
### rm -rf CrispRVariants.buildbin-libdir && mkdir CrispRVariants.buildbin-libdir && C:\Users\biocbuild\bbs-3.7-bioc\R\bin\R.exe CMD INSTALL --merge-multiarch --build --library=CrispRVariants.buildbin-libdir CrispRVariants_1.8.0.tar.gz
###
##############################################################################
##############################################################################
install for i386
* installing *source* package 'CrispRVariants' ...
** R
** data
*** moving datasets to lazyload DB
** inst
** byte-compile and prepare package for lazy loading
** help
*** installing help indices
converting help for package 'CrispRVariants'
finding HTML links ... done
CrisprRun-class html
Rd warning: C:/Users/biocbuild/bbs-3.7-bioc/tmpdir/RtmpG2RBNx/R.INSTALL265826642f12/CrispRVariants/man/CrisprRun-class.Rd:105: file link 'CrisprSet' in package 'CrispRVariants' does not exist and so has been treated as a topic
CrisprSet-class html
Rd warning: C:/Users/biocbuild/bbs-3.7-bioc/tmpdir/RtmpG2RBNx/R.INSTALL265826642f12/CrispRVariants/man/CrisprSet-class.Rd:293: file link 'CrisprRun' in package 'CrispRVariants' does not exist and so has been treated as a topic
abifToFastq html
addClipped html
Rd warning: C:/Users/biocbuild/bbs-3.7-bioc/tmpdir/RtmpG2RBNx/R.INSTALL265826642f12/CrispRVariants/man/addClipped.Rd:19: file link 'GRanges' in package 'GenomicRanges' does not exist and so has been treated as a topic
addCodonFrame html
alleleLabelsHelpers html
alleles html
alns html
annotateGenePlot html
arrangePlots html
barplotAlleleFreqs html
collapsePairs html
consensusSeqs html
dispatchDots html
excludeFromBam html
Rd warning: C:/Users/biocbuild/bbs-3.7-bioc/tmpdir/RtmpG2RBNx/R.INSTALL265826642f12/CrispRVariants/man/excludeFromBam.Rd:12: file link 'GRanges' in package 'GenomicRanges' does not exist and so has been treated as a topic
explodeCigarOpCombs html
findChimeras html
findSNVs html
getAxisCoords html
getChimeras html
getInsertionsTable html
gol_clutch1 html
indelCounts html
indelLabels html
intersperse html
makeAlignmentTilePlot html
mergeChimeras html
mergeCrisprSets html
mismatchLabels html
mutationEfficiency html
narrowAlignments html
plotAlignments html
Rd warning: C:/Users/biocbuild/bbs-3.7-bioc/tmpdir/RtmpG2RBNx/R.INSTALL265826642f12/CrispRVariants/man/plotAlignments.Rd:131: file link 'CrisprSet' in package 'CrispRVariants' does not exist and so has been treated as a topic
plotChimeras html
plotFreqHeatmap html
plotVariants html
rcAlns html
readTargetBam html
readsByPCRPrimer html
Rd warning: C:/Users/biocbuild/bbs-3.7-bioc/tmpdir/RtmpG2RBNx/R.INSTALL265826642f12/CrispRVariants/man/readsByPCRPrimer.Rd:32: file link 'findOverlaps' in package 'GenomicAlignments' does not exist and so has been treated as a topic
Rd warning: C:/Users/biocbuild/bbs-3.7-bioc/tmpdir/RtmpG2RBNx/R.INSTALL265826642f12/CrispRVariants/man/readsByPCRPrimer.Rd:33: file link 'disjoin' in package 'GenomicRanges' does not exist and so has been treated as a topic
Rd warning: C:/Users/biocbuild/bbs-3.7-bioc/tmpdir/RtmpG2RBNx/R.INSTALL265826642f12/CrispRVariants/man/readsByPCRPrimer.Rd:43: file link 'Hits' in package 'S4Vectors' does not exist and so has been treated as a topic
Rd warning: C:/Users/biocbuild/bbs-3.7-bioc/tmpdir/RtmpG2RBNx/R.INSTALL265826642f12/CrispRVariants/man/readsByPCRPrimer.Rd:57: file link 'GRanges' in package 'GenomicRanges' does not exist and so has been treated as a topic
Rd warning: C:/Users/biocbuild/bbs-3.7-bioc/tmpdir/RtmpG2RBNx/R.INSTALL265826642f12/CrispRVariants/man/readsByPCRPrimer.Rd:57: file link 'GAlignments' in package 'GenomicAlignments' does not exist and so has been treated as a topic
readsToTarget html
Rd warning: C:/Users/biocbuild/bbs-3.7-bioc/tmpdir/RtmpG2RBNx/R.INSTALL265826642f12/CrispRVariants/man/readsToTarget.Rd:111: file link 'findOverlaps' in package 'GenomicAlignments' does not exist and so has been treated as a topic
Rd warning: C:/Users/biocbuild/bbs-3.7-bioc/tmpdir/RtmpG2RBNx/R.INSTALL265826642f12/CrispRVariants/man/readsToTarget.Rd:114: file link 'bpparam' in package 'BiocParallel' does not exist and so has been treated as a topic
refFromAlns html
reverseCigar html
rmMultiPCRChimera html
selectAlnRegionsHelpers html
selectOps html
seqsToAln html
setDNATileColours html
setMismatchTileColours html
transformAlnsToLong html
variantCounts html
writeFastq html
** building package indices
** installing vignettes
** testing if installed package can be loaded
In R CMD INSTALL
install for x64
* installing *source* package 'CrispRVariants' ...
** testing if installed package can be loaded
* MD5 sums
packaged installation of 'CrispRVariants' as CrispRVariants_1.8.0.zip
* DONE (CrispRVariants)
In R CMD INSTALL
In R CMD INSTALL