| Back to Multiple platform build/check report for BioC 3.7 |
|
This page was generated on 2018-10-17 08:41:57 -0400 (Wed, 17 Oct 2018).
| Package 314/1561 | Hostname | OS / Arch | INSTALL | BUILD | CHECK | BUILD BIN | ||||||
| CountClust 1.8.0 Kushal Dey
| malbec2 | Linux (Ubuntu 16.04.1 LTS) / x86_64 | OK | OK | OK | |||||||
| tokay2 | Windows Server 2012 R2 Standard / x64 | [ OK ] | OK | OK | OK | |||||||
| merida2 | OS X 10.11.6 El Capitan / x86_64 | OK | OK | OK | OK |
| Package: CountClust |
| Version: 1.8.0 |
| Command: C:\cygwin\bin\curl.exe -O https://malbec2.bioconductor.org/BBS/3.7/bioc/src/contrib/CountClust_1.8.0.tar.gz && rm -rf CountClust.buildbin-libdir && mkdir CountClust.buildbin-libdir && C:\Users\biocbuild\bbs-3.7-bioc\R\bin\R.exe CMD INSTALL --merge-multiarch --build --library=CountClust.buildbin-libdir CountClust_1.8.0.tar.gz && C:\Users\biocbuild\bbs-3.7-bioc\R\bin\R.exe CMD INSTALL CountClust_1.8.0.zip && rm CountClust_1.8.0.tar.gz CountClust_1.8.0.zip |
| StartedAt: 2018-10-16 20:20:14 -0400 (Tue, 16 Oct 2018) |
| EndedAt: 2018-10-16 20:21:25 -0400 (Tue, 16 Oct 2018) |
| EllapsedTime: 70.6 seconds |
| RetCode: 0 |
| Status: OK |
##############################################################################
##############################################################################
###
### Running command:
###
### C:\cygwin\bin\curl.exe -O https://malbec2.bioconductor.org/BBS/3.7/bioc/src/contrib/CountClust_1.8.0.tar.gz && rm -rf CountClust.buildbin-libdir && mkdir CountClust.buildbin-libdir && C:\Users\biocbuild\bbs-3.7-bioc\R\bin\R.exe CMD INSTALL --merge-multiarch --build --library=CountClust.buildbin-libdir CountClust_1.8.0.tar.gz && C:\Users\biocbuild\bbs-3.7-bioc\R\bin\R.exe CMD INSTALL CountClust_1.8.0.zip && rm CountClust_1.8.0.tar.gz CountClust_1.8.0.zip
###
##############################################################################
##############################################################################
% Total % Received % Xferd Average Speed Time Time Time Current
Dload Upload Total Spent Left Speed
0 0 0 0 0 0 0 0 --:--:-- --:--:-- --:--:-- 0
100 6241k 100 6241k 0 0 57.7M 0 --:--:-- --:--:-- --:--:-- 61.5M
install for i386
* installing *source* package 'CountClust' ...
** R
** data
*** moving datasets to lazyload DB
** inst
** byte-compile and prepare package for lazy loading
** help
*** installing help indices
converting help for package 'CountClust'
finding HTML links ... done
AbundanceGoM html
BatchCorrectedCounts html
ExtractHighCorFeatures html
ExtractTopFeatures html
FitGoM html
GTExV6Brain.FitGoM html
MouseDeng2014.FitGoM html
MouseJaitinSpleen.FitGoM html
RemoveSparseFeatures html
StructureGGplot html
compGoM html
compare_omega html
ex.counts html
handleNA html
nullmodel_GoM html
** building package indices
** installing vignettes
** testing if installed package can be loaded
In R CMD INSTALL
install for x64
* installing *source* package 'CountClust' ...
** testing if installed package can be loaded
* MD5 sums
packaged installation of 'CountClust' as CountClust_1.8.0.zip
* DONE (CountClust)
In R CMD INSTALL
In R CMD INSTALL
* installing to library 'C:/Users/biocbuild/bbs-3.7-bioc/R/library'
package 'CountClust' successfully unpacked and MD5 sums checked
In R CMD INSTALL